BEGIN:VCALENDAR
VERSION:2.0
PRODID:-//Yvelines Infos - ECPv6.0.2//NONSGML v1.0//EN
CALSCALE:GREGORIAN
METHOD:PUBLISH
X-ORIGINAL-URL:https://www.yvelines-infos.fr
X-WR-CALDESC:Évènements pour Yvelines Infos
REFRESH-INTERVAL;VALUE=DURATION:PT1H
X-Robots-Tag:noindex
X-PUBLISHED-TTL:PT1H
BEGIN:VTIMEZONE
TZID:Europe/Paris
BEGIN:DAYLIGHT
TZOFFSETFROM:+0100
TZOFFSETTO:+0200
TZNAME:CEST
DTSTART:20190331T010000
END:DAYLIGHT
BEGIN:STANDARD
TZOFFSETFROM:+0200
TZOFFSETTO:+0100
TZNAME:CET
DTSTART:20191027T010000
END:STANDARD
END:VTIMEZONE
BEGIN:VEVENT
DTSTART;VALUE=DATE:20190709
DTEND;VALUE=DATE:20190721
DTSTAMP:20260423T163704
CREATED:20190709T094113Z
LAST-MODIFIED:20190709T094146Z
UID:360336-1562630400-1563667199@www.yvelines-infos.fr
SUMMARY:Partir en livre : graines de folies
DESCRIPTION:À Saint-Quentin-en-Yvelines… Du 9 au 20 juillet 2019\, dans le cadre de l’opération Partir en livre proposée par le Ministère de la Culture et organisée par le Centre National du Livre\, le Réseau des médiathèques sème ses Graines de Folies… Sous des formes inédites et ludiques\, les bibliothécaires vous invitent dans de nouveaux espaces de lecture. \nSur des terrasses\, des parvis\, dans des cours\, dans des squares\, ils et elles égraineront histoires et animations en partenariat avec des libraires\, des associations locales\, avec le concours d’artistes\, d’auteurs\, d’illustrateurs\, de conteurs. \nRetrouvez le programme complet sur le site de l’évènement
URL:https://www.yvelines-infos.fr/agenda/partir-en-livre-graines-de-folies/
LOCATION:Saint-Quentin-en-Yvelines\, France
ATTACH;FMTTYPE=image/png:https://www.yvelines-infos.fr/content/uploads/2019/capture-decran-2019-07-09-a-11-36-49.png
END:VEVENT
END:VCALENDAR