BEGIN:VCALENDAR
VERSION:2.0
PRODID:-//Yvelines Infos - ECPv6.0.2//NONSGML v1.0//EN
CALSCALE:GREGORIAN
METHOD:PUBLISH
X-ORIGINAL-URL:https://www.yvelines-infos.fr
X-WR-CALDESC:Évènements pour Yvelines Infos
REFRESH-INTERVAL;VALUE=DURATION:PT1H
X-Robots-Tag:noindex
X-PUBLISHED-TTL:PT1H
BEGIN:VTIMEZONE
TZID:Europe/Paris
BEGIN:DAYLIGHT
TZOFFSETFROM:+0100
TZOFFSETTO:+0200
TZNAME:CEST
DTSTART:20170326T010000
END:DAYLIGHT
BEGIN:STANDARD
TZOFFSETFROM:+0200
TZOFFSETTO:+0100
TZNAME:CET
DTSTART:20171029T010000
END:STANDARD
END:VTIMEZONE
BEGIN:VEVENT
DTSTART;VALUE=DATE:20170611
DTEND;VALUE=DATE:20170612
DTSTAMP:20260423T071959
CREATED:20170609T131943Z
LAST-MODIFIED:20170609T132303Z
UID:339785-1497139200-1497225599@www.yvelines-infos.fr
SUMMARY:RuroJeux
DESCRIPTION:Une journée autour du jeu le dimanche 11 juin 2017\, de 10h30 à 18h à Boissets\, au parc du Douaire. \nVoici les différentes activités qui auront lieu  : Jeu de piste photo en famille (départ échelonné de 11h à 16h30)\, tournoi de belote à 14h\, tournoi de pétanque à 15h (à préciser)\, toute la journée : parcours sportif\, jeux de société\, jeux en bois\, javelo picard\, jeu de plein air et structure gonflable pour les petits. Restauration sur place : buvette\, barbapapa\, crêpes\, sandwich et hot dog … Entrée gratuite\, animation pour tous les âges. \nOrganisé par le foyer rural de Boissets\, la Fédération Départementale des Foyers Ruraux des Yvelines et le comité Départemental du Sport en Milieu Rural des Yvelines\, soutenu par le Conseil départemental et la Direction Départementale de la Cohésion Sociale.
URL:https://www.yvelines-infos.fr/agenda/rurojeux/
LOCATION:Rue des Mignonnets\, 78910 Boissets\, Rue des Mignonnets\, Boissets\, 78910\, France
ATTACH;FMTTYPE=image/jpeg:https://www.yvelines-infos.fr/content/uploads/2017/affiche-rurojeux.jpg
END:VEVENT
END:VCALENDAR