BEGIN:VCALENDAR
VERSION:2.0
PRODID:-//Yvelines Infos - ECPv6.0.2//NONSGML v1.0//EN
CALSCALE:GREGORIAN
METHOD:PUBLISH
X-WR-CALNAME:Yvelines Infos
X-ORIGINAL-URL:https://www.yvelines-infos.fr
X-WR-CALDESC:Évènements pour Yvelines Infos
REFRESH-INTERVAL;VALUE=DURATION:PT1H
X-Robots-Tag:noindex
X-PUBLISHED-TTL:PT1H
BEGIN:VTIMEZONE
TZID:Europe/Paris
BEGIN:DAYLIGHT
TZOFFSETFROM:+0100
TZOFFSETTO:+0200
TZNAME:CEST
DTSTART:20180325T010000
END:DAYLIGHT
BEGIN:STANDARD
TZOFFSETFROM:+0200
TZOFFSETTO:+0100
TZNAME:CET
DTSTART:20181028T010000
END:STANDARD
END:VTIMEZONE
BEGIN:VEVENT
DTSTART;TZID=Europe/Paris:20180416T080000
DTEND;TZID=Europe/Paris:20180816T170000
DTSTAMP:20260423T101000
CREATED:20180425T144859Z
LAST-MODIFIED:20180425T144921Z
UID:349213-1523865600-1534438800@www.yvelines-infos.fr
SUMMARY:Stages d'aviron pour les enfants
DESCRIPTION:Une occasion unique de faire découvrir à votre enfant l’aviron\, sport complet et de plein air\, dans un cadre préservé et verdoyante !\nVous-même\, adulte\, vous voulez pratiquer une activité pendant l’été\, alors venez-vous initier à l’aviron\, sport complet en pleine nature\, à deux pas de chez vous.\nVous pouvez donner à cet été une couleur sportive\, relaxante et rafraîchissante ! \nStage semaine pour les jeunes:\n2ème semaine de Juillet et 3ème et 4ème semaines d’août\nStage de 5 jours aviron + activités : lundi\, mardi\, mercredi\, jeudi\, vendredi : 9h /12h à 14h /18h\nPrévoir le repas de midi.\nTarif : 230 € \nStage 5 demi-journées adultes et jeunes:\n1er et 2ème semaines de Juillet et 3ème et 4ème semaines d’août\nStage de 5 demi-journées : lundi\, mardi\, jeudi\, vendredi : 14h30 à 18h + samedi : 10h à 12h30\nTarif : 150 € \nCondition : être âgé de 12 ans minimum et savoir nager. \nDates communiquées sous réserve d’un nombre d’inscrits suffisant\nRENSEIGNEMENTS au 07 82 64 78 19 – Rémi LEFLOHIC\, notre entraîneur ou sur place les samedis de 8h30 à 12h30 : 12 bis\, rue de Paris 78560 Le PORT-MARLY.
URL:https://www.yvelines-infos.fr/agenda/stages-daviron-enfants/
LOCATION:Rowing club PORT MARLY\, 12 bis rue de PARIS\, LE PORT MARLY\, 78560
ATTACH;FMTTYPE=image/jpeg:https://www.yvelines-infos.fr/content/uploads/2018/rowing-club-port-marly.jpg
END:VEVENT
BEGIN:VEVENT
DTSTART;TZID=Europe/Paris:20180616T140000
DTEND;TZID=Europe/Paris:20180616T170000
DTSTAMP:20260423T101000
CREATED:20180615T102447Z
LAST-MODIFIED:20180615T102459Z
UID:351137-1529157600-1529168400@www.yvelines-infos.fr
SUMMARY:Participez à l’opération Berges Saines !
DESCRIPTION:Avis aux amoureux de la Seine ! Le 16 juin aura lieu la 5ème édition de l’opération Berges Saines au Port-Marly.  \nLa crue de janvier dernier a laissé des traces… Si vous souhaitez nous aider à les effacer\, n’hésitez pas à venir ramasser le maximum de déchets\, dans une ambiance conviviale ! Rendez-vous le 16 juin à 14h\, devant le Rowing Club (côté Seine) au 12bis rue de Paris. Venez nombreux !
URL:https://www.yvelines-infos.fr/agenda/participez-a-loperation-berges-saines/
LOCATION:Rowing club PORT MARLY\, 12 bis rue de PARIS\, LE PORT MARLY\, 78560
ATTACH;FMTTYPE=image/jpeg:https://www.yvelines-infos.fr/content/uploads/2018/cp-berges-saines0618.jpg
END:VEVENT
END:VCALENDAR