BEGIN:VCALENDAR
VERSION:2.0
PRODID:-//Yvelines Infos - ECPv6.0.2//NONSGML v1.0//EN
CALSCALE:GREGORIAN
METHOD:PUBLISH
X-WR-CALNAME:Yvelines Infos
X-ORIGINAL-URL:https://www.yvelines-infos.fr
X-WR-CALDESC:Évènements pour Yvelines Infos
REFRESH-INTERVAL;VALUE=DURATION:PT1H
X-Robots-Tag:noindex
X-PUBLISHED-TTL:PT1H
BEGIN:VTIMEZONE
TZID:Europe/Paris
BEGIN:DAYLIGHT
TZOFFSETFROM:+0100
TZOFFSETTO:+0200
TZNAME:CEST
DTSTART:20210328T010000
END:DAYLIGHT
BEGIN:STANDARD
TZOFFSETFROM:+0200
TZOFFSETTO:+0100
TZNAME:CET
DTSTART:20211031T010000
END:STANDARD
END:VTIMEZONE
BEGIN:VEVENT
DTSTART;TZID=Europe/Paris:20211203T200000
DTEND;TZID=Europe/Paris:20211203T233000
DTSTAMP:20260423T020712
CREATED:20211104T152617Z
LAST-MODIFIED:20211104T152617Z
UID:380540-1638561600-1638574200@www.yvelines-infos.fr
SUMMARY:Warren Vaché & Harry Allen
DESCRIPTION:EN DIRECT DE NEW-YORK\, DEUX DES MEILLEURS INTERPRÈTES DU GREAT AMERICAN SONG BOOK ! \nWarren Vaché fait partie de ces musiciens inclassables\, qui trouvent de nouvelles façons personnelles d’utiliser la tradition jazz. C’est d’ailleurs pour son éclectisme qu’il a été choisi comme trompettiste par Benny Goodman\, Rosemary Clooney\, Hank Jones\, Gerry Mulligan\, Woody Herman\, Bobby Short ou encore Benny Carter. \nHarry Allen\, avec qui il s’associe ce soir\, a été surnommé le « Sinatra du saxophone ténor ». Il est aussi comparé à Stan Getz et à d’autres maîtres du saxophone comme Ben Webster et Lester Young. \nUN DÎNER-SPECTACLE TOUT COMPRIS\,\nL’AMBIANCE DE SAINT-GERMAIN-DES-PRÉS À SAINT-GERMAIN-EN-LAYE !\nDes soirées où la musique prolonge le repas\, sur le principe d’un “concert privé” dans votre salle à manger : passé 22h\, la session commence et les “musicos” prennent le pouvoir. Avec eux\, chez Cazaudehore\, ce ne sont plus les cuisiniers qui font le “bœuf”. \nSOIRÉE JAZZAUDEHORE\nApéritif\, Menu Jazzaudehore (entrée\, plat & dessert)\, Boissons (1/2 bouteille de vin\, eau\, café ou infusion)\, Concert. \nINFORMATIONS PRATIQUES\nLe concert suivant le dîner\, l’apéritif est servi à partir de 19h45 et le dîner à 20h30 précises. La musique commence vers 22h.\nRéservation fortement conseillée en ligne (ouverture 90 jours avant le concert)\, en appelant le +33 (0)1 30 61 64 64 ou par email à restaurant@cazaudehore.fr.\nUn dépôt d’arrhes pourra vous être demandé.
URL:https://www.yvelines-infos.fr/agenda/warren-vache-harry-allen/
LOCATION:Relais & Châteaux Cazaudehore – La Forestière\, Avenue du président John Fitzgerald\, Saint-Germain-en-Laye\, 78100
ATTACH;FMTTYPE=image/jpeg:https://www.yvelines-infos.fr/content/uploads/2021/2021-12-03-warren-vache-harry-allen-square-web.jpg
ORGANIZER;CN="Cazaudehore%20-%20LaForesti%26egrave%3Bre":MAILTO:restaurant@cazaudehore.fr
END:VEVENT
END:VCALENDAR