BEGIN:VCALENDAR
VERSION:2.0
PRODID:-//Yvelines Infos - ECPv6.0.2//NONSGML v1.0//EN
CALSCALE:GREGORIAN
METHOD:PUBLISH
X-ORIGINAL-URL:https://www.yvelines-infos.fr
X-WR-CALDESC:Évènements pour Yvelines Infos
REFRESH-INTERVAL;VALUE=DURATION:PT1H
X-Robots-Tag:noindex
X-PUBLISHED-TTL:PT1H
BEGIN:VTIMEZONE
TZID:Europe/Paris
BEGIN:DAYLIGHT
TZOFFSETFROM:+0100
TZOFFSETTO:+0200
TZNAME:CEST
DTSTART:20170326T010000
END:DAYLIGHT
BEGIN:STANDARD
TZOFFSETFROM:+0200
TZOFFSETTO:+0100
TZNAME:CET
DTSTART:20171029T010000
END:STANDARD
END:VTIMEZONE
BEGIN:VEVENT
DTSTART;TZID=Europe/Paris:20170708T103000
DTEND;TZID=Europe/Paris:20170709T180000
DTSTAMP:20260422T231659
CREATED:20170704T135631Z
LAST-MODIFIED:20170704T135632Z
UID:341493-1499509800-1499623200@www.yvelines-infos.fr
SUMMARY:Balade sur la Seine : découvrez Mantes-la-Jolie autrement
DESCRIPTION:La Ville de Mantes-la-Jolie en partenariat avec la commune de Rosny-sur-Seine\, vous propose le samedi 8 et le dimanche 9 juillet 2017 de (re)-découvrir Mantes-la-Jolie et ses alentours depuis la Seine à bord d’une embarcation. Au programme de cette balade d’une quarantaine de minutes : une traversée de la Seine pour admirer le Vieux-Pont\, en passant sous ses arches et un tour complet de l’Île l’Aumône. \nTarifs : 3€/personne – gratuit pour les moins 18 ans\nSans réservation / 12 personnes maximum par balade. \nInfos pratiques \n\nSamedi 8 juillet de 10h30 à 17h30\nDimanche 9 juillet de 10h30 à 18h\nPrévoyez des vêtements adaptés\nUne marche d’environ 40cm est à franchir à la montée/descente de l’embarcation.
URL:https://www.yvelines-infos.fr/agenda/balade-seine-decouvrez-mantes-jolie-autrement/
LOCATION:quai des cordeliers\, Quai des Cordeliers\, Mantes-la-Jolie\, 78200\, France
ATTACH;FMTTYPE=image/jpeg:https://www.yvelines-infos.fr/content/uploads/2017/balade-sur-seine.jpg
GEO:48.98868;1.722869
X-APPLE-STRUCTURED-LOCATION;VALUE=URI;X-ADDRESS=quai des cordeliers Quai des Cordeliers Mantes-la-Jolie 78200 France;X-APPLE-RADIUS=500;X-TITLE=Quai des Cordeliers:geo:1.722869,48.98868
END:VEVENT
END:VCALENDAR