BEGIN:VCALENDAR
VERSION:2.0
PRODID:-//Yvelines Infos - ECPv6.0.2//NONSGML v1.0//EN
CALSCALE:GREGORIAN
METHOD:PUBLISH
X-WR-CALNAME:Yvelines Infos
X-ORIGINAL-URL:https://www.yvelines-infos.fr
X-WR-CALDESC:Évènements pour Yvelines Infos
REFRESH-INTERVAL;VALUE=DURATION:PT1H
X-Robots-Tag:noindex
X-PUBLISHED-TTL:PT1H
BEGIN:VTIMEZONE
TZID:Europe/Paris
BEGIN:DAYLIGHT
TZOFFSETFROM:+0100
TZOFFSETTO:+0200
TZNAME:CEST
DTSTART:20190331T010000
END:DAYLIGHT
BEGIN:STANDARD
TZOFFSETFROM:+0200
TZOFFSETTO:+0100
TZNAME:CET
DTSTART:20191027T010000
END:STANDARD
END:VTIMEZONE
BEGIN:VEVENT
DTSTART;TZID=Europe/Paris:20190828T203000
DTEND;TZID=Europe/Paris:20190828T233000
DTSTAMP:20260423T092514
CREATED:20190703T103201Z
LAST-MODIFIED:20190703T103201Z
UID:360177-1567024200-1567035000@www.yvelines-infos.fr
SUMMARY:Ready Player One
DESCRIPTION:Date de sortie 28 mars 2018 (2h 20min) \nDe Steven Spielberg \n2045. Le monde est au bord du chaos. Les êtres humains se réfugient dans l’OASIS\, univers virtuel mis au point par le brillant et excentrique James Halliday. Avant de disparaître\, celui-ci a décidé de léguer son immense fortune à quiconque découvrira l’œuf de Pâques numérique qu’il a pris soin de dissimuler dans l’OASIS. L’appât du gain provoque une compétition planétaire. Mais lorsqu’un jeune garçon\, Wade Watts\, qui n’a pourtant pas le profil d’un héros\, décide de participer à la chasse au trésor\, il est plongé dans un monde parallèle à la fois mystérieux et inquiétant… \nÀ partir de 8 ans \nEntrée libre
URL:https://www.yvelines-infos.fr/agenda/ready-player-one/
LOCATION:Place Jean Riboud – Maurepas\, Place Jean Riboud\, Maurepas\, 78310\, France
CATEGORIES:les-yvelines-font-leur-cinema-2019
ATTACH;FMTTYPE=image/jpeg:https://www.yvelines-infos.fr/content/uploads/2019/3437390.jpg
END:VEVENT
END:VCALENDAR