BEGIN:VCALENDAR
VERSION:2.0
PRODID:-//Yvelines Infos - ECPv6.0.2//NONSGML v1.0//EN
CALSCALE:GREGORIAN
METHOD:PUBLISH
X-ORIGINAL-URL:https://www.yvelines-infos.fr
X-WR-CALDESC:Évènements pour Yvelines Infos
REFRESH-INTERVAL;VALUE=DURATION:PT1H
X-Robots-Tag:noindex
X-PUBLISHED-TTL:PT1H
BEGIN:VTIMEZONE
TZID:Europe/Paris
BEGIN:DAYLIGHT
TZOFFSETFROM:+0100
TZOFFSETTO:+0200
TZNAME:CEST
DTSTART:20170326T010000
END:DAYLIGHT
BEGIN:STANDARD
TZOFFSETFROM:+0200
TZOFFSETTO:+0100
TZNAME:CET
DTSTART:20171029T010000
END:STANDARD
END:VTIMEZONE
BEGIN:VEVENT
DTSTART;VALUE=DATE:20171209
DTEND;VALUE=DATE:20171225
DTSTAMP:20260423T145130
CREATED:20171205T101240Z
LAST-MODIFIED:20171205T105835Z
UID:346017-1512777600-1514159999@www.yvelines-infos.fr
SUMMARY:Marché de Noël à Saint-Germain-en-Laye
DESCRIPTION:Rendez-vous le samedi 9 décembre de 9h à 18h sur la Place du Marché-Neuf et vivez la magie de Noël à Saint-Germain-en-Laye. Illuminations\, dégustations salées et sucrées\, cadeaux de Noël vous y attendent ! \nOuverture des chalets du 9 au 24 décembre\, tous les jours de 10h30 à 19h\, place Abbé-Pierre-de-Porcaro : \n\nSept chalets gourmands : spécialités alsaciennes\, du sud-ouest\, de la région de Champagne\, charcuteries et produits de la mer ibériques\, soupes\, paninis et pâtisseries\, macarons\, art du thé.\nQuatre chalets d’artisans : santons provençaux\, décoration de Noël en bois\, petites décorations en pâte polymère\, bougies de Charroux.\n\nConcours de dessins\nSur le thème « Le Père Noël décore son sapin »\, pour les 4-10 ans. Vous pouvez déposer vos dessins du 9 au 24 décembre\, à proximité de la maison de pain d’épices.
URL:https://www.yvelines-infos.fr/agenda/marche-de-noel-a-saint-germain-laye/
LOCATION:Place du Marché Neuf\, Saint-Germain-en-Laye\, France
ATTACH;FMTTYPE=image/jpeg:https://www.yvelines-infos.fr/content/uploads/2017/imageNoel2017.jpg
END:VEVENT
END:VCALENDAR