BEGIN:VCALENDAR
VERSION:2.0
PRODID:-//Yvelines Infos - ECPv6.0.2//NONSGML v1.0//EN
CALSCALE:GREGORIAN
METHOD:PUBLISH
X-ORIGINAL-URL:https://www.yvelines-infos.fr
X-WR-CALDESC:Évènements pour Yvelines Infos
REFRESH-INTERVAL;VALUE=DURATION:PT1H
X-Robots-Tag:noindex
X-PUBLISHED-TTL:PT1H
BEGIN:VTIMEZONE
TZID:Europe/Paris
BEGIN:DAYLIGHT
TZOFFSETFROM:+0100
TZOFFSETTO:+0200
TZNAME:CEST
DTSTART:20210328T010000
END:DAYLIGHT
BEGIN:STANDARD
TZOFFSETFROM:+0200
TZOFFSETTO:+0100
TZNAME:CET
DTSTART:20211031T010000
END:STANDARD
END:VTIMEZONE
BEGIN:VEVENT
DTSTART;TZID=Europe/Paris:20210626T140000
DTEND;TZID=Europe/Paris:20210626T170000
DTSTAMP:20260423T213151
CREATED:20210621T132631Z
LAST-MODIFIED:20210621T132631Z
UID:376525-1624716000-1624726800@www.yvelines-infos.fr
SUMMARY:exposition des voitures anciennes
DESCRIPTION:L’association Coeur de neauphléens organise le samedi 26 juin 2021 de 14H00 à 17H00 une exposition de voitures anciennes. \nL’exposition sera animée par différents événements: \n\ndémonstration de cheeseleaders\ndanses\nconcours de la meilleurs voiture\n\nUne crêperie sera présente.
URL:https://www.yvelines-infos.fr/agenda/exposition-des-voitures-anciennes/
LOCATION:place du jeu de paume à Neauphle Le Château 78640\, Place du Jeu de Paume à neauphle Le château\, Neauphle Le Château\, 78640
ATTACH;FMTTYPE=image/jpeg:https://www.yvelines-infos.fr/content/uploads/2021/affiche-voitures-anciennes-2021-avec-crepes-2.jpg
END:VEVENT
END:VCALENDAR