BEGIN:VCALENDAR
VERSION:2.0
PRODID:-//Yvelines Infos - ECPv6.0.2//NONSGML v1.0//EN
CALSCALE:GREGORIAN
METHOD:PUBLISH
X-WR-CALNAME:Yvelines Infos
X-ORIGINAL-URL:https://www.yvelines-infos.fr
X-WR-CALDESC:Évènements pour Yvelines Infos
REFRESH-INTERVAL;VALUE=DURATION:PT1H
X-Robots-Tag:noindex
X-PUBLISHED-TTL:PT1H
BEGIN:VTIMEZONE
TZID:Europe/Paris
BEGIN:DAYLIGHT
TZOFFSETFROM:+0100
TZOFFSETTO:+0200
TZNAME:CEST
DTSTART:20200329T010000
END:DAYLIGHT
BEGIN:STANDARD
TZOFFSETFROM:+0200
TZOFFSETTO:+0100
TZNAME:CET
DTSTART:20201025T010000
END:STANDARD
END:VTIMEZONE
BEGIN:VEVENT
DTSTART;VALUE=DATE:20200919
DTEND;VALUE=DATE:20200921
DTSTAMP:20260423T052754
CREATED:20200811T125615Z
LAST-MODIFIED:20200811T125615Z
UID:368672-1600473600-1600646399@www.yvelines-infos.fr
SUMMARY:Marche culturelle "Un pour tous\, tous pour un"
DESCRIPTION:« Un pour tous\, tous pour un ». Cette devise ravive en nous le souvenir d’Alexandre Dumas qui vécut à Saint-Germain et y écrivit de 1844 à 1847 ses plus célèbres romans comme Les Trois mousquetaires ou La Reine Margot. \nAu cours de notre visite\, où nous parlerons également de sa famille et de Dumas fils\, nous évoquerons\, au fil des rues\, plusieurs personnages tirés des œuvres historiques de Dumas père\, qui vécurent véritablement dans cette cité royale\, cette « Belle au bois dormant »\, que Dumas par son génie créateur réveilla.\n\nLES DATES :\n– Samedi 19 septembre à 14h\n– Dimanche 20 septembre à 10hDurée : 2h. \n\nRéservation obligatoire auprès de l’Office de Tourisme intercommunal.\n\nIMPORTANT :\nPort du masque obligatoire pendant la conférence.\nMerci de venir avec votre propre masque car il ne sera pas fourni sur place.
URL:https://www.yvelines-infos.fr/agenda/marche-culturelle-un-pour-tous-tous-pour-un/
LOCATION:Place du château\, Départ de la visite place du château / Fin de la visite à l'Espace Paul et André Vera\, rue Henri IV\, 78100\, Saint-Germain-en-Laye
ATTACH;FMTTYPE=image/jpeg:https://www.yvelines-infos.fr/content/uploads/2020/les-trois-mousquetaires-illustration-de-vivant-beauce-gallica-bnf.jpg
ORGANIZER;CN="Office%20de%20Tourisme%20Saint%20Germain%20Boucles%20de%20Seine":MAILTO:info@seine-saintgermain.fr
END:VEVENT
END:VCALENDAR