BEGIN:VCALENDAR
VERSION:2.0
PRODID:-//Yvelines Infos - ECPv6.0.2//NONSGML v1.0//EN
CALSCALE:GREGORIAN
METHOD:PUBLISH
X-ORIGINAL-URL:https://www.yvelines-infos.fr
X-WR-CALDESC:Évènements pour Yvelines Infos
REFRESH-INTERVAL;VALUE=DURATION:PT1H
X-Robots-Tag:noindex
X-PUBLISHED-TTL:PT1H
BEGIN:VTIMEZONE
TZID:Europe/Paris
BEGIN:DAYLIGHT
TZOFFSETFROM:+0100
TZOFFSETTO:+0200
TZNAME:CEST
DTSTART:20190331T010000
END:DAYLIGHT
BEGIN:STANDARD
TZOFFSETFROM:+0200
TZOFFSETTO:+0100
TZNAME:CET
DTSTART:20191027T010000
END:STANDARD
END:VTIMEZONE
BEGIN:VEVENT
DTSTART;TZID=Europe/Paris:20190830T203000
DTEND;TZID=Europe/Paris:20190830T233000
DTSTAMP:20260423T092804
CREATED:20190703T103956Z
LAST-MODIFIED:20190703T103956Z
UID:360185-1567197000-1567207800@www.yvelines-infos.fr
SUMMARY:La Grande Vadrouille
DESCRIPTION:Date de reprise 13 juillet 2016 – Version restaurée (2h 12min) \nDate de sortie 8 décembre 1966 (2h 12min) \nDe Gérard Oury \nEn 1942\, un avion anglais est abattu par les Allemands au-dessus de Paris. Les trois pilotes sautent en parachute et atterrissent dans différents endroits de la capitale. Ils sont aidés par deux civils français\, un chef d’orchestre et un peintre en bâtiment qui acceptent de les mener en zone libre; ils deviennent ainsi\, malgré eux\, acteurs de la Résistance. \nÀ partir de 6 ans \nEntrée libre
URL:https://www.yvelines-infos.fr/agenda/la-grande-vadrouille/
LOCATION:Place de la République Poissy\, Place de la République\, Poissy\, 78300\, France
CATEGORIES:les-yvelines-font-leur-cinema-2019
ATTACH;FMTTYPE=image/jpeg:https://www.yvelines-infos.fr/content/uploads/2019/072037.jpg
END:VEVENT
END:VCALENDAR