BEGIN:VCALENDAR
VERSION:2.0
PRODID:-//Yvelines Infos - ECPv6.0.2//NONSGML v1.0//EN
CALSCALE:GREGORIAN
METHOD:PUBLISH
X-WR-CALNAME:Yvelines Infos
X-ORIGINAL-URL:https://www.yvelines-infos.fr
X-WR-CALDESC:Évènements pour Yvelines Infos
REFRESH-INTERVAL;VALUE=DURATION:PT1H
X-Robots-Tag:noindex
X-PUBLISHED-TTL:PT1H
BEGIN:VTIMEZONE
TZID:Europe/Paris
BEGIN:DAYLIGHT
TZOFFSETFROM:+0100
TZOFFSETTO:+0200
TZNAME:CEST
DTSTART:20210328T010000
END:DAYLIGHT
BEGIN:STANDARD
TZOFFSETFROM:+0200
TZOFFSETTO:+0100
TZNAME:CET
DTSTART:20211031T010000
END:STANDARD
END:VTIMEZONE
BEGIN:VEVENT
DTSTART;VALUE=DATE:20211121
DTEND;VALUE=DATE:20211122
DTSTAMP:20260423T041550
CREATED:20211109T151216Z
LAST-MODIFIED:20211109T151216Z
UID:380929-1637452800-1637539199@www.yvelines-infos.fr
SUMMARY:Mets ton maillot et bats la maladie
DESCRIPTION:Mets ton maillot et bats la maladie \n\n\n La piscine l’Eaubelle e s’associe à Association ELA pour la 7ème édition de l’opération « Mets ton maillot et bats la maladie » qui se déroulera le dimanche 21 novembre de 9h à 17h30.\n\n\nL’intégralité des recettes de la journée sera reversée à Association ELA\n\n\n Nous comptons sur vous\, venez nombreux !
URL:https://www.yvelines-infos.fr/agenda/mets-ton-maillot-et-bats-la-maladie/
LOCATION:Piscine l’Eaubelle- Meulan en Yvelines\, Ile Belle\, MEULAN EN YVELINES\, 78250
ATTACH;FMTTYPE=image/jpeg:https://www.yvelines-infos.fr/content/uploads/2021/logo-evenement-2021-new.jpg
END:VEVENT
END:VCALENDAR