BEGIN:VCALENDAR
VERSION:2.0
PRODID:-//Yvelines Infos - ECPv6.0.2//NONSGML v1.0//EN
CALSCALE:GREGORIAN
METHOD:PUBLISH
X-WR-CALNAME:Yvelines Infos
X-ORIGINAL-URL:https://www.yvelines-infos.fr
X-WR-CALDESC:Évènements pour Yvelines Infos
REFRESH-INTERVAL;VALUE=DURATION:PT1H
X-Robots-Tag:noindex
X-PUBLISHED-TTL:PT1H
BEGIN:VTIMEZONE
TZID:Europe/Paris
BEGIN:DAYLIGHT
TZOFFSETFROM:+0100
TZOFFSETTO:+0200
TZNAME:CEST
DTSTART:20210328T010000
END:DAYLIGHT
BEGIN:STANDARD
TZOFFSETFROM:+0200
TZOFFSETTO:+0100
TZNAME:CET
DTSTART:20211031T010000
END:STANDARD
END:VTIMEZONE
BEGIN:VEVENT
DTSTART;TZID=Europe/Paris:20210921T090000
DTEND;TZID=Europe/Paris:20210921T130000
DTSTAMP:20260423T033152
CREATED:20210916T082404Z
LAST-MODIFIED:20210916T082404Z
UID:378908-1632214800-1632229200@www.yvelines-infos.fr
SUMMARY:FORUM DE L'EMPLOI DE GUYANCOURT
DESCRIPTION:Des organismes recrutent. Venez les rencontrer et déposer votre CV. \nVILLE DE GUYANCOURT\nPetite enfance / Administratif / Comptabilité / Accueil / Animation / Éducateurs… \nAGENCES D’INTÉRIM\nArtus Intérim / Start People / Kelly Services / Sovitrat / Randstad Montigny / Randstad RIHS / Actual St-Quentin / Work 2000 / Activity (BTP)\, Actual Etti\, Interinser\, Idees Intérim : travail\ntemporaire d’insertion \nRestauration : Employé de restauration / Employé de nettoyage et restauration / Commis de cuisine \nLogistique / Transport : Préparateur de commandes Caces 1 / Cariste Caces 1.3.5 / Conditionneur / Conducteur PL-SPL / Employé Libre-Service / Ripeur\nAdministratif : Assistanat administratif / Assistanat comptable / Assistanat commercial / Assistanat de direction / Gestionnaire de paie / Comptabilité générale et fournisseurs…\nIndustrie : Technicien de maintenance / Mécanicien industriel / Électrotechnicien / Agent de fabrication / Micro-mécanicien / Technicien de mesures physiques\nBTP : Manœuvre / Maçon / Couvreur / Électricien / Ouvrier VRD / Plombier / Assistant travaux … \nAIDE À LA PERSONNE\nKorian / Petits fils / Domicile Clean / Vitalliance / O2 / Onela Aide à domicile / Auxiliaire de vie / Professeur à domicile / Garde d’enfants / Agent de service\nhospitalier / Aide médico-psychologique / Accompagnant Educatif et Social…. \nLA POSTE\nConseiller bancaire / Conseiller clientèle / Facteur / Agent de production / CDD / CDI / Contrats d’apprentissage \nSNCF RÉSEAU\nFormation et contrat de travail – Profils techniques BAC +2 et supérieurs \nCirculation ferroviaire : Aiguilleur du rail / Technicien de circulation / Agent de circulation\nMaintenance et travaux : Opérateur technicien Production de voie / Production signalisation énergie / Production caténaire / Production Télécom / Electricien haute ou basse tension\nIngénierie de projets \nARMÉE (profils de 17 à 30 ans)\nMARINE\n(4 grands domaines) : Pilotage et tactique / Maintenance aéronautique\, mécanique et armement / Contrôle aérien / Pont d’envol \nExemples : Opérateur de manutention des aéronefs\, matelot opérations navales\, matelot fusilier marin\, plongeur démineur\, matelot marin pompier\, électronicien d’armes\, officier conduite d’opérations\, navigateur – guetteur\, mécanicien et électrotechnicien naval\, sécurité logistique\, spécialiste énergie nucléaire\, technicien informatique réseaux\, télécommunications et transmissions\, métiers du secrétariat\, matelot restauration… \nARMEE DE L’AIR\nMécanicien avion\, véhicules\, armement\, structures/ Electromécanicien\, électrotechnicien / Technicien informatique et télécommunication / Fusilier parachutiste / Maître-chien parachutiste / Pompier de l’air / Contrôleur aérien / Météorologiste / Logisticien / Éducateur physique et mental / Technicien et analyste images / Support administratif / Exploitant renseignements / Linguiste / Technicien de maintenance du bâtiment / Électricien du bâtiment / Chauffeur routier (PL/SPL) / Confection de pièces mécaniques (tourneur-fraiseur\, carrossier\, chaudronnier\, menuisier\, ébéniste…) \nARMEE DE TERRE\nAérocombat / Artillerie / Chars de combat / Combattant des forces spéciales / Génie de combat\, BTP\, NRBC / Infanterie / Informatique et télécoms / Logistique et transport / Maintenance /\nRenseignements / Restauration / Santé / Sports / Sécurité et Prévention / Enseignement\, Recherche et Musique / Administration et services \nPOLICE NATIONALE (9 grands domaines)\nSécurité générale / Investigation / Police technique et scientifique / Renseignement / Ordre Public / Sécurisation des frontières / Coopération Internationale / Contrôle interne / Fonctions supports \nEt avec la participation de Pôle-Emploi\, Wimoov\, Invie
URL:https://www.yvelines-infos.fr/agenda/forum-de-lemploi-de-guyancourt/
LOCATION:PAVILLON WALDECK ROUSSEAU\, RUE JACQUES ANGE GABRIEL\, GUYANCOURT\, 78280
ATTACH;FMTTYPE=image/jpeg:https://www.yvelines-infos.fr/content/uploads/2021/forum-emploi-2021.jpg
ORGANIZER;CN="VILLE%20DE%20GUYANCOURT":MAILTO:service.emploi@ville-guyancourt.fr
END:VEVENT
END:VCALENDAR