BEGIN:VCALENDAR
VERSION:2.0
PRODID:-//Yvelines Infos - ECPv6.0.2//NONSGML v1.0//EN
CALSCALE:GREGORIAN
METHOD:PUBLISH
X-ORIGINAL-URL:https://www.yvelines-infos.fr
X-WR-CALDESC:Évènements pour Yvelines Infos
REFRESH-INTERVAL;VALUE=DURATION:PT1H
X-Robots-Tag:noindex
X-PUBLISHED-TTL:PT1H
BEGIN:VTIMEZONE
TZID:Europe/Paris
BEGIN:DAYLIGHT
TZOFFSETFROM:+0100
TZOFFSETTO:+0200
TZNAME:CEST
DTSTART:20170326T010000
END:DAYLIGHT
BEGIN:STANDARD
TZOFFSETFROM:+0200
TZOFFSETTO:+0100
TZNAME:CET
DTSTART:20171029T010000
END:STANDARD
BEGIN:DAYLIGHT
TZOFFSETFROM:+0100
TZOFFSETTO:+0200
TZNAME:CEST
DTSTART:20180325T010000
END:DAYLIGHT
BEGIN:STANDARD
TZOFFSETFROM:+0200
TZOFFSETTO:+0100
TZNAME:CET
DTSTART:20181028T010000
END:STANDARD
BEGIN:DAYLIGHT
TZOFFSETFROM:+0100
TZOFFSETTO:+0200
TZNAME:CEST
DTSTART:20190331T010000
END:DAYLIGHT
BEGIN:STANDARD
TZOFFSETFROM:+0200
TZOFFSETTO:+0100
TZNAME:CET
DTSTART:20191027T010000
END:STANDARD
END:VTIMEZONE
BEGIN:VEVENT
DTSTART;TZID=Europe/Paris:20170827T203000
DTEND;TZID=Europe/Paris:20170827T233000
DTSTAMP:20260423T121436
CREATED:20170704T084747Z
LAST-MODIFIED:20170704T084747Z
UID:341481-1503865800-1503876600@www.yvelines-infos.fr
SUMMARY:The Blues Brothers // Les Yvelines font leur cinéma
DESCRIPTION:Lors de l’édition 2016\, 23 séances dans 23 communes avaient été organisées du 19 au 30 août dans les Yvelines\, accueillant au total plus de 8000 spectateurs. Cette cinquième édition ayant à nouveau rencontré un réel succès\, le Conseil départemental a décidé de reconduire cet événement en 2017. La sixième édition aura donc lieu du 18 août au 2 septembre 2017. \nCet événement propose aux Yvelinois\, présents à la fin du mois d’août\, un moment convivial grâce à des séances de cinéma en plein air\, dans une vingtaine de communes des Yvelines. \nLes communes hôtes sont sélectionnées au regard des projets portés ou financés par le Conseil départemental. La volonté de l’institution départementale est de présenter la diversité de ses actions tout en illustrant l’ambition du Conseil de soutenir les communes\, en leur permettant ainsi de contribuer à une meilleure qualité de vie des habitants. \n\n  \nThe Blues Brothers\nDate de reprise 18 novembre 2015 – Version restaurée\nDate de sortie 7 novembre 1980 (2h 10min)\nDe John Landis \nDès sa sortie de prison\, Jake Blues est emmené par son frère Elwood chez Soeur Mary Stigmata\, qui dirige l’orphelinat dans lequel ils ont été élevés. Ils doivent réunir 5 000 dollars pour sauver l’établissement\, sinon c’est l’expulsion.
URL:https://www.yvelines-infos.fr/agenda/the-blues-brothers-yvelines-cinema/
LOCATION:Parc Louis Huret – Rosay\, Rosay\, 78790\, France
CATEGORIES:Les Yvelines font leur cinéma 2017
ATTACH;FMTTYPE=image/jpeg:https://www.yvelines-infos.fr/content/uploads/2017/512043.jpg-r_1920_1080-f_jpg-q_x-xxyxx.jpg
GEO:48.915291;1.679647
END:VEVENT
BEGIN:VEVENT
DTSTART;TZID=Europe/Paris:20190829T203000
DTEND;TZID=Europe/Paris:20190829T233000
DTSTAMP:20260423T121436
CREATED:20190703T104152Z
LAST-MODIFIED:20190703T104152Z
UID:360189-1567110600-1567121400@www.yvelines-infos.fr
SUMMARY:La Famille Bélier
DESCRIPTION:Date de sortie 17 décembre 2014 (1h 46min) \nDe Eric Lartigau \nDans la famille Bélier\, tout le monde est sourd sauf Paula\, 16 ans. Elle est une interprète indispensable à\nses parents au quotidien\, notamment pour l’exploitation de la ferme familiale. Un jour\, poussée par son professeur de musique qui lui a découvert un don pour le chant\, elle décide de préparer le concours de Radio France. Un choix de vie qui signifierait pour elle l’éloignement de sa famille et un passage inévitable à l’âge adulte. \nÀ partir de 6 ans \nEntrée libre \n 
URL:https://www.yvelines-infos.fr/agenda/la-famille-belier/
LOCATION:Parc Louis Huret – Rosay\, Rosay\, 78790\, France
CATEGORIES:les-yvelines-font-leur-cinema-2019
ATTACH;FMTTYPE=image/jpeg:https://www.yvelines-infos.fr/content/uploads/2019/la-famille-belier-dvd.jpg
GEO:48.915291;1.679647
END:VEVENT
END:VCALENDAR