BEGIN:VCALENDAR
VERSION:2.0
PRODID:-//Yvelines Infos - ECPv6.0.2//NONSGML v1.0//EN
CALSCALE:GREGORIAN
METHOD:PUBLISH
X-WR-CALNAME:Yvelines Infos
X-ORIGINAL-URL:https://www.yvelines-infos.fr
X-WR-CALDESC:Évènements pour Yvelines Infos
REFRESH-INTERVAL;VALUE=DURATION:PT1H
X-Robots-Tag:noindex
X-PUBLISHED-TTL:PT1H
BEGIN:VTIMEZONE
TZID:Europe/Paris
BEGIN:DAYLIGHT
TZOFFSETFROM:+0100
TZOFFSETTO:+0200
TZNAME:CEST
DTSTART:20180325T010000
END:DAYLIGHT
BEGIN:STANDARD
TZOFFSETFROM:+0200
TZOFFSETTO:+0100
TZNAME:CET
DTSTART:20181028T010000
END:STANDARD
END:VTIMEZONE
BEGIN:VEVENT
DTSTART;TZID=Europe/Paris:20180915T100000
DTEND;TZID=Europe/Paris:20180916T180000
DTSTAMP:20260423T092353
CREATED:20180912T091759Z
LAST-MODIFIED:20180912T091935Z
UID:352548-1537005600-1537120800@www.yvelines-infos.fr
SUMMARY:Fleurs en Seine 2018
DESCRIPTION:Votre fête des plantes de l’ouest parisien vous donne rendez-vous les 15 et 16 septembre 2018\, dans le très romantique Parc de l’Oseraie\, au bord de l’eau\, aux Mureaux. \nCélébrez l’art de cultiver votre jardin. Dénichez vos plantations idéales parmi les merveilles des grandes pépinières ou chez les petits producteurs. Ajoutez une touche déco grâce aux paysagistes et artisans d’art ! \nC’est avec ces plantes craquantes et faciles à vivre que vous fêterez avec le collectif Fleurs en Seine 15 années de convivialité végétale autour de Madagascar\, pays invité cette année. \n\n\nChoisissez vos succulentes et jouez avec leurs jolies formes charnues et leurs couleurs vitaminées. Sur les conseils des exposants vous les planterez dans votre jardin ou sur votre balcon puisqu’elles s’acclimatent si bien au climat du bassin parisien. \nNul doute que Fleurs en Seine et ses bénévoles enthousiastes qui oeuvrent depuis 2003 vous réservent de beaux moments de partage et d’émerveillement. \nA ne pas manquer : Christophe Rioux\, écrivain\, journaliste\, universitaire originaire des Mureaux et parrain de cette 15ème édition partage ses souvenirs de voyages d’exploration à Madagascar et livre son témoignage lors d’une conférence intitulée « Eloge des plantes ». La section Cactées et Succulentes de la SNHF propose une exposition de plantes caractéristiques et L’Arboretum de Versailles Chèvreloup expose une sélection de plantes de sa collection.
URL:https://www.yvelines-infos.fr/agenda/fleurs-seine-2018/
LOCATION:Parc de l’Oseraie\, Chemin de halage\, Les Mureaux\, 78130\, France
ATTACH;FMTTYPE=image/jpeg:https://www.yvelines-infos.fr/content/uploads/2018/fleursenseine.jpg
END:VEVENT
END:VCALENDAR