BEGIN:VCALENDAR
VERSION:2.0
PRODID:-//Yvelines Infos - ECPv6.0.2//NONSGML v1.0//EN
CALSCALE:GREGORIAN
METHOD:PUBLISH
X-WR-CALNAME:Yvelines Infos
X-ORIGINAL-URL:https://www.yvelines-infos.fr
X-WR-CALDESC:Évènements pour Yvelines Infos
REFRESH-INTERVAL;VALUE=DURATION:PT1H
X-Robots-Tag:noindex
X-PUBLISHED-TTL:PT1H
BEGIN:VTIMEZONE
TZID:Europe/Paris
BEGIN:DAYLIGHT
TZOFFSETFROM:+0100
TZOFFSETTO:+0200
TZNAME:CEST
DTSTART:20190331T010000
END:DAYLIGHT
BEGIN:STANDARD
TZOFFSETFROM:+0200
TZOFFSETTO:+0100
TZNAME:CET
DTSTART:20191027T010000
END:STANDARD
END:VTIMEZONE
BEGIN:VEVENT
DTSTART;TZID=Europe/Paris:20190703T080000
DTEND;TZID=Europe/Paris:20190703T170000
DTSTAMP:20260423T092058
CREATED:20190703T095936Z
LAST-MODIFIED:20190703T095936Z
UID:360140-1562140800-1562173200@www.yvelines-infos.fr
SUMMARY:Chocolat
DESCRIPTION:Date de sortie 3 février 2016 (2h00min) \nDe Roschdy Zem \nDu cirque au théâtre\, de l’anonymat à la gloire\, l’incroyable destin du clown Chocolat\, premier artiste noir de la scène française. Le duo inédit qu’il forme avec Footit\, va rencontrer un immense succès populaire dans le Paris de la Belle époque avant que la célébrité\, l’argent facile\, le jeu et les discriminations n’usent leur amitié et la carrière de Chocolat. Le film retrace l’histoire de cet artiste hors du commun. \nÀ partir de 8 ans \nEntré libre
URL:https://www.yvelines-infos.fr/agenda/chocolat/
LOCATION:Parc Champeau – Chanteloup-les-Vignes\, Parc Champeau\, Chanteloup-les-Vignes\, 78570\, France
CATEGORIES:les-yvelines-font-leur-cinema-2019
ATTACH;FMTTYPE=image/jpeg:https://www.yvelines-infos.fr/content/uploads/2019/257450.jpg
END:VEVENT
BEGIN:VEVENT
DTSTART;TZID=Europe/Paris:20190828T203000
DTEND;TZID=Europe/Paris:20190828T233000
DTSTAMP:20260423T092058
CREATED:20190819T153212Z
LAST-MODIFIED:20190819T153212Z
UID:361041-1567024200-1567035000@www.yvelines-infos.fr
SUMMARY:Chocolat
DESCRIPTION:Date de sortie 3 février 2016 (2h00) \n\nSynopsis\n\nDu cirque au théâtre\, de l’anonymat à la gloire\, l’incroyable destin du clown Chocolat\, premier artiste noir de la scène française. Le duo inédit qu’il forme avec Footit\, va rencontrer un immense succès populaire dans le Paris de la Belle époque avant que la célébrité\, l’argent facile\, le jeu et les discriminations n’usent leur amitié et la carrière de Chocolat. Le film retrace l’histoire de cet artiste hors du commun.\n\nÀ partir de 10 ans\n\nEntrée libre
URL:https://www.yvelines-infos.fr/agenda/chocolat-2/
LOCATION:Parc Champeau – Chanteloup-les-Vignes\, Parc Champeau\, Chanteloup-les-Vignes\, 78570\, France
CATEGORIES:les-yvelines-font-leur-cinema-2019
ATTACH;FMTTYPE=image/jpeg:https://www.yvelines-infos.fr/content/uploads/2019/6a3cee3d1edd4c9f19f850cd92ed79857c118aa5.jpg
END:VEVENT
END:VCALENDAR