BEGIN:VCALENDAR
VERSION:2.0
PRODID:-//Yvelines Infos - ECPv6.0.2//NONSGML v1.0//EN
CALSCALE:GREGORIAN
METHOD:PUBLISH
X-WR-CALNAME:Yvelines Infos
X-ORIGINAL-URL:https://www.yvelines-infos.fr
X-WR-CALDESC:Évènements pour Yvelines Infos
REFRESH-INTERVAL;VALUE=DURATION:PT1H
X-Robots-Tag:noindex
X-PUBLISHED-TTL:PT1H
BEGIN:VTIMEZONE
TZID:Europe/Paris
BEGIN:DAYLIGHT
TZOFFSETFROM:+0100
TZOFFSETTO:+0200
TZNAME:CEST
DTSTART:20170326T010000
END:DAYLIGHT
BEGIN:STANDARD
TZOFFSETFROM:+0200
TZOFFSETTO:+0100
TZNAME:CET
DTSTART:20171029T010000
END:STANDARD
END:VTIMEZONE
BEGIN:VEVENT
DTSTART;TZID=Europe/Paris:20171206T090000
DTEND;TZID=Europe/Paris:20171208T190000
DTSTAMP:20260423T110842
CREATED:20171130T134204Z
LAST-MODIFIED:20171205T085154Z
UID:345986-1512550800-1512759600@www.yvelines-infos.fr
SUMMARY:Les Yvelines et les Hauts-de-Seine au rendez-vous de l'immobilier d'entreprise
DESCRIPTION:Au SIMI\, vitrine du marché français de l’immobilier d’entreprise\, les deux Départements soutiendront les projets en faveur de l’attractivité économique et de la qualité de vie des territoires de l’ouest francilien.  \n28 000 visiteurs sont attendus pour cette 16e édition\, principalement dédiée aux enjeux et aux attentes du secteur de l’immobilier d’entreprise face au développement du digital. Cette année\, les départements des Hauts-de-Seine et des Yvelines\, tiendront un stand commun avec CITALLIOS et l’EPAMSA. \nCes partenaires de l’ouest francilien proposent en effet une offre de services de proximité et d’innovation avec pour objectif de promouvoir les grands investissements et les grands projets d’équipement\, l’attractivité économique et ses initiatives en matière d’innovation ainsi que le bien-être et la qualité de vie des territoires concerné\, liés par la Seine. \nSur le stand\, une maquette numérique 3D de l’ouest francilien présentera les atouts et points d’intérêt du territoire (dont les 6 sites hôtes des JO 2024) par thématiques ainsi que 11 sites emblématiques modélisés en 3D. \nPatrick Devedjian\, Président du Conseil départemental des Hauts-de-Seine et Président de l’établissement public Defacto\, et Pierre Bédier\, Président du Conseil départemental des Yvelines\, de CITALLIOS et de l’EPAMSA\, inaugureront le stand. \nAu programme le 6 décembre sur le stand de l’ouest francilien : \n\n11h-12h : Conférence organisée par CITALLIOS\, suivie d’un cocktail. « Quartier de Seine Ouest à Asnières-sur-Seine : un écoquartier de 16 ha en bords de Seine au pied d’une future gare du Grand Paris Express ». En présence de Josiane Fisher\, Conseiller départemental des Hauts-de-Seine\, Maire adjoint déléguée à l’urbanisme et aux grands projets de la mairie d’Asnières-sur-Seine\, de Vincent Quintard\, Directeur général adjoint chargé du pôle développement économique et urbain de la mairie d’Asnières-sur-Seine et d’Hervé Gay\, Directeur général de CITALLIOS.\n15h : Signature du protocole de partenariat « Pour inventer les opérations de renouvellement urbain de demain » entre Hauts-de-Seine Habitat et CITALLIOS. Avec Damien Vanoverschelde\, Directeur général de Hauts-de-Seine Habitat et Hervé Gay\, Directeur général de CITALLIOS.\n16h30-17h30 : Inauguration du stand ouest francilien\, suivie d’un cocktail. En présence de Patrick Devedjian\, Président du Département des Hauts-de-Seine et Pierre Bédier\, Président du Département des Yvelines\, de CITALLIOS et de l’EPAMSA. Salle 242 A – niveau 2\n17h30-18h30 : Conférence « L’axe Seine\, un territoire de grands projets ». Avec Patrick Devedjian\, Président du Département des Hauts-de-Seine\, Pierre Bédier\, Président du Département des Yvelines\, Xavier Hémeury\, Directeur général de l’EPAMSA et d’Hervé Gay\, Directeur général de CITALLIOS.\n\nAu programme jeudi 7 décembre sur le stand de l’ouest francilien : \n\n11h30-12h30 : Conférence organisée par CITALLIOS\, suivie d’un apéritif. « Les bureaux à Clichy-la-Garenne »\, présentée par Rémi Muzeau\, Maire de Clichy-la-Garenne\, Conseiller départemental des Hauts-de-Seine et par Hervé Gay\, Directeur général de CITALLIOS.\n14h45 : Signature de la convention « Business Grand Paris ». Entre Etienne Guyot\, Directeur général CCI Paris Ile-de-France et Hervé Gay\, Directeur général de CITALLIOS.\n\nLes grands projets des Hauts-de-Seine et des Yvelines présentés sur le stand \n\nDépartement des Hauts-de-Seine : Paris La Défense\, le port de Gennevilliers\, la vallée de la culture des Hauts-de-Seine.\nDépartement des Yvelines : le cluster des mobilités innovantes de Versailles-Satory\, le Campus des Mureaux\, le collège innovant de Mantes-la-Jolie.\nCITALLIOS : les principales opérations d’aménagement de l’ouest francilien à Asnières-sur-Seine\, Clichy-la-Garenne\, Poissy\, Andrésy…\nEPAMSA : Carrières Centralité\, l’Ecopôle\, Bonnières-sur-Seine et Gargenville\, Mantes Université et Mantes Innovaparc.
URL:https://www.yvelines-infos.fr/agenda/yvelines-hauts-de-seine-rendez-de-limmobilier-dentreprise/
LOCATION:Palais des Congrès de Paris – Porte Maillot – Niveaux 1\, 2 & 3.\, Paris\, 75016
ATTACH;FMTTYPE=image/jpeg:https://www.yvelines-infos.fr/content/uploads/2017/Salon-SIMI.jpg
END:VEVENT
END:VCALENDAR