BEGIN:VCALENDAR
VERSION:2.0
PRODID:-//Yvelines Infos - ECPv6.0.2//NONSGML v1.0//EN
CALSCALE:GREGORIAN
METHOD:PUBLISH
X-WR-CALNAME:Yvelines Infos
X-ORIGINAL-URL:https://www.yvelines-infos.fr
X-WR-CALDESC:Évènements pour Yvelines Infos
REFRESH-INTERVAL;VALUE=DURATION:PT1H
X-Robots-Tag:noindex
X-PUBLISHED-TTL:PT1H
BEGIN:VTIMEZONE
TZID:Europe/Paris
BEGIN:DAYLIGHT
TZOFFSETFROM:+0100
TZOFFSETTO:+0200
TZNAME:CEST
DTSTART:20170326T010000
END:DAYLIGHT
BEGIN:STANDARD
TZOFFSETFROM:+0200
TZOFFSETTO:+0100
TZNAME:CET
DTSTART:20171029T010000
END:STANDARD
END:VTIMEZONE
BEGIN:VEVENT
DTSTART;TZID=Europe/Paris:20170511T111500
DTEND;TZID=Europe/Paris:20170511T113000
DTSTAMP:20260423T074323
CREATED:20170405T141730Z
LAST-MODIFIED:20170405T141730Z
UID:337806-1494501300-1494502200@www.yvelines-infos.fr
SUMMARY:Circuit touristique « Artistes au cœur de la bâtisse »
DESCRIPTION:Durant cette journée\, l’office de tourisme vous propose de découvrir le château Ephémère situé à Carrières- sous-Poissy. Ce château\, demeure de  William K. VANDERBILT est devenu aujourd’hui une fabrique sonore et numérique. L’après-midi\, rendez-vous à Poissy pour remonter dans le temps avec le nouveau circuit pédestre « Architecture des années 1930 ». Un circuit pédestre réalisé à l’occasion des 80 ans de l’hôtel de ville. \nTarif : 54 € / personne (transport et déjeuner inclus). Maximum : 30 participants.
URL:https://www.yvelines-infos.fr/agenda/circuit-touristique-artistes-coeur-de-batisse/
LOCATION:Office du tourisme de Poissy\, 2 boulevard Robespierre\, Poissy\, 78300\, France
GEO:48.9330208;2.0437666
X-APPLE-STRUCTURED-LOCATION;VALUE=URI;X-ADDRESS=Office du tourisme de Poissy 2 boulevard Robespierre Poissy 78300 France;X-APPLE-RADIUS=500;X-TITLE=2 boulevard Robespierre:geo:2.0437666,48.9330208
END:VEVENT
BEGIN:VEVENT
DTSTART;TZID=Europe/Paris:20170513T143000
DTEND;TZID=Europe/Paris:20170513T163000
DTSTAMP:20260423T074323
CREATED:20170405T142137Z
LAST-MODIFIED:20170504T084727Z
UID:337818-1494685800-1494693000@www.yvelines-infos.fr
SUMMARY:Circuit pédestre
DESCRIPTION:Pour célébrer les 80 ans de l’hôtel de ville de Poissy\, l’office de tourisme vous propose un tout nouveau circuit pédestre autour de « l’Architecture des années 1930 » ! Votre guide vous conduit pas à pas dans les rues de Poissy et vous raconte l’évolution urbaine de cette époque ! Au programme : l’hôtel de ville et son architecture si moderne pour cette période dite Front Populaire\, les usines des frères Rose et bien sûr l’évocation de la Villa Savoye de le Corbusier ! Un véritable saut dans le passé ! \nTarifs : 5 € / adulte et 2 € de 4 à 16 ans.
URL:https://www.yvelines-infos.fr/agenda/circuit-pedestre/
LOCATION:Office du tourisme de Poissy\, 2 boulevard Robespierre\, Poissy\, 78300\, France
ATTACH;FMTTYPE=image/jpeg:https://www.yvelines-infos.fr/content/uploads/2017/architecture-des-annees-1930-samedi-13-mai-2017.jpg
GEO:48.9330208;2.0437666
X-APPLE-STRUCTURED-LOCATION;VALUE=URI;X-ADDRESS=Office du tourisme de Poissy 2 boulevard Robespierre Poissy 78300 France;X-APPLE-RADIUS=500;X-TITLE=2 boulevard Robespierre:geo:2.0437666,48.9330208
END:VEVENT
BEGIN:VEVENT
DTSTART;TZID=Europe/Paris:20170513T160000
DTEND;TZID=Europe/Paris:20170513T173000
DTSTAMP:20260423T074323
CREATED:20170405T142309Z
LAST-MODIFIED:20170504T084515Z
UID:337823-1494691200-1494696600@www.yvelines-infos.fr
SUMMARY:Visite de la distillerie de Poissy
DESCRIPTION:Découvrez un site insolite à travers la visite commentée de la dernière distillerie artisanale d’Ile de France et de la doyenne des liqueurs nationales. \nAu programme : histoire et anecdotes autour du Noyau de Poissy sans oublier les dégustations des fameuses liqueurs « Gobelet d’Argent »\, « Sceau de saint Louis »\, et « Liqueur de Paris » ! Ce pilier de la gastronomie francilienne recèle bien des secrets depuis le XVIIème siècle ! Un lieu envoûtant qui promet aux visiteurs de belles surprises.
URL:https://www.yvelines-infos.fr/agenda/visite-de-distillerie-de-poissy/
LOCATION:Office du tourisme de Poissy\, 2 boulevard Robespierre\, Poissy\, 78300\, France
ATTACH;FMTTYPE=image/jpeg:https://www.yvelines-infos.fr/content/uploads/2017/visite-de-la-distillerie-samedi-13-mai-2017-16h.jpg
GEO:48.9330208;2.0437666
X-APPLE-STRUCTURED-LOCATION;VALUE=URI;X-ADDRESS=Office du tourisme de Poissy 2 boulevard Robespierre Poissy 78300 France;X-APPLE-RADIUS=500;X-TITLE=2 boulevard Robespierre:geo:2.0437666,48.9330208
END:VEVENT
BEGIN:VEVENT
DTSTART;TZID=Europe/Paris:20170520T143000
DTEND;TZID=Europe/Paris:20170520T143000
DTSTAMP:20260423T074323
CREATED:20170405T142516Z
LAST-MODIFIED:20170405T143352Z
UID:337826-1495290600-1495290600@www.yvelines-infos.fr
SUMMARY:Séance de dédicace à l’office de tourisme
DESCRIPTION:L’office de tourisme de Poissy organise dans ses locaux une séance de dédicace inédite par l’auteur Jean-Pierre COMES de l’ouvrage « Ne lui parlez pas de train ! il y en aurait pour deux heures… ».  Dans ce livre\, l’auteur relate ses voyages et sa passion pour les trains. Ce sont des souvenirs et émotions ferroviaires\, mais pas seulement\, car il relate une jeunesse puis une adolescence des années 50 / 60. Une rencontre à ne pas manquer. \nSéance de dédicace ouverte à tous
URL:https://www.yvelines-infos.fr/agenda/seance-de-dedicace-a-loffice-de-tourisme/
LOCATION:Office du tourisme de Poissy\, 2 boulevard Robespierre\, Poissy\, 78300\, France
GEO:48.9330208;2.0437666
X-APPLE-STRUCTURED-LOCATION;VALUE=URI;X-ADDRESS=Office du tourisme de Poissy 2 boulevard Robespierre Poissy 78300 France;X-APPLE-RADIUS=500;X-TITLE=2 boulevard Robespierre:geo:2.0437666,48.9330208
END:VEVENT
BEGIN:VEVENT
DTSTART;TZID=Europe/Paris:20170601T080000
DTEND;TZID=Europe/Paris:20170715T000000
DTSTAMP:20260423T074323
CREATED:20170405T143024Z
LAST-MODIFIED:20170405T143109Z
UID:337831-1496304000-1500076800@www.yvelines-infos.fr
SUMMARY:Concours de photos 2ème édition « L’Hôtel de ville prend la pose ! »
DESCRIPTION:Du 1er juin au 15 juillet \nPour célébrer les 80 ans de l’hôtel de ville\, l’office de tourisme de Poissy organise un concours de photos inédit et gratuit sur l’édifice. Un concours ouvert à tous\, amateurs ou véritables passionnés de photos ! \nAlors plus d’hésitation\, déposez vos photos à partir du 1er juin à l’office de tourisme situé au 2 boulevard Robespierre ou envoyer les sur contact@poissy-tourisme.fr. \n Du 15 juillet au 16 août  votez pour vos photos préférées dans les locaux de l’office de tourisme ou rendez-vous sur la page Facebook « Poissy Concours Photos » pour aimer la ou les photos de votre choix ! \nL’occasion de faire preuve de créativité et de réveiller l’artiste qui sommeille en vous ! \nLes gagnants  seront récompensés !
URL:https://www.yvelines-infos.fr/agenda/concours-de-photos-2eme-edition-lhotel-de-ville-prend-pose/
LOCATION:Office du tourisme de Poissy\, 2 boulevard Robespierre\, Poissy\, 78300\, France
GEO:48.9330208;2.0437666
X-APPLE-STRUCTURED-LOCATION;VALUE=URI;X-ADDRESS=Office du tourisme de Poissy 2 boulevard Robespierre Poissy 78300 France;X-APPLE-RADIUS=500;X-TITLE=2 boulevard Robespierre:geo:2.0437666,48.9330208
END:VEVENT
END:VCALENDAR