BEGIN:VCALENDAR
VERSION:2.0
PRODID:-//Yvelines Infos - ECPv6.0.2//NONSGML v1.0//EN
CALSCALE:GREGORIAN
METHOD:PUBLISH
X-ORIGINAL-URL:https://www.yvelines-infos.fr
X-WR-CALDESC:Évènements pour Yvelines Infos
REFRESH-INTERVAL;VALUE=DURATION:PT1H
X-Robots-Tag:noindex
X-PUBLISHED-TTL:PT1H
BEGIN:VTIMEZONE
TZID:Europe/Paris
BEGIN:DAYLIGHT
TZOFFSETFROM:+0100
TZOFFSETTO:+0200
TZNAME:CEST
DTSTART:20180325T010000
END:DAYLIGHT
BEGIN:STANDARD
TZOFFSETFROM:+0200
TZOFFSETTO:+0100
TZNAME:CET
DTSTART:20181028T010000
END:STANDARD
END:VTIMEZONE
BEGIN:VEVENT
DTSTART;TZID=Europe/Paris:20180203T140000
DTEND;TZID=Europe/Paris:20180203T213000
DTSTAMP:20260423T130718
CREATED:20180118T152051Z
LAST-MODIFIED:20180118T155856Z
UID:346778-1517666400-1517693400@www.yvelines-infos.fr
SUMMARY:Journée de "Lutte contre les maladies hydriques en pays Dogon"
DESCRIPTION:Considérant que « l’eau\, c’est aussi la santé… »\, Mali-Médicaments est une association yvelinoise oeuvrant depuis plus de 40 ans à l’amélioration de la situation sanitaire et médicale au Mali. \nMali-Médicaments vous invite le Samedi 3 Février prochain à une grande  journée dédiée à la lutte contre les maladies hydriques en pays Dogon. Cette journée est référencée comme « Journée d’animation du territoire yvelinois »\, au titre de la convention de partenariat passée avec le groupement d’Intérêt Public Y-CID\, (Yvelines Coopération Internationale et Développement). Le projet consistait en la réalisation de deux puits\, Peloudouro et Samani-dogon\, d’un ouvrage d’assainissement permettant la lutte contre les maladies hydriques à Timessogou\, de latrines dans trois écoles\, de formations au bon emploi de l’eau\, aux règles d’hygiène\, le tout au Mali\, dans la région rurale Dogon. \nAu programme :\n– A partir de 14h exposition photos\n– 15h30 conférence-débat sur les maladies hydriques\n– 20h30 Concert des “Chœurs de la Pléiade” sous la direction de Gabriella Boda-Rechner (15€ l’entrée\, gratuit pour les – de 12 ans)
URL:https://www.yvelines-infos.fr/agenda/journee-de-lutte-contre-maladies-hydriques-pays-dogon/
LOCATION:Nickel-Odéon\, 50 rue du Muguet\, Rambouillet\, 78120\, France
ATTACH;FMTTYPE=image/png:https://www.yvelines-infos.fr/content/uploads/2018/affichexdefxevenemntx3xfev.png
END:VEVENT
END:VCALENDAR