BEGIN:VCALENDAR
VERSION:2.0
PRODID:-//Yvelines Infos - ECPv6.0.2//NONSGML v1.0//EN
CALSCALE:GREGORIAN
METHOD:PUBLISH
X-WR-CALNAME:Yvelines Infos
X-ORIGINAL-URL:https://www.yvelines-infos.fr
X-WR-CALDESC:Évènements pour Yvelines Infos
REFRESH-INTERVAL;VALUE=DURATION:PT1H
X-Robots-Tag:noindex
X-PUBLISHED-TTL:PT1H
BEGIN:VTIMEZONE
TZID:Europe/Paris
BEGIN:DAYLIGHT
TZOFFSETFROM:+0100
TZOFFSETTO:+0200
TZNAME:CEST
DTSTART:20190331T010000
END:DAYLIGHT
BEGIN:STANDARD
TZOFFSETFROM:+0200
TZOFFSETTO:+0100
TZNAME:CET
DTSTART:20191027T010000
END:STANDARD
BEGIN:DAYLIGHT
TZOFFSETFROM:+0100
TZOFFSETTO:+0200
TZNAME:CEST
DTSTART:20200329T010000
END:DAYLIGHT
BEGIN:STANDARD
TZOFFSETFROM:+0200
TZOFFSETTO:+0100
TZNAME:CET
DTSTART:20201025T010000
END:STANDARD
BEGIN:DAYLIGHT
TZOFFSETFROM:+0100
TZOFFSETTO:+0200
TZNAME:CEST
DTSTART:20210328T010000
END:DAYLIGHT
BEGIN:STANDARD
TZOFFSETFROM:+0200
TZOFFSETTO:+0100
TZNAME:CET
DTSTART:20211031T010000
END:STANDARD
BEGIN:DAYLIGHT
TZOFFSETFROM:+0100
TZOFFSETTO:+0200
TZNAME:CEST
DTSTART:20220327T010000
END:DAYLIGHT
BEGIN:STANDARD
TZOFFSETFROM:+0200
TZOFFSETTO:+0100
TZNAME:CET
DTSTART:20221030T010000
END:STANDARD
END:VTIMEZONE
BEGIN:VEVENT
DTSTART;TZID=Europe/Paris:20190501T140000
DTEND;TZID=Europe/Paris:20190501T180000
DTSTAMP:20260423T083214
CREATED:20190506T141642Z
LAST-MODIFIED:20190506T141642Z
UID:358160-1556719200-1556733600@www.yvelines-infos.fr
SUMMARY:Coup d'envoi 2019 du Nautic Park sur la Seine à Bougival
DESCRIPTION:La saison des week-ends prolongés commence. Dans la sélection des « Indispensables »\, le Nautic Park sur la Seine est là pour ravir Grands et Petits avec des activités nautiques adaptées à tous.\nRendez-vous le Mercredi 1 Mai\, de 14h à 18h\, pour la réouverture au public : bal guinguette\, Balade de Bizet en Zodiac pour découvrir Bougival et ses environs\, Club des Moussaillons\, embarcations et costumes d’époque…\n1\,2\,3…Ouvrez vite notre Flyer 2019 ! Version PDF téléchargeable sur www.nauticpark.com\nGrande nouveauté 2019 : une billetterie en ligne pour la réservation et le paiement de toutes nos activités\nA bientôt sur l’EAU !
URL:https://www.yvelines-infos.fr/agenda/coup-denvoi-2019-du-nautic-park-sur-la-seine-a-bougival/
LOCATION:nautic park\, Île de la Chaussée\, Bougival\, 78380
ATTACH;FMTTYPE=image/jpeg:https://www.yvelines-infos.fr/content/uploads/2019/img-2457.jpeg
ORGANIZER;CN="Nautic%20Park":MAILTO:contact@nauticpark.com
GEO:48.869741;2.1419559
X-APPLE-STRUCTURED-LOCATION;VALUE=URI;X-ADDRESS=nautic park Île de la Chaussée Bougival 78380;X-APPLE-RADIUS=500;X-TITLE=Île de la Chaussée:geo:2.1419559,48.869741
END:VEVENT
BEGIN:VEVENT
DTSTART;TZID=Europe/Paris:20190504T140000
DTEND;TZID=Europe/Paris:20190504T163000
DTSTAMP:20260423T083214
CREATED:20190506T141545Z
LAST-MODIFIED:20190506T141614Z
UID:358166-1556978400-1556987400@www.yvelines-infos.fr
SUMMARY:Circuit des Impressionnistes en Zodiac
DESCRIPTION:Le Circuit des Impressionnistes en Zodiac est une escapade fluviale en Zodiac sur la Seine au départ du Nautic Park à Bougival (78). Il se déroule dans le cadre qui a inspiré les peintres Monet\, Renoir\, Morisot\, Sisley\, Pissarro\, … Ce circuit est destiné à découvrir le berceau des Impressionnistes et ses sites touristiques attractifs. Les faits marquants\, historiques ou anecdotiques sont révélés\, au fil de l’eau\, lors du parcours entre Bougival et l’île de Chatou. Les participants naviguent sur la Seine au sein d’une flottille de zodiac encadrée par 1 ou plusieurs pilote(s) expérimenté(s) en fonction du nombre de Zodiac. Les participants peuvent piloter eux-mêmes\, en toute sécurité\, après une formation à la conduite sans permis. \nRetour en vidéo : https://www.youtube.com/watch?v=gpYxtgsCBW0&t=12s \n5 à 6 personnes par Zodiac \nRendez-vous impératif : 14h pour briefing\, distribution des gilets de sauvetage\, formation à la conduite sans permis des pilotes\nDépart du Nautic Park : 14h30\nRetour au Nautic Park : 16h30
URL:https://www.yvelines-infos.fr/agenda/circuit-des-impressionnistes-en-zodiac/2019-05-04/
LOCATION:nautic park\, Île de la Chaussée\, Bougival\, 78380
ATTACH;FMTTYPE=image/jpeg:https://www.yvelines-infos.fr/content/uploads/2019/5-visite-originale-sur-le-theme-des-impressionnistes-a-bougival-nautic-park.jpg
ORGANIZER;CN="Nautic%20Park":MAILTO:contact@nauticpark.com
GEO:48.869741;2.1419559
X-APPLE-STRUCTURED-LOCATION;VALUE=URI;X-ADDRESS=nautic park Île de la Chaussée Bougival 78380;X-APPLE-RADIUS=500;X-TITLE=Île de la Chaussée:geo:2.1419559,48.869741
END:VEVENT
BEGIN:VEVENT
DTSTART;TZID=Europe/Paris:20190525T140000
DTEND;TZID=Europe/Paris:20190525T163000
DTSTAMP:20260423T083214
CREATED:20190515T081459Z
LAST-MODIFIED:20190515T081459Z
UID:358560-1558792800-1558801800@www.yvelines-infos.fr
SUMMARY:Rallye Nautique en Zodiac sur la Seine
DESCRIPTION:Cette escapade fluviale en Zodiac est un grand jeu sur l’eau\, succession d’énigmes nautiques et culturelles sur l’eau. Notre rallye s’adresse aux personnes à la recherche d’une activité nautique originale\, ludique et conviviale sous forme de challenge. Vous naviguezsur la Seine au sein d’une flottille de Zodiac encadrée par 1 ou plusieurs pilote(s) expérimenté(s) en fonction du nombre de Zodiac. \nChaque équipe\, composée de 5 à 6 personnes\, pilote elle-même\, en toute sécurité\, après une formation à la conduite sans permis. Les équipes cumulent des points. A l’issue du rallye\, proclamation des résultats et affichage des réponses. \nRetour en vidéo : https://www.youtube.com/watch?v=lVXfBz4co44 \nRendez-vous impératif : 14h pour briefing\, distribution des gilets de sauvetage\, formation à la conduite sans permis des pilotes\nDépart du Nautic Park : 14h30\nRetour au Nautic Park : 16h30
URL:https://www.yvelines-infos.fr/agenda/rallye-nautique-en-zodiac-sur-la-seine/
LOCATION:nautic park\, Île de la Chaussée\, Bougival\, 78380
ATTACH;FMTTYPE=image/jpeg:https://www.yvelines-infos.fr/content/uploads/2019/rallyenautique2019nauticpark.jpg
ORGANIZER;CN="Nautic%20Park":MAILTO:contact@nauticpark.com
GEO:48.869741;2.1419559
X-APPLE-STRUCTURED-LOCATION;VALUE=URI;X-ADDRESS=nautic park Île de la Chaussée Bougival 78380;X-APPLE-RADIUS=500;X-TITLE=Île de la Chaussée:geo:2.1419559,48.869741
END:VEVENT
BEGIN:VEVENT
DTSTART;TZID=Europe/Paris:20220507T140000
DTEND;TZID=Europe/Paris:20220507T163000
DTSTAMP:20260423T083214
CREATED:20220414T085931Z
LAST-MODIFIED:20220414T085931Z
UID:385837-1651932000-1651941000@www.yvelines-infos.fr
SUMMARY:Circuit des Impressionnistes en Zodiac
DESCRIPTION:Notre Circuit des Impressionnistes en Zodiac est une escapade fluviale sur la Seine. Il se déroule dans le cadre qui a inspiré les peintres Monet\, Renoir\, Morisot\, Sisley\, Pissarro\, …\nCe circuit\, commenté par un guide\, est destiné à découvrir le berceau des Impressionnistes et ses sites touristiques attractifs. Les faits marquants\, historiques ou anecdotiques sont révélés\, au fil de l’eau\, lors du parcours entre Bougival et l’île de Chatou.\nLes participants naviguent sur la Seine au sein d’une flottille de Zodiac encadrée par 1 ou plusieurs bateaux de sécurité conduits par des pilotes expérimentés en fonction du nombre de Zodiac.\nLes participants peuvent piloter eux-mêmes\, en toute sécurité\, après une formation à la conduite sans permis.
URL:https://www.yvelines-infos.fr/agenda/circuit-des-impressionnistes-en-zodiac-2/
LOCATION:nautic park\, Île de la Chaussée\, Bougival\, 78380
ATTACH;FMTTYPE=image/jpeg:https://www.yvelines-infos.fr/content/uploads/2022/circuit-des-impressionnistes-2018-visuel-large.jpg
ORGANIZER;CN="BOUGIVAL":MAILTO:reservation.grenier@ville-bougival.fr
GEO:48.869741;2.1419559
X-APPLE-STRUCTURED-LOCATION;VALUE=URI;X-ADDRESS=nautic park Île de la Chaussée Bougival 78380;X-APPLE-RADIUS=500;X-TITLE=Île de la Chaussée:geo:2.1419559,48.869741
END:VEVENT
END:VCALENDAR