BEGIN:VCALENDAR
VERSION:2.0
PRODID:-//Yvelines Infos - ECPv6.0.2//NONSGML v1.0//EN
CALSCALE:GREGORIAN
METHOD:PUBLISH
X-ORIGINAL-URL:https://www.yvelines-infos.fr
X-WR-CALDESC:Évènements pour Yvelines Infos
REFRESH-INTERVAL;VALUE=DURATION:PT1H
X-Robots-Tag:noindex
X-PUBLISHED-TTL:PT1H
BEGIN:VTIMEZONE
TZID:Europe/Paris
BEGIN:DAYLIGHT
TZOFFSETFROM:+0100
TZOFFSETTO:+0200
TZNAME:CEST
DTSTART:20190331T010000
END:DAYLIGHT
BEGIN:STANDARD
TZOFFSETFROM:+0200
TZOFFSETTO:+0100
TZNAME:CET
DTSTART:20191027T010000
END:STANDARD
END:VTIMEZONE
BEGIN:VEVENT
DTSTART;TZID=Europe/Paris:20190608T143000
DTEND;TZID=Europe/Paris:20190608T160000
DTSTAMP:20260423T040344
CREATED:20190523T083609Z
LAST-MODIFIED:20190523T083609Z
UID:358788-1560004200-1560009600@www.yvelines-infos.fr
SUMMARY:Découverte de Chatou
DESCRIPTION:Partez à la rencontre de Monsieur Fournaise et de ses hôtes illustres : Renoir\, Maupassant\, Caillebotte\, Degas\, Gervex\, Maincent\, Réalier-Dumas\, Leloir…\nPuis gros plan sur la Maison Levanneur où Derain et Vlaminck ont inspiré le fauvisme créant l’Ecole de Chatou\, aujourd’hui consacrée à l’art contemporain.\nDécouvrez l’histoire du hameau Fournaise\, les débuts et l’âge d’or à la Belle Epoque\, la période d’oubli puis la restauration dans les années 80 et les heures joyeuses d’aujourd’hui…\nC’est un voyage dans le temps d’hier à aujourd’hui que vous proposent les Amis de la Maison Fournaise ! La visite est assurée par un bénévole de l’association Les Amis de la Maison Fournaise www.amisfournaisechatou.com \n\nRéservation obligatoire auprès de l’Office de Tourisme (01 30 87 20 63 / info@seine-saintgermain.fr / www.seine-saintgermain.fr)\n\n\n\n\nDATES :\n– Samedi 8 juin 2019 de 14h30 à 16h. \n\n\nTARIFS :\n\n– 5€ / adulte \n– 4€ / 8-17 ans
URL:https://www.yvelines-infos.fr/agenda/decouverte-de-chatou/
LOCATION:Musée Fournaise\, Île des Impressionnistes\, 3 rue du Bac\, Chatou\, 78400
ATTACH;FMTTYPE=image/jpeg:https://www.yvelines-infos.fr/content/uploads/2019/decouverte-chatou1.jpg
ORGANIZER;CN="Office%20de%20Tourisme%20Saint%20Germain%20Boucles%20de%20Seine":MAILTO:info@seine-saintgermain.fr
END:VEVENT
BEGIN:VEVENT
DTSTART;TZID=Europe/Paris:20190810T143000
DTEND;TZID=Europe/Paris:20190810T160000
DTSTAMP:20260423T040344
CREATED:20190809T091232Z
LAST-MODIFIED:20190809T091232Z
UID:360635-1565447400-1565452800@www.yvelines-infos.fr
SUMMARY:Découverte de Chatou
DESCRIPTION:Partez à la rencontre de Monsieur Fournaise et de ses hôtes illustres : Renoir\, Maupassant\, Caillebotte\, Degas\, Gervex\, Maincent\, Réalier-Dumas\, Leloir… \nPuis gros plan sur la Maison Levanneur où Derain et Vlaminck ont inspiré le fauvisme créant l’Ecole de Chatou\, aujourd’hui consacrée à l’art contemporain.\nDécouvrez l’histoire du hameau Fournaise\, les débuts et l’âge d’or à la Belle Epoque\, la période d’oubli puis la restauration dans les années 80 et les heures joyeuses d’aujourd’hui…\nC’est un voyage dans le temps d’hier à aujourd’hui que vous proposent les Amis de la Maison Fournaise !\nLa visite est assurée par un bénévole de l’association Les Amis de la Maison Fournaise www.amisfournaisechatou.comRéservation obligatoire auprès de l’Office de Tourisme Saint Germain Boucles de Seine. \n\n\nTARIF : 5€/adulte et 4€/enfant 8-18 ans \nLes autres dates :\n– Samedi 14 septembre 2019 de 14h30 à 16h.\n– Samedi 12 octobre 2019 de 14h30 à 16h.
URL:https://www.yvelines-infos.fr/agenda/decouverte-de-chatou-4/
LOCATION:Musée Fournaise\, Île des Impressionnistes\, 3 rue du Bac\, Chatou\, 78400
ATTACH;FMTTYPE=image/jpeg:https://www.yvelines-infos.fr/content/uploads/2019/decouverte-chatou1-1.jpg
ORGANIZER;CN="Office%20de%20Tourisme%20Saint%20Germain%20Boucles%20de%20Seine":MAILTO:info@seine-saintgermain.fr
END:VEVENT
BEGIN:VEVENT
DTSTART;TZID=Europe/Paris:20190914T143000
DTEND;TZID=Europe/Paris:20190914T160000
DTSTAMP:20260423T040344
CREATED:20190809T091229Z
LAST-MODIFIED:20190809T091229Z
UID:360637-1568471400-1568476800@www.yvelines-infos.fr
SUMMARY:Découverte de Chatou
DESCRIPTION:Partez à la rencontre de Monsieur Fournaise et de ses hôtes illustres : Renoir\, Maupassant\, Caillebotte\, Degas\, Gervex\, Maincent\, Réalier-Dumas\, Leloir… \nPuis gros plan sur la Maison Levanneur où Derain et Vlaminck ont inspiré le fauvisme créant l’Ecole de Chatou\, aujourd’hui consacrée à l’art contemporain.\nDécouvrez l’histoire du hameau Fournaise\, les débuts et l’âge d’or à la Belle Epoque\, la période d’oubli puis la restauration dans les années 80 et les heures joyeuses d’aujourd’hui…\nC’est un voyage dans le temps d’hier à aujourd’hui que vous proposent les Amis de la Maison Fournaise !\nLa visite est assurée par un bénévole de l’association Les Amis de la Maison Fournaise www.amisfournaisechatou.comRéservation obligatoire auprès de l’Office de Tourisme Saint Germain Boucles de Seine. \n\n\nTARIF : 5€/adulte et 4€/enfant 8-18 ans \nLes autres dates :\n\n– Samedi 12 octobre 2019 de 14h30 à 16h.
URL:https://www.yvelines-infos.fr/agenda/decouverte-de-chatou-3/
LOCATION:Musée Fournaise\, Île des Impressionnistes\, 3 rue du Bac\, Chatou\, 78400
ATTACH;FMTTYPE=image/jpeg:https://www.yvelines-infos.fr/content/uploads/2019/decouverte-chatou1-2.jpg
ORGANIZER;CN="Office%20de%20Tourisme%20Saint%20Germain%20Boucles%20de%20Seine":MAILTO:info@seine-saintgermain.fr
END:VEVENT
BEGIN:VEVENT
DTSTART;TZID=Europe/Paris:20191012T143000
DTEND;TZID=Europe/Paris:20191012T160000
DTSTAMP:20260423T040344
CREATED:20190809T091222Z
LAST-MODIFIED:20190809T091222Z
UID:360639-1570890600-1570896000@www.yvelines-infos.fr
SUMMARY:Découverte de Chatou
DESCRIPTION:Partez à la rencontre de Monsieur Fournaise et de ses hôtes illustres : Renoir\, Maupassant\, Caillebotte\, Degas\, Gervex\, Maincent\, Réalier-Dumas\, Leloir… \nPuis gros plan sur la Maison Levanneur où Derain et Vlaminck ont inspiré le fauvisme créant l’Ecole de Chatou\, aujourd’hui consacrée à l’art contemporain.\nDécouvrez l’histoire du hameau Fournaise\, les débuts et l’âge d’or à la Belle Epoque\, la période d’oubli puis la restauration dans les années 80 et les heures joyeuses d’aujourd’hui…\nC’est un voyage dans le temps d’hier à aujourd’hui que vous proposent les Amis de la Maison Fournaise !\nLa visite est assurée par un bénévole de l’association Les Amis de la Maison Fournaise www.amisfournaisechatou.comRéservation obligatoire auprès de l’Office de Tourisme Saint Germain Boucles de Seine. \n\nTARIFS : 5€/adulte et 4€/enfant 8-18 ans
URL:https://www.yvelines-infos.fr/agenda/decouverte-de-chatou-2/
LOCATION:Musée Fournaise\, Île des Impressionnistes\, 3 rue du Bac\, Chatou\, 78400
ATTACH;FMTTYPE=image/jpeg:https://www.yvelines-infos.fr/content/uploads/2019/decouverte-chatou1-3.jpg
ORGANIZER;CN="Office%20de%20Tourisme%20Saint%20Germain%20Boucles%20de%20Seine":MAILTO:info@seine-saintgermain.fr
END:VEVENT
END:VCALENDAR