BEGIN:VCALENDAR
VERSION:2.0
PRODID:-//Yvelines Infos - ECPv6.0.2//NONSGML v1.0//EN
CALSCALE:GREGORIAN
METHOD:PUBLISH
X-ORIGINAL-URL:https://www.yvelines-infos.fr
X-WR-CALDESC:Évènements pour Yvelines Infos
REFRESH-INTERVAL;VALUE=DURATION:PT1H
X-Robots-Tag:noindex
X-PUBLISHED-TTL:PT1H
BEGIN:VTIMEZONE
TZID:Europe/Paris
BEGIN:DAYLIGHT
TZOFFSETFROM:+0100
TZOFFSETTO:+0200
TZNAME:CEST
DTSTART:20170326T010000
END:DAYLIGHT
BEGIN:STANDARD
TZOFFSETFROM:+0200
TZOFFSETTO:+0100
TZNAME:CET
DTSTART:20171029T010000
END:STANDARD
BEGIN:DAYLIGHT
TZOFFSETFROM:+0100
TZOFFSETTO:+0200
TZNAME:CEST
DTSTART:20180325T010000
END:DAYLIGHT
BEGIN:STANDARD
TZOFFSETFROM:+0200
TZOFFSETTO:+0100
TZNAME:CET
DTSTART:20181028T010000
END:STANDARD
BEGIN:DAYLIGHT
TZOFFSETFROM:+0100
TZOFFSETTO:+0200
TZNAME:CEST
DTSTART:20190331T010000
END:DAYLIGHT
BEGIN:STANDARD
TZOFFSETFROM:+0200
TZOFFSETTO:+0100
TZNAME:CET
DTSTART:20191027T010000
END:STANDARD
BEGIN:DAYLIGHT
TZOFFSETFROM:+0100
TZOFFSETTO:+0200
TZNAME:CEST
DTSTART:20200329T010000
END:DAYLIGHT
BEGIN:STANDARD
TZOFFSETFROM:+0200
TZOFFSETTO:+0100
TZNAME:CET
DTSTART:20201025T010000
END:STANDARD
END:VTIMEZONE
BEGIN:VEVENT
DTSTART;TZID=Europe/Paris:20171003T140000
DTEND;TZID=Europe/Paris:20180214T180000
DTSTAMP:20260423T080612
CREATED:20171024T094609Z
LAST-MODIFIED:20171024T094609Z
UID:345007-1507039200-1518631200@www.yvelines-infos.fr
SUMMARY:"Un peu\, beaucoup\, à la folie" au Musée de la Toile de Jouy
DESCRIPTION:À partir du 3 octobre 2017 et jusqu’au 14 février 2018\, le Musée de la Toile de Jouy accueille une nouvelle exposition temporaire sur le thème de l’amour.\n« Un peu\, beaucoup\, à la folie » met en scène les différentes façons d’aimer par le biais de grands classiques du célèbre tissu élaborés entre 1760 et 1860.\nCinq espaces mettent en scène l’amour aussi bien léger que tragique\, marital que voluptueux et érotique. \nHoraires :\nOuvert le mardi de 14h à 18h et du mercredi au dimanche de 11h à 18h\nFermé le lundi\, le mardi matin\, le 25 décembre et le 1er janvier \nTarifs :\nPlein tarif :\n– 7 € en période d’exposition temporaire\n– 5 € hors période d’exposition temporaire\nTarif réduit :\n– 5 € en période d’exposition temporaire\n– 3 € hors période d’exposition temporaire \nPlus d’informations sur le site Internet du Musée de la Toile de Jouy.
URL:https://www.yvelines-infos.fr/agenda/beaucoup-a-folie-musee-de-toile-de-jouy/
LOCATION:Musée de la Toile de Jouy\, 54 rue Charles de Gaulle \, Jouy-en-Josas\, 78350\, France
ATTACH;FMTTYPE=image/jpeg:https://www.yvelines-infos.fr/content/uploads/2017/expoamourjouy.jpeg
GEO:48.7691496;2.1532214
X-APPLE-STRUCTURED-LOCATION;VALUE=URI;X-ADDRESS=Musée de la Toile de Jouy 54 rue Charles de Gaulle  Jouy-en-Josas 78350 France;X-APPLE-RADIUS=500;X-TITLE=54 rue Charles de Gaulle:geo:2.1532214,48.7691496
END:VEVENT
BEGIN:VEVENT
DTSTART;VALUE=DATE:20181020
DTEND;VALUE=DATE:20190114
DTSTAMP:20260423T080612
CREATED:20181206T152922Z
LAST-MODIFIED:20181206T152922Z
UID:354412-1539993600-1547423999@www.yvelines-infos.fr
SUMMARY:Foujita\, l'étoffe d'un peindre
DESCRIPTION:Dans le cadre de la commémoration des 50 ans de la disparition de Foujita\, le Musée de la Toile de Jouy organise une exposition autour d’une des facettes méconnues de l’artiste : Foujita amateur du textile et de la mode. \nExposition présentée du 20 octobre 2018 au 13 janvier 2019
URL:https://www.yvelines-infos.fr/agenda/foujita-letoffe-dun-peindre/
LOCATION:Musée de la Toile de Jouy\, 54 rue Charles de Gaulle \, Jouy-en-Josas\, 78350\, France
ATTACH;FMTTYPE=image/jpeg:https://www.yvelines-infos.fr/content/uploads/2018/affiche-foujita-01-750x1061.jpg
GEO:48.7691496;2.1532214
X-APPLE-STRUCTURED-LOCATION;VALUE=URI;X-ADDRESS=Musée de la Toile de Jouy 54 rue Charles de Gaulle  Jouy-en-Josas 78350 France;X-APPLE-RADIUS=500;X-TITLE=54 rue Charles de Gaulle:geo:2.1532214,48.7691496
END:VEVENT
BEGIN:VEVENT
DTSTART;VALUE=DATE:20181020
DTEND;VALUE=DATE:20190114
DTSTAMP:20260423T080612
CREATED:20181206T113740Z
LAST-MODIFIED:20181206T113740Z
UID:354402-1539993600-1547423999@www.yvelines-infos.fr
SUMMARY:Japon & Jouy : dialogues entre Sarasa et Indiennes
DESCRIPTION:La magnifique collection privée d’Ana Berger\, collectionneuse\, créatrice et passionnée du Japon sera mise en relation avec les tissus de la collection du Musée. Vous découvrirez les surprenants échanges de techniques et de motifs entre Orient et Occident. \nPrésentée du 20 octobre 2018 et jusqu’au 13 janvier 2019
URL:https://www.yvelines-infos.fr/agenda/japon-jouy-dialogues-entre-sarasa-et-indiennes/
LOCATION:Musée de la Toile de Jouy\, 54 rue Charles de Gaulle \, Jouy-en-Josas\, 78350\, France
ATTACH;FMTTYPE=image/jpeg:https://www.yvelines-infos.fr/content/uploads/2018/affiche-jouy-pour-internet-750x1125.jpg
GEO:48.7691496;2.1532214
X-APPLE-STRUCTURED-LOCATION;VALUE=URI;X-ADDRESS=Musée de la Toile de Jouy 54 rue Charles de Gaulle  Jouy-en-Josas 78350 France;X-APPLE-RADIUS=500;X-TITLE=54 rue Charles de Gaulle:geo:2.1532214,48.7691496
END:VEVENT
BEGIN:VEVENT
DTSTART;TZID=Europe/Paris:20190217T170000
DTEND;TZID=Europe/Paris:20190217T183000
DTSTAMP:20260423T080612
CREATED:20190110T125200Z
LAST-MODIFIED:20190110T125200Z
UID:354834-1550422800-1550428200@www.yvelines-infos.fr
SUMMARY:Viva l'Opéra
DESCRIPTION:1.Gaetano Donizetti (1797-1848) La Fille du Régiment \n     Nous sommes au Tyrol qui es occupé par les troupes Napoléoniennes.  Air de Marie « Il faut partir ». \n2.Giacomo Puccini (1856-1924) Turandot \nNous sommes à l’époque d’une Chine médiévale imaginaire. Air de Liù « Vous qui êtes de glace » \n3.Max Bruck (1838-1920) Romance opus 85 pour alto et orchestre \nSolo d’alto par Daniel Dato \n4.Giuseppe Verdi (1818-1901) Simon Boccanegra \nNous sommes à Gênes au XIVème. Air d’Amélia « Come in quest’ora bruna » \n5.Giacomo Puccini (1856-1924) La Bohème \nA Paris\, vers la fin du siècle dernier. Airs de Mimi « on m’appelle Mimi »\, « d’où elle est sortie heureuse à ton cri d’amour » \n6.Christoph Willibald Glück (1714-1787) Orphée et Eurydice \nLa danse des Esprits bienheureux\, solo de flûte : Franck Masquelier \n7.Giacomo Puccini (1856-1924) La Bohème \nValse de Musette « quand je m’en vais seule par les rues » \n8. Anton Dvorak (1841-1904) Russalka \nChanson à la lune. Russalka confie son amour\, pour un prince charmant\, à la lune argentée. \n 
URL:https://www.yvelines-infos.fr/agenda/viva-lopera/
LOCATION:Musée de la Toile de Jouy\, 54 rue Charles de Gaulle \, Jouy-en-Josas\, 78350\, France
ATTACH;FMTTYPE=image/jpeg:https://www.yvelines-infos.fr/content/uploads/2019/image50visuel-musee-de-la-toile-17-fevrier-2019.jpg
ORGANIZER;CN="Musique%20et%20Patrimoine%20en%20Haute%20Bi%C3%A8vre":MAILTO:musiquenbievre@gmx.fr
GEO:48.7691496;2.1532214
X-APPLE-STRUCTURED-LOCATION;VALUE=URI;X-ADDRESS=Musée de la Toile de Jouy 54 rue Charles de Gaulle  Jouy-en-Josas 78350 France;X-APPLE-RADIUS=500;X-TITLE=54 rue Charles de Gaulle:geo:2.1532214,48.7691496
END:VEVENT
BEGIN:VEVENT
DTSTART;TZID=Europe/Paris:20200301T170000
DTEND;TZID=Europe/Paris:20200301T183000
DTSTAMP:20260423T080612
CREATED:20200204T095118Z
LAST-MODIFIED:20200204T095118Z
UID:365211-1583082000-1583087400@www.yvelines-infos.fr
SUMMARY:Broadway fait son Show
DESCRIPTION:Les plus belles pages de la comédie musicale américaine \nAu cours de ce concert vous découvrirez ou redécouvrirez les grands airs de comédies musicales rendus célèbres au grand écran. On se souvient du célèbre magicien d’Oz avec le fameux air « Over the Rainbow » interprété par Judy Garland. Show boat de Jérôme Kern avec la belle Ava Gardner interprétant « Can’t help loving that man »\, mais aussi My fair lady avec la célèbre interprétation d’Audrey Hepburn dans le rôle d’Eliza Doolitlle. Sont également à l’honneur de grands compositeurs du genre\, Cole Porter\, George Gershwin\, Leonard Bernstein …. Et Michel Legrand ! \nCe programme de comédies musicales américaines réunit sur scène trois artistes engagés dans leur art et passionnés pour ce genre musical. Jocelyne Lucas\, soprano\, Daniel Dato\, violon et Rafaël Dato au piano explorent avec fougue l’univers de ce style né dans les « années folles » \, au croisement de la musique classique et du jazz.
URL:https://www.yvelines-infos.fr/agenda/broadway-fait-son-show/
LOCATION:Musée de la Toile de Jouy\, 54 rue Charles de Gaulle \, Jouy-en-Josas\, 78350\, France
ATTACH;FMTTYPE=image/png:https://www.yvelines-infos.fr/content/uploads/2020/image50affiche-brodway.png
GEO:48.7691496;2.1532214
X-APPLE-STRUCTURED-LOCATION;VALUE=URI;X-ADDRESS=Musée de la Toile de Jouy 54 rue Charles de Gaulle  Jouy-en-Josas 78350 France;X-APPLE-RADIUS=500;X-TITLE=54 rue Charles de Gaulle:geo:2.1532214,48.7691496
END:VEVENT
END:VCALENDAR