BEGIN:VCALENDAR
VERSION:2.0
PRODID:-//Yvelines Infos - ECPv6.0.2//NONSGML v1.0//EN
CALSCALE:GREGORIAN
METHOD:PUBLISH
X-WR-CALNAME:Yvelines Infos
X-ORIGINAL-URL:https://www.yvelines-infos.fr
X-WR-CALDESC:Évènements pour Yvelines Infos
REFRESH-INTERVAL;VALUE=DURATION:PT1H
X-Robots-Tag:noindex
X-PUBLISHED-TTL:PT1H
BEGIN:VTIMEZONE
TZID:Europe/Paris
BEGIN:DAYLIGHT
TZOFFSETFROM:+0100
TZOFFSETTO:+0200
TZNAME:CEST
DTSTART:20190331T010000
END:DAYLIGHT
BEGIN:STANDARD
TZOFFSETFROM:+0200
TZOFFSETTO:+0100
TZNAME:CET
DTSTART:20191027T010000
END:STANDARD
END:VTIMEZONE
BEGIN:VEVENT
DTSTART;TZID=Europe/Paris:20190628T103000
DTEND;TZID=Europe/Paris:20190628T120000
DTSTAMP:20260423T020335
CREATED:20190523T084730Z
LAST-MODIFIED:20190523T084730Z
UID:358801-1561717800-1561723200@www.yvelines-infos.fr
SUMMARY:Henri II à Saint-Germain-en-Laye
DESCRIPTION:L’année 2019 est l’occasion de mettre à l’honneur un souverain né il y a 500 ans à Saint-Germain-en-Laye : Henri II.\nL’Office de Tourisme vous propose une immersion dans la vie de ce roi encore méconnu\, grâce à la visite guidée de l’exposition « Henri II\, Renaissance à Saint-Germain-en-Laye »\, présentée au musée d’Archéologie nationale du 31 mars au 14 juillet 2019. Par Victoria Bernard\, guide-conférencière. \n\n\nRéservation obligatoire auprès de l’Office de Tourisme (01 30 87 20 63 / info@seine-saintgermain.fr / www.seine-saintgermain.fr)\n\n\n\n\n\n\n\nDATES :\n– Vendredi 28 juin 2019 de 10h30 à 12h. \n\n\nTARIF :\n\n– 15€/personne\, à partir de 12 ans
URL:https://www.yvelines-infos.fr/agenda/henri-ii-a-saint-germain-en-laye/
LOCATION:Musée d’Archéologie nationale\, Place Charles de Gaulle\, Saint-Germain-en-Laye\, 78100
ATTACH;FMTTYPE=image/jpeg:https://www.yvelines-infos.fr/content/uploads/2019/440px-henri-ii-roi-de-france-1547-1559-1.jpg
ORGANIZER;CN="Office%20de%20Tourisme%20Saint%20Germain%20Boucles%20de%20Seine":MAILTO:info@seine-saintgermain.fr
END:VEVENT
END:VCALENDAR