BEGIN:VCALENDAR
VERSION:2.0
PRODID:-//Yvelines Infos - ECPv6.0.2//NONSGML v1.0//EN
CALSCALE:GREGORIAN
METHOD:PUBLISH
X-WR-CALNAME:Yvelines Infos
X-ORIGINAL-URL:https://www.yvelines-infos.fr
X-WR-CALDESC:Évènements pour Yvelines Infos
REFRESH-INTERVAL;VALUE=DURATION:PT1H
X-Robots-Tag:noindex
X-PUBLISHED-TTL:PT1H
BEGIN:VTIMEZONE
TZID:Europe/Paris
BEGIN:DAYLIGHT
TZOFFSETFROM:+0100
TZOFFSETTO:+0200
TZNAME:CEST
DTSTART:20170326T010000
END:DAYLIGHT
BEGIN:STANDARD
TZOFFSETFROM:+0200
TZOFFSETTO:+0100
TZNAME:CET
DTSTART:20171029T010000
END:STANDARD
END:VTIMEZONE
BEGIN:VEVENT
DTSTART;TZID=Europe/Paris:20170506T143000
DTEND;TZID=Europe/Paris:20170506T180000
DTSTAMP:20260423T205314
CREATED:20170505T124811Z
LAST-MODIFIED:20170505T124811Z
UID:338749-1494081000-1494093600@www.yvelines-infos.fr
SUMMARY:Course-Vélo nature à Morainvilliers
DESCRIPTION:Le Comité Départemental du Sport en Milieu Rural des Yvelines en association avec Temps Libre Morainvilliers-Bures propose une course-vélo nature (Bike and run) dans la forêt domaniale. Il s’agit d’une course en duo en alternant course à pied et vélo à volonté. \n14h course enfant 6-10ans / 5€ / 2km \n14h30 course jeune 11-14ans / 10€ / 6km \n15h30 course adulte à partir de 15ans / 15€ / 10km
URL:https://www.yvelines-infos.fr/agenda/course-velo-nature-a-morainvilliers/
LOCATION:morainvilliers\, Morainvilliers\, 78630\, France
ATTACH;FMTTYPE=image/jpeg:https://www.yvelines-infos.fr/content/uploads/2017/affiche_paysage.jpg
ORGANIZER;CN="Comit%C3%A9%20D%C3%A9partemental%20du%20Sport%20en%20Milieu%20Rural%20des%20Yvelines":MAILTO:cdsmr78@gmail.co
GEO:48.9287207;1.93488
END:VEVENT
END:VCALENDAR