BEGIN:VCALENDAR
VERSION:2.0
PRODID:-//Yvelines Infos - ECPv6.0.2//NONSGML v1.0//EN
CALSCALE:GREGORIAN
METHOD:PUBLISH
X-WR-CALNAME:Yvelines Infos
X-ORIGINAL-URL:https://www.yvelines-infos.fr
X-WR-CALDESC:Évènements pour Yvelines Infos
REFRESH-INTERVAL;VALUE=DURATION:PT1H
X-Robots-Tag:noindex
X-PUBLISHED-TTL:PT1H
BEGIN:VTIMEZONE
TZID:Europe/Paris
BEGIN:DAYLIGHT
TZOFFSETFROM:+0100
TZOFFSETTO:+0200
TZNAME:CEST
DTSTART:20200329T010000
END:DAYLIGHT
BEGIN:STANDARD
TZOFFSETFROM:+0200
TZOFFSETTO:+0100
TZNAME:CET
DTSTART:20201025T010000
END:STANDARD
BEGIN:DAYLIGHT
TZOFFSETFROM:+0100
TZOFFSETTO:+0200
TZNAME:CEST
DTSTART:20210328T010000
END:DAYLIGHT
BEGIN:STANDARD
TZOFFSETFROM:+0200
TZOFFSETTO:+0100
TZNAME:CET
DTSTART:20211031T010000
END:STANDARD
END:VTIMEZONE
BEGIN:VEVENT
DTSTART;TZID=Europe/Paris:20200429T150000
DTEND;TZID=Europe/Paris:20200429T160000
DTSTAMP:20260423T003541
CREATED:20200127T115434Z
LAST-MODIFIED:20200127T115434Z
UID:365016-1588172400-1588176000@www.yvelines-infos.fr
SUMMARY:Spectacle jeune public - Blabla des belles bulles
DESCRIPTION:Des chansons pour chatouiller petites et grandes oreilles : une guitare\, deux voix et des bulles qui babillent. Des plumes qui s’envolent\, un chat qui court\, un monstre vert\, le son d’une cloche ou d’une râpe à fromage..\nLes chansons plongent le tout-petit dans un petit monde drôle et poétique. Un moment musical pour enchanter les yeux et les oreilles.
URL:https://www.yvelines-infos.fr/agenda/spectacle-jeune-public-blabla-des-belles-bulles/
LOCATION:MJC Les Terrasses\, Avenue du Pont\, Conflans St Honorine\, 78700
ATTACH;FMTTYPE=image/jpeg:https://www.yvelines-infos.fr/content/uploads/2020/2.jpg
ORGANIZER;CN="MJC%20Les%20Terrasses":MAILTO:accueil@mjcconflans.org
GEO:48.9909627;2.0817403
X-APPLE-STRUCTURED-LOCATION;VALUE=URI;X-ADDRESS=MJC Les Terrasses Avenue du Pont Conflans St Honorine 78700;X-APPLE-RADIUS=500;X-TITLE=Avenue du Pont:geo:2.0817403,48.9909627
END:VEVENT
BEGIN:VEVENT
DTSTART;TZID=Europe/Paris:20200912T140000
DTEND;TZID=Europe/Paris:20200913T180000
DTSTAMP:20260423T003541
CREATED:20200902T102204Z
LAST-MODIFIED:20200902T102255Z
UID:368765-1599919200-1600020000@www.yvelines-infos.fr
SUMMARY:Exposition Event Green Art
DESCRIPTION:Le temps d’un week-end et au-delà\, soyez les bienvenus pour découvrir cette manifestation étincelante sous le label de l’écologie et du bien être. Des artistes\, des plasticiens et des créateurs de tous horizons qui créent avec des matériaux de récupérations ou utilisent des procédés naturels vous invitent à découvrir et à partager l’extraordinaire diversité de leurs créations. \nVous pouvez également devenir acteur pour la défense de notre environnement à travers les multiples ateliers proposés à tous les publics. Dans un esprit festif au rythme du manège sans électricité\, vous êtes invités pour un tatouage zen\, un exercice bien être ou une balade sur l’allée des créateurs de mode\, d’accessoires\, d’objets et de mobilier. Les plus jeunes pourront faire un tour du monde écolo avec un caribou volant\, grâce au spectacle Yapado Yapadam. \nUn événement immanquable\, un souffle green en amour pour la terre et la créativité.
URL:https://www.yvelines-infos.fr/agenda/exposition-event-green-art/
LOCATION:MJC Les Terrasses\, Avenue du Pont\, Conflans St Honorine\, 78700
ATTACH;FMTTYPE=image/jpeg:https://www.yvelines-infos.fr/content/uploads/2020/event-green-romane-annabelle-amaury.jpg
GEO:48.9909627;2.0817403
X-APPLE-STRUCTURED-LOCATION;VALUE=URI;X-ADDRESS=MJC Les Terrasses Avenue du Pont Conflans St Honorine 78700;X-APPLE-RADIUS=500;X-TITLE=Avenue du Pont:geo:2.0817403,48.9909627
END:VEVENT
BEGIN:VEVENT
DTSTART;TZID=Europe/Paris:20201007T143000
DTEND;TZID=Europe/Paris:20201007T160000
DTSTAMP:20260423T003541
CREATED:20200902T102224Z
LAST-MODIFIED:20200902T102224Z
UID:368769-1602081000-1602086400@www.yvelines-infos.fr
SUMMARY:CONTES DE LA NATURE DE LA CIE ROUGE VIVIER – Festival Imago
DESCRIPTION:De l’origine de l’Univers ou des couleurs\, de l’Océanie à la Guyane\, passez d’un continent à l’autre au cours d’une petite balade bilingue LSF-français. Découvrez les mythes et légendes du monde entier au sujet de dame nature. Le spectacle est signé à quatre mains par deux comparses qui ont dans leur besace des histoires fabuleuses qui appellent à préserver la diversité et la beauté du vivant.
URL:https://www.yvelines-infos.fr/agenda/contes-de-la-nature-de-la-cie-rouge-vivier-festival-imago/
LOCATION:MJC Les Terrasses\, Avenue du Pont\, Conflans St Honorine\, 78700
ATTACH;FMTTYPE=image/jpeg:https://www.yvelines-infos.fr/content/uploads/2020/cie-rouge-vivier-154-credit-d-noghero.jpg
GEO:48.9909627;2.0817403
X-APPLE-STRUCTURED-LOCATION;VALUE=URI;X-ADDRESS=MJC Les Terrasses Avenue du Pont Conflans St Honorine 78700;X-APPLE-RADIUS=500;X-TITLE=Avenue du Pont:geo:2.0817403,48.9909627
END:VEVENT
BEGIN:VEVENT
DTSTART;VALUE=DATE:20210320
DTEND;VALUE=DATE:20210416
DTSTAMP:20260423T003541
CREATED:20210308T105743Z
LAST-MODIFIED:20210308T105743Z
UID:373651-1616198400-1618531199@www.yvelines-infos.fr
SUMMARY:Balade du Printemps
DESCRIPTION:« La nuit meurt\, l’hiver fuit; maintenant la lumière » (Poème Après l’hiver\, Victor Hugo) \nSynonyme de renouveau et de renaissance ou même de révolution ! Le printemps sera le thème de cette nouvelle exposition\, présentée dans le parc de la MJC. \n20 mars\, début du printemps et de cette exposition\, qui regroupera plus de 40 artistes. Les interprétations sont multiples et les supports présentés de même : photographie\, bande-dessinée\, aquarelle\, collage et même vidéo\, vous ferons voyager à travers cette balade culturelle. \nArtistes confirmés ou en devenir\, présenteront leurs œuvres dont le thème redonnera espoir et laissera présager l’arrivée des beaux jours …\nParmi les artistes\, nous noterons la présence de Viorel Enache\, Claire Villemin\, Anabelle Amory et bien d’autres encore …
URL:https://www.yvelines-infos.fr/agenda/balade-du-printemps/
LOCATION:MJC Les Terrasses\, Avenue du Pont\, Conflans St Honorine\, 78700
ATTACH;FMTTYPE=image/jpeg:https://www.yvelines-infos.fr/content/uploads/2021/introvertie-a3.jpg
ORGANIZER;CN="MJC%20Les%20Terrasses":MAILTO:accueil@mjcconflans.org
GEO:48.9909627;2.0817403
X-APPLE-STRUCTURED-LOCATION;VALUE=URI;X-ADDRESS=MJC Les Terrasses Avenue du Pont Conflans St Honorine 78700;X-APPLE-RADIUS=500;X-TITLE=Avenue du Pont:geo:2.0817403,48.9909627
END:VEVENT
END:VCALENDAR