BEGIN:VCALENDAR
VERSION:2.0
PRODID:-//Yvelines Infos - ECPv6.0.2//NONSGML v1.0//EN
CALSCALE:GREGORIAN
METHOD:PUBLISH
X-WR-CALNAME:Yvelines Infos
X-ORIGINAL-URL:https://www.yvelines-infos.fr
X-WR-CALDESC:Évènements pour Yvelines Infos
REFRESH-INTERVAL;VALUE=DURATION:PT1H
X-Robots-Tag:noindex
X-PUBLISHED-TTL:PT1H
BEGIN:VTIMEZONE
TZID:Europe/Paris
BEGIN:DAYLIGHT
TZOFFSETFROM:+0100
TZOFFSETTO:+0200
TZNAME:CEST
DTSTART:20180325T010000
END:DAYLIGHT
BEGIN:STANDARD
TZOFFSETFROM:+0200
TZOFFSETTO:+0100
TZNAME:CET
DTSTART:20181028T010000
END:STANDARD
BEGIN:DAYLIGHT
TZOFFSETFROM:+0100
TZOFFSETTO:+0200
TZNAME:CEST
DTSTART:20190331T010000
END:DAYLIGHT
BEGIN:STANDARD
TZOFFSETFROM:+0200
TZOFFSETTO:+0100
TZNAME:CET
DTSTART:20191027T010000
END:STANDARD
BEGIN:DAYLIGHT
TZOFFSETFROM:+0100
TZOFFSETTO:+0200
TZNAME:CEST
DTSTART:20200329T010000
END:DAYLIGHT
BEGIN:STANDARD
TZOFFSETFROM:+0200
TZOFFSETTO:+0100
TZNAME:CET
DTSTART:20201025T010000
END:STANDARD
BEGIN:DAYLIGHT
TZOFFSETFROM:+0100
TZOFFSETTO:+0200
TZNAME:CEST
DTSTART:20210328T010000
END:DAYLIGHT
BEGIN:STANDARD
TZOFFSETFROM:+0200
TZOFFSETTO:+0100
TZNAME:CET
DTSTART:20211031T010000
END:STANDARD
END:VTIMEZONE
BEGIN:VEVENT
DTSTART;TZID=Europe/Paris:20181028T150000
DTEND;TZID=Europe/Paris:20181031T220000
DTSTAMP:20260422T225753
CREATED:20181109T095051Z
LAST-MODIFIED:20181109T095051Z
UID:353294-1540738800-1541023200@www.yvelines-infos.fr
SUMMARY:MJC Hantée - Parcours Urbex
DESCRIPTION:Un groupe d’amis passionnés d’Urbex\, en quête de sensations fortes\, se rend dans le manoir de la MJC\, abandonné depuis quelques décennies et entouré de légendes funestes. L’expédition tourne vite au cauchemar : la petite équipe se rend compte qu’elle n’est pas seule en ces lieux\, elle est cernée et traquée…. \nInformations complémentaires :\n– Réservation en ligne.\n– Parcours déconseillé aux moins de 8 ans et aux asthmatiques.\n– Parcours salissant.\n– Parcours d’environ 45 minutes.\n– 5 personnes maximum par créneau.\n– Les enfants de moins de 14 ans devront être accompagnés d’un adulte.\n– Le parcours du soir est interdit au moins de 16 ans.
URL:https://www.yvelines-infos.fr/agenda/mjc-hantee-parcours-urbex/
LOCATION:MJC Les Terrasses\, Avenue du Pont\, Conflans St Honorine\, 78700
ATTACH;FMTTYPE=image/jpeg:https://www.yvelines-infos.fr/content/uploads/2018/43207485-1824869707560833-8368098251261345792-n.jpg
ORGANIZER;CN="MJC%20Les%20Terrasses":MAILTO:accueil@mjcconflans.org
GEO:48.9909627;2.0817403
X-APPLE-STRUCTURED-LOCATION;VALUE=URI;X-ADDRESS=MJC Les Terrasses Avenue du Pont Conflans St Honorine 78700;X-APPLE-RADIUS=500;X-TITLE=Avenue du Pont:geo:2.0817403,48.9909627
END:VEVENT
BEGIN:VEVENT
DTSTART;TZID=Europe/Paris:20190518T190000
DTEND;TZID=Europe/Paris:20190518T190000
DTSTAMP:20260422T225753
CREATED:20190411T131312Z
LAST-MODIFIED:20190411T131312Z
UID:357337-1558206000-1558206000@www.yvelines-infos.fr
SUMMARY:Festival Bonne Machine - Kikesa et Biga Ranx
DESCRIPTION:Belle affiche pour la 8 ème édition du festival Bonne Machine : \nKikesa (Hip-Hop) ouvrira la soirée\, nouvelle bombe de la scène Rap\, il apporte une fraicheur\, en jouant avec les styles\, pour nous faire écouter un son\, un flow et une attitude unique. Son sens certain de l’esthétisme et son autodérision\, promettent un show haut en couleurs sur la scène de Bonne Machine. \nBiga*Ranx\, poursuivra la soirée. MC aux influences multiples\, il débute dès l’âge de 13 ans dans le milieu du reggae. Ces sets sont explosifs\, il mêle ragga\, dancehall\, reggae et hip-hop et crée son propre style. Difficile de résister à ses sons et de ne pas danser devant la scène ! \nLa Dodoche à vinyles animera l’événement\, au grès des envies musicales de chacun et pour compléter cette belle soirée\, un espace détente\, des food truck et de la bière artisanale sera installé dans le parc. Pour immortaliser le moment\, un photocall dans une Dodoche aux couleurs de Bonne Machine sera ouvert à l’imagination photographique de chacun !
URL:https://www.yvelines-infos.fr/agenda/festival-bonne-machine-kikesa-et-biga-ranx/
LOCATION:MJC Les Terrasses\, Avenue du Pont\, Conflans St Honorine\, 78700
ATTACH;FMTTYPE=image/jpeg:https://www.yvelines-infos.fr/content/uploads/2019/flyerbonnemachine-1.jpg
ORGANIZER;CN="MJC%20Les%20Terrasses":MAILTO:accueil@mjcconflans.org
GEO:48.9909627;2.0817403
X-APPLE-STRUCTURED-LOCATION;VALUE=URI;X-ADDRESS=MJC Les Terrasses Avenue du Pont Conflans St Honorine 78700;X-APPLE-RADIUS=500;X-TITLE=Avenue du Pont:geo:2.0817403,48.9909627
END:VEVENT
BEGIN:VEVENT
DTSTART;TZID=Europe/Paris:20190914T140000
DTEND;TZID=Europe/Paris:20190915T000000
DTSTAMP:20260422T225753
CREATED:20190905T081944Z
LAST-MODIFIED:20190905T081944Z
UID:361239-1568469600-1568505600@www.yvelines-infos.fr
SUMMARY:Event Street Art
DESCRIPTION:Exposition\, performances\, ateliers street art\, concert\, cinéma \nLa saison 2019-2020 s’ouvre avec un grand événement Street Art. Dans une scénographie ouverte et spécialement conçue pour le parc de la MJC Les Terrasses\, une trentaine d’artistes s’emparent du lieu en extérieur et en intérieur pour une invitation à l’immersion totale avec l’image\, l’individu et la réalité urbaine. De la peinture au pinceau à l’aérosol\, en passant par la sculpture\, les installations vidéo\, le spectacle des performances sous les rythmes du hip-hop : ces créations multiples se déploieront avec la même énergie débordante et le même geste de liberté d’expression. Au vu des différentes facettes du Street Art\, le voyage promet d’être époustouflant. \nEn parallèle de l’événement\, l’artiste et graffeur\,  Yellow vous proposera de customiser vos baskets\, pour les enfants et adolescents un atelier graff sera proposé. \n19h : concert de Malone\, slameur Hip-Hop et  poète engagé\, puis Baky et Flashy\, jeunes rappeurs prometteurs viendront jouer  sur la scène extérieure\, montée pour l’occasion sur les terrasses du château. \n21h30 : Cinéma en plein air\, avec la projection de Girl power\, documentaire réalisé par Sany\, une street artiste\, il traite de la difficulté d’être une femme dans le milieu street art\, on y découvre différents portraits de femmes artistes à travers le monde.
URL:https://www.yvelines-infos.fr/agenda/event-street-art/
LOCATION:MJC Les Terrasses\, Avenue du Pont\, Conflans St Honorine\, 78700
ATTACH;FMTTYPE=image/jpeg:https://www.yvelines-infos.fr/content/uploads/2019/69348599-2505405532853472-7877896282100989952-n.jpg
ORGANIZER;CN="MJC%20Les%20Terrasses":MAILTO:accueil@mjcconflans.org
GEO:48.9909627;2.0817403
X-APPLE-STRUCTURED-LOCATION;VALUE=URI;X-ADDRESS=MJC Les Terrasses Avenue du Pont Conflans St Honorine 78700;X-APPLE-RADIUS=500;X-TITLE=Avenue du Pont:geo:2.0817403,48.9909627
END:VEVENT
BEGIN:VEVENT
DTSTART;TZID=Europe/Paris:20200228T100000
DTEND;TZID=Europe/Paris:20200313T180000
DTSTAMP:20260422T225753
CREATED:20200204T095124Z
LAST-MODIFIED:20200204T095124Z
UID:365088-1582884000-1584122400@www.yvelines-infos.fr
SUMMARY:Exposition – Dans l’univers de l’art digital
DESCRIPTION:Une exposition collective par des artistes qui utilisent comme médium les technologies numériques. Le point commun de la vaste plateforme créative qu’ils proposent est l’interaction de leur expression artistique avec la maîtrise de l’outil informatique.\nUne découverte picturale surprenante\, immersive\, haute en couleurs et en expressivité. Les matières innovantes déployées renforcent cette recherche des effets inattendus pour une créativité toujours plus élaborée. \nVernissage le samedi 29 février 2020 à 17h
URL:https://www.yvelines-infos.fr/agenda/exposition-dans-lunivers-de-lart-digital/
LOCATION:MJC Les Terrasses\, Avenue du Pont\, Conflans St Honorine\, 78700
ATTACH;FMTTYPE=image/jpeg:https://www.yvelines-infos.fr/content/uploads/2020/001.jpg
ORGANIZER;CN="MJC%20Les%20Terrasses":MAILTO:accueil@mjcconflans.org
GEO:48.9909627;2.0817403
X-APPLE-STRUCTURED-LOCATION;VALUE=URI;X-ADDRESS=MJC Les Terrasses Avenue du Pont Conflans St Honorine 78700;X-APPLE-RADIUS=500;X-TITLE=Avenue du Pont:geo:2.0817403,48.9909627
END:VEVENT
BEGIN:VEVENT
DTSTART;TZID=Europe/Paris:20200403T203000
DTEND;TZID=Europe/Paris:20200403T233000
DTSTAMP:20260422T225753
CREATED:20200127T115414Z
LAST-MODIFIED:20200127T115414Z
UID:365018-1585945800-1585956600@www.yvelines-infos.fr
SUMMARY:Concert Noche de cumbia - Los Guerreros & DJ Nahuen
DESCRIPTION:Los Guerreros est le résultat d’une musique hybride\, qui voyage à travers toute l’Amérique du sud et se laisse tenter par des accents rock et ska. Le groupe adapte les classiques de la cumbia\, mais revisite aussi des titres plus actuels auxquels il apporte une saveur latino. \nDj Nahuen\, mélange les genres pour vous sélectionner des rythmes explosifs et calientes. \nUn voyage sans frontières à travers la world musique Latine.
URL:https://www.yvelines-infos.fr/agenda/concert-noche-de-cumbia-los-guerreros-dj-nahuen/
LOCATION:MJC Les Terrasses\, Avenue du Pont\, Conflans St Honorine\, 78700
ATTACH;FMTTYPE=image/jpeg:https://www.yvelines-infos.fr/content/uploads/2020/noche-de-cumbia.jpg
ORGANIZER;CN="MJC%20Les%20Terrasses":MAILTO:accueil@mjcconflans.org
GEO:48.9909627;2.0817403
X-APPLE-STRUCTURED-LOCATION;VALUE=URI;X-ADDRESS=MJC Les Terrasses Avenue du Pont Conflans St Honorine 78700;X-APPLE-RADIUS=500;X-TITLE=Avenue du Pont:geo:2.0817403,48.9909627
END:VEVENT
BEGIN:VEVENT
DTSTART;TZID=Europe/Paris:20200429T150000
DTEND;TZID=Europe/Paris:20200429T160000
DTSTAMP:20260422T225753
CREATED:20200127T115434Z
LAST-MODIFIED:20200127T115434Z
UID:365016-1588172400-1588176000@www.yvelines-infos.fr
SUMMARY:Spectacle jeune public - Blabla des belles bulles
DESCRIPTION:Des chansons pour chatouiller petites et grandes oreilles : une guitare\, deux voix et des bulles qui babillent. Des plumes qui s’envolent\, un chat qui court\, un monstre vert\, le son d’une cloche ou d’une râpe à fromage..\nLes chansons plongent le tout-petit dans un petit monde drôle et poétique. Un moment musical pour enchanter les yeux et les oreilles.
URL:https://www.yvelines-infos.fr/agenda/spectacle-jeune-public-blabla-des-belles-bulles/
LOCATION:MJC Les Terrasses\, Avenue du Pont\, Conflans St Honorine\, 78700
ATTACH;FMTTYPE=image/jpeg:https://www.yvelines-infos.fr/content/uploads/2020/2.jpg
ORGANIZER;CN="MJC%20Les%20Terrasses":MAILTO:accueil@mjcconflans.org
GEO:48.9909627;2.0817403
X-APPLE-STRUCTURED-LOCATION;VALUE=URI;X-ADDRESS=MJC Les Terrasses Avenue du Pont Conflans St Honorine 78700;X-APPLE-RADIUS=500;X-TITLE=Avenue du Pont:geo:2.0817403,48.9909627
END:VEVENT
BEGIN:VEVENT
DTSTART;TZID=Europe/Paris:20200912T140000
DTEND;TZID=Europe/Paris:20200913T180000
DTSTAMP:20260422T225753
CREATED:20200902T102204Z
LAST-MODIFIED:20200902T102255Z
UID:368765-1599919200-1600020000@www.yvelines-infos.fr
SUMMARY:Exposition Event Green Art
DESCRIPTION:Le temps d’un week-end et au-delà\, soyez les bienvenus pour découvrir cette manifestation étincelante sous le label de l’écologie et du bien être. Des artistes\, des plasticiens et des créateurs de tous horizons qui créent avec des matériaux de récupérations ou utilisent des procédés naturels vous invitent à découvrir et à partager l’extraordinaire diversité de leurs créations. \nVous pouvez également devenir acteur pour la défense de notre environnement à travers les multiples ateliers proposés à tous les publics. Dans un esprit festif au rythme du manège sans électricité\, vous êtes invités pour un tatouage zen\, un exercice bien être ou une balade sur l’allée des créateurs de mode\, d’accessoires\, d’objets et de mobilier. Les plus jeunes pourront faire un tour du monde écolo avec un caribou volant\, grâce au spectacle Yapado Yapadam. \nUn événement immanquable\, un souffle green en amour pour la terre et la créativité.
URL:https://www.yvelines-infos.fr/agenda/exposition-event-green-art/
LOCATION:MJC Les Terrasses\, Avenue du Pont\, Conflans St Honorine\, 78700
ATTACH;FMTTYPE=image/jpeg:https://www.yvelines-infos.fr/content/uploads/2020/event-green-romane-annabelle-amaury.jpg
GEO:48.9909627;2.0817403
X-APPLE-STRUCTURED-LOCATION;VALUE=URI;X-ADDRESS=MJC Les Terrasses Avenue du Pont Conflans St Honorine 78700;X-APPLE-RADIUS=500;X-TITLE=Avenue du Pont:geo:2.0817403,48.9909627
END:VEVENT
BEGIN:VEVENT
DTSTART;TZID=Europe/Paris:20201007T143000
DTEND;TZID=Europe/Paris:20201007T160000
DTSTAMP:20260422T225753
CREATED:20200902T102224Z
LAST-MODIFIED:20200902T102224Z
UID:368769-1602081000-1602086400@www.yvelines-infos.fr
SUMMARY:CONTES DE LA NATURE DE LA CIE ROUGE VIVIER – Festival Imago
DESCRIPTION:De l’origine de l’Univers ou des couleurs\, de l’Océanie à la Guyane\, passez d’un continent à l’autre au cours d’une petite balade bilingue LSF-français. Découvrez les mythes et légendes du monde entier au sujet de dame nature. Le spectacle est signé à quatre mains par deux comparses qui ont dans leur besace des histoires fabuleuses qui appellent à préserver la diversité et la beauté du vivant.
URL:https://www.yvelines-infos.fr/agenda/contes-de-la-nature-de-la-cie-rouge-vivier-festival-imago/
LOCATION:MJC Les Terrasses\, Avenue du Pont\, Conflans St Honorine\, 78700
ATTACH;FMTTYPE=image/jpeg:https://www.yvelines-infos.fr/content/uploads/2020/cie-rouge-vivier-154-credit-d-noghero.jpg
GEO:48.9909627;2.0817403
X-APPLE-STRUCTURED-LOCATION;VALUE=URI;X-ADDRESS=MJC Les Terrasses Avenue du Pont Conflans St Honorine 78700;X-APPLE-RADIUS=500;X-TITLE=Avenue du Pont:geo:2.0817403,48.9909627
END:VEVENT
BEGIN:VEVENT
DTSTART;VALUE=DATE:20210320
DTEND;VALUE=DATE:20210416
DTSTAMP:20260422T225753
CREATED:20210308T105743Z
LAST-MODIFIED:20210308T105743Z
UID:373651-1616198400-1618531199@www.yvelines-infos.fr
SUMMARY:Balade du Printemps
DESCRIPTION:« La nuit meurt\, l’hiver fuit; maintenant la lumière » (Poème Après l’hiver\, Victor Hugo) \nSynonyme de renouveau et de renaissance ou même de révolution ! Le printemps sera le thème de cette nouvelle exposition\, présentée dans le parc de la MJC. \n20 mars\, début du printemps et de cette exposition\, qui regroupera plus de 40 artistes. Les interprétations sont multiples et les supports présentés de même : photographie\, bande-dessinée\, aquarelle\, collage et même vidéo\, vous ferons voyager à travers cette balade culturelle. \nArtistes confirmés ou en devenir\, présenteront leurs œuvres dont le thème redonnera espoir et laissera présager l’arrivée des beaux jours …\nParmi les artistes\, nous noterons la présence de Viorel Enache\, Claire Villemin\, Anabelle Amory et bien d’autres encore …
URL:https://www.yvelines-infos.fr/agenda/balade-du-printemps/
LOCATION:MJC Les Terrasses\, Avenue du Pont\, Conflans St Honorine\, 78700
ATTACH;FMTTYPE=image/jpeg:https://www.yvelines-infos.fr/content/uploads/2021/introvertie-a3.jpg
ORGANIZER;CN="MJC%20Les%20Terrasses":MAILTO:accueil@mjcconflans.org
GEO:48.9909627;2.0817403
X-APPLE-STRUCTURED-LOCATION;VALUE=URI;X-ADDRESS=MJC Les Terrasses Avenue du Pont Conflans St Honorine 78700;X-APPLE-RADIUS=500;X-TITLE=Avenue du Pont:geo:2.0817403,48.9909627
END:VEVENT
END:VCALENDAR