BEGIN:VCALENDAR
VERSION:2.0
PRODID:-//Yvelines Infos - ECPv6.0.2//NONSGML v1.0//EN
CALSCALE:GREGORIAN
METHOD:PUBLISH
X-ORIGINAL-URL:https://www.yvelines-infos.fr
X-WR-CALDESC:Évènements pour Yvelines Infos
REFRESH-INTERVAL;VALUE=DURATION:PT1H
X-Robots-Tag:noindex
X-PUBLISHED-TTL:PT1H
BEGIN:VTIMEZONE
TZID:Europe/Paris
BEGIN:DAYLIGHT
TZOFFSETFROM:+0100
TZOFFSETTO:+0200
TZNAME:CEST
DTSTART:20170326T010000
END:DAYLIGHT
BEGIN:STANDARD
TZOFFSETFROM:+0200
TZOFFSETTO:+0100
TZNAME:CET
DTSTART:20171029T010000
END:STANDARD
END:VTIMEZONE
BEGIN:VEVENT
DTSTART;TZID=Europe/Paris:20170916T140000
DTEND;TZID=Europe/Paris:20170916T170000
DTSTAMP:20260423T080113
CREATED:20170915T081324Z
LAST-MODIFIED:20170915T081324Z
UID:343382-1505570400-1505581200@www.yvelines-infos.fr
SUMMARY:Groupes de paroles
DESCRIPTION:L’association AJC pour les droits des victimes de violence morale intra-familiale propose des Groupes de Paroles pour les adultes. \nCes groupes permettent: \n\nde partager son vécu pour sortir de l’isolement et prendre de la distance face à l’agression\,\nde se reconstruire dans un cadre rassurant et solidaire\, porté par le poids du groupe\,\nd’échanger des astuces et des techniques.
URL:https://www.yvelines-infos.fr/agenda/groupes-de-paroles/2017-09-16/
LOCATION:maurepas\, Maurepas\, 78310\, France
ATTACH;FMTTYPE=image/jpeg:https://www.yvelines-infos.fr/content/uploads/2017/bandeau-logo-entier-fb.jpg
GEO:48.7623589;1.945326
END:VEVENT
END:VCALENDAR