BEGIN:VCALENDAR
VERSION:2.0
PRODID:-//Yvelines Infos - ECPv6.0.2//NONSGML v1.0//EN
CALSCALE:GREGORIAN
METHOD:PUBLISH
X-WR-CALNAME:Yvelines Infos
X-ORIGINAL-URL:https://www.yvelines-infos.fr
X-WR-CALDESC:Évènements pour Yvelines Infos
REFRESH-INTERVAL;VALUE=DURATION:PT1H
X-Robots-Tag:noindex
X-PUBLISHED-TTL:PT1H
BEGIN:VTIMEZONE
TZID:Europe/Paris
BEGIN:DAYLIGHT
TZOFFSETFROM:+0100
TZOFFSETTO:+0200
TZNAME:CEST
DTSTART:20170326T010000
END:DAYLIGHT
BEGIN:STANDARD
TZOFFSETFROM:+0200
TZOFFSETTO:+0100
TZNAME:CET
DTSTART:20171029T010000
END:STANDARD
END:VTIMEZONE
BEGIN:VEVENT
DTSTART;TZID=Europe/Paris:20170513T103000
DTEND;TZID=Europe/Paris:20170513T120000
DTSTAMP:20260423T062209
CREATED:20170505T125301Z
LAST-MODIFIED:20170505T125301Z
UID:338347-1494671400-1494676800@www.yvelines-infos.fr
SUMMARY:La Dictée mantaise
DESCRIPTION:Pour la première fois\, la ville de Mantes-la-Jolie vous propose de participer à une dictée géante\, conviviale et intergénérationnelle. \nLe samedi 13 mai\, à 10h30\, au Square Brieussel-Bourgeois\, chacun pourra se mesurer à son niveau puisque différentes catégories sont prévues : les moins de 15 ans\, les 15-25 ans\, les plus de 25 ans et les professionnels de lettres. \nLes copies et les stylos vous attendront sur les tables !
URL:https://www.yvelines-infos.fr/agenda/la-dictee-mantaise/
LOCATION:Mantes-la-Jolie\, 28 rue de Lorraine\, Mantes-la-Jolie\, 78200
ATTACH;FMTTYPE=image/jpeg:https://www.yvelines-infos.fr/content/uploads/2017/afficheweb_dicteemantaise_2017.jpg
ORGANIZER;CN="Ville%20de%20Mantes-la-Jolie":MAILTO:contact@manteslajolie.fr
GEO:48.9881947;1.7143839
X-APPLE-STRUCTURED-LOCATION;VALUE=URI;X-ADDRESS=Mantes-la-Jolie 28 rue de Lorraine Mantes-la-Jolie 78200;X-APPLE-RADIUS=500;X-TITLE=28 rue de Lorraine:geo:1.7143839,48.9881947
END:VEVENT
BEGIN:VEVENT
DTSTART;TZID=Europe/Paris:20170713T220000
DTEND;TZID=Europe/Paris:20170714T010000
DTSTAMP:20260423T062209
CREATED:20170707T143039Z
LAST-MODIFIED:20170707T143039Z
UID:341504-1499983200-1499994000@www.yvelines-infos.fr
SUMMARY:Fête nationale à Mantes-la-Jolie
DESCRIPTION:Venez célébrer la fête nationale en famille ! La Ville de Mantes-la-Jolie vous propose une soirée du 13 juillet riche en animations : \n\n22h / Distribution de lampions au son de la fanfare Los Torpillos dans le Square Brieussel.\n22h30 / Départ de la retraite aux flambeaux vers les Bords de Seine.\n23h / Feu d’artifice sur les Bords de Seine.\n23h30 / Bal Pop’ avec DJ’S sur la place Saint-Maclou.
URL:https://www.yvelines-infos.fr/agenda/fete-nationale-a-mantes-jolie/
LOCATION:Mantes-la-Jolie\, 28 rue de Lorraine\, Mantes-la-Jolie\, 78200
ATTACH;FMTTYPE=image/jpeg:https://www.yvelines-infos.fr/content/uploads/2017/affiche-fete-nationale-2017.jpg
ORGANIZER;CN="Ville%20de%20Mantes-la-Jolie":MAILTO:contact@manteslajolie.fr
GEO:48.9881947;1.7143839
X-APPLE-STRUCTURED-LOCATION;VALUE=URI;X-ADDRESS=Mantes-la-Jolie 28 rue de Lorraine Mantes-la-Jolie 78200;X-APPLE-RADIUS=500;X-TITLE=28 rue de Lorraine:geo:1.7143839,48.9881947
END:VEVENT
BEGIN:VEVENT
DTSTART;VALUE=DATE:20171001
DTEND;VALUE=DATE:20171002
DTSTAMP:20260423T062209
CREATED:20170908T081910Z
LAST-MODIFIED:20170908T081910Z
UID:343098-1506816000-1506902399@www.yvelines-infos.fr
SUMMARY:Mantes et Compagnie
DESCRIPTION:Mantes et compagnie revient pour sa 3ème édition au Parc Expo le dimanche 1er octobre. De nombreuses races de chiens et de chats seront présentes pour le plus grand plaisir des amoureux des animaux. Cette année\, l’accent sera mis sur les métiers animaliers et vous pourrez rencontrer un ostéopathe\, des éducateurs\, des comportementalistes… \nLa journée sera ponctuée de nombreuses animations : initiations d’agility\, poste aérienne avec un lâcher de pigeons voyageurs mais également des démonstrations d’obéissance. L’association « Handi’chiens » vous montrera comment les animaux deviennent des partenaires indispensables aux personnes en situation de handicap. \n 
URL:https://www.yvelines-infos.fr/agenda/mantes-et-compagnie/
LOCATION:Mantes-la-Jolie\, 28 rue de Lorraine\, Mantes-la-Jolie\, 78200
ATTACH;FMTTYPE=image/jpeg:https://www.yvelines-infos.fr/content/uploads/2017/affiche_A4_mantescie_2017-e1504858733739.jpg
ORGANIZER;CN="Ville%20de%20Mantes-la-Jolie":MAILTO:contact@manteslajolie.fr
GEO:48.9881947;1.7143839
X-APPLE-STRUCTURED-LOCATION;VALUE=URI;X-ADDRESS=Mantes-la-Jolie 28 rue de Lorraine Mantes-la-Jolie 78200;X-APPLE-RADIUS=500;X-TITLE=28 rue de Lorraine:geo:1.7143839,48.9881947
END:VEVENT
END:VCALENDAR