BEGIN:VCALENDAR
VERSION:2.0
PRODID:-//Yvelines Infos - ECPv6.0.2//NONSGML v1.0//EN
CALSCALE:GREGORIAN
METHOD:PUBLISH
X-ORIGINAL-URL:https://www.yvelines-infos.fr
X-WR-CALDESC:Évènements pour Yvelines Infos
REFRESH-INTERVAL;VALUE=DURATION:PT1H
X-Robots-Tag:noindex
X-PUBLISHED-TTL:PT1H
BEGIN:VTIMEZONE
TZID:Europe/Paris
BEGIN:DAYLIGHT
TZOFFSETFROM:+0100
TZOFFSETTO:+0200
TZNAME:CEST
DTSTART:20210328T010000
END:DAYLIGHT
BEGIN:STANDARD
TZOFFSETFROM:+0200
TZOFFSETTO:+0100
TZNAME:CET
DTSTART:20211031T010000
END:STANDARD
END:VTIMEZONE
BEGIN:VEVENT
DTSTART;TZID=Europe/Paris:20211126T140000
DTEND;TZID=Europe/Paris:20211205T180000
DTSTAMP:20260423T040247
CREATED:20211109T151343Z
LAST-MODIFIED:20211109T151343Z
UID:380916-1637935200-1638727200@www.yvelines-infos.fr
SUMMARY:Expo Jean-Luc Decron
DESCRIPTION:Venez découvrir l’exposition de Jean-Luc Decron du vendredi 26 novembre au dimanche 5 décembre de 14h à 18h à la Maison des Bonheur. \nInstituteur de profession\, c’est par le carnet de voyage que Jean-Luc Decron a fait ses premiers pas en aquarelle. Depuis\, il travaille beaucoup les portraits\, défi Ô combien périlleux… Jean-Luc participe à de nombreux salons en France et à l’étranger. \nDécouvrez les portraits mais aussi les lieux de balades ou voyages de cet artiste invité dans le cadre de la master-class de l’association Eaux & Lavis. \nVernissage le vendredi 26 novembre\, à 18h.
URL:https://www.yvelines-infos.fr/agenda/expo-jean-luc-decron/
LOCATION:Maison des Bonheur\, 2 rue Ernest Chausson\, Magny-les-Hameaux\, 78114
ATTACH;FMTTYPE=image/jpeg:https://www.yvelines-infos.fr/content/uploads/2021/p-16-jean-luc-decron.jpg
END:VEVENT
END:VCALENDAR