BEGIN:VCALENDAR
VERSION:2.0
PRODID:-//Yvelines Infos - ECPv6.0.2//NONSGML v1.0//EN
CALSCALE:GREGORIAN
METHOD:PUBLISH
X-WR-CALNAME:Yvelines Infos
X-ORIGINAL-URL:https://www.yvelines-infos.fr
X-WR-CALDESC:Évènements pour Yvelines Infos
REFRESH-INTERVAL;VALUE=DURATION:PT1H
X-Robots-Tag:noindex
X-PUBLISHED-TTL:PT1H
BEGIN:VTIMEZONE
TZID:Europe/Paris
BEGIN:DAYLIGHT
TZOFFSETFROM:+0100
TZOFFSETTO:+0200
TZNAME:CEST
DTSTART:20220327T010000
END:DAYLIGHT
BEGIN:STANDARD
TZOFFSETFROM:+0200
TZOFFSETTO:+0100
TZNAME:CET
DTSTART:20221030T010000
END:STANDARD
END:VTIMEZONE
BEGIN:VEVENT
DTSTART;TZID=Europe/Paris:20220126T100000
DTEND;TZID=Europe/Paris:20220126T113000
DTSTAMP:20260423T081222
CREATED:20211227T100320Z
LAST-MODIFIED:20211227T100320Z
UID:382604-1643191200-1643196600@www.yvelines-infos.fr
SUMMARY:VISITE DE LA MAISON D’EDUCATION DE LA LEGION D’HONNEUR
DESCRIPTION:Située au cœur de la forêt de Saint-Germain\, dans l’ancien couvent des Loges\, la maison d’Éducation des Loges est l’un des établissements fondés par Napoléon 1er pour l’instruction des jeunes filles dès 1810. Aujourd’hui encore\, elle accueille 500 élèves\, descendantes de décorés\, de la 6ème à la 3ème. \nDurant cette visite commentée\, vous entrerez dans la cour d’honneur\, la chapelle\, les lieux de vie des élèves\, les dortoirs et le parc de 8 hectares. Présentation d’une pièce d’identité valide. \nInformations pratiques \n\nDurée : 1h30\nTarif : 7€/personne – A partir de 12 ans\nMaison d’Education de la Légion d’Honneur\, Route des Loges\, 78100 Saint-Germain-en-Laye\nPar les élèves de la Maison d’Education de la Légion d’Honneur\nRéservation obligatoire auprès de l’Office de Tourisme Intercommunal Saint Germain Boucles de Seine
URL:https://www.yvelines-infos.fr/agenda/visite-de-la-maison-deducation-de-la-legion-dhonneur/
LOCATION:Maison d’éducation de la Légion d’Honneur des Loges\, Route des Loges\, Saint-Germain-en-Laye\, 78100
ATTACH;FMTTYPE=image/jpeg:https://www.yvelines-infos.fr/content/uploads/2021/maisoneducationlegiondhonneurotisgbs2021-2bd.jpg
ORGANIZER;CN="Office%20de%20Tourisme%20Saint%20Germain%20Boucles%20de%20Seine":MAILTO:info@seine-saintgermain.fr
END:VEVENT
END:VCALENDAR