BEGIN:VCALENDAR
VERSION:2.0
PRODID:-//Yvelines Infos - ECPv6.0.2//NONSGML v1.0//EN
CALSCALE:GREGORIAN
METHOD:PUBLISH
X-WR-CALNAME:Yvelines Infos
X-ORIGINAL-URL:https://www.yvelines-infos.fr
X-WR-CALDESC:Évènements pour Yvelines Infos
REFRESH-INTERVAL;VALUE=DURATION:PT1H
X-Robots-Tag:noindex
X-PUBLISHED-TTL:PT1H
BEGIN:VTIMEZONE
TZID:Europe/Paris
BEGIN:DAYLIGHT
TZOFFSETFROM:+0100
TZOFFSETTO:+0200
TZNAME:CEST
DTSTART:20220327T010000
END:DAYLIGHT
BEGIN:STANDARD
TZOFFSETFROM:+0200
TZOFFSETTO:+0100
TZNAME:CET
DTSTART:20221030T010000
END:STANDARD
END:VTIMEZONE
BEGIN:VEVENT
DTSTART;TZID=Europe/Paris:20220519T090000
DTEND;TZID=Europe/Paris:20220519T173000
DTSTAMP:20260422T172033
CREATED:20220511T125142Z
LAST-MODIFIED:20220511T125142Z
UID:385947-1652950800-1652981400@www.yvelines-infos.fr
SUMMARY:Colloque "Au cœur des violences\, les jeunes prennent la parole"
DESCRIPTION:Jeudi 19 mai\, l’Institut Women Safe & Children organise son 3ème colloque : “Au cœur des violences\, les jeunes prennent la parole” et poursuit son engagement auprès des nouvelles générations\, qui composent et construisent le monde de demain. \n\n\nMarrainée par Florence Foresti\, l’Institut agit depuis 2014 pour les femmes et les mineur.e.s victimes ou témoins de violences quel que soit le lieu où elles ont été perpétrées. C’est un lieu d’accueil\, d’écoute et d’accompagnement et également une structure de formation et de sensibilisation sur le sujet des violences. Cette année\, l’association poursuit son engagement en donnant la parole aux nouvelles générations\, qui composent et construisent le monde de demain. \nTout autant exposés aux violences\, les jeunes sont\, eux aussi\, confrontés à des problématiques majeures : la cyberviolence\, les violences conjugales ou de façon plus globale les violences systémiques. Ce colloque rassemble un grand nombre d’expert.e.s autour de plusieurs thématiques : violences\, quelles formes prennent-elle\, quels sont leurs impacts sur la santé et l’avenir de ces jeunes\, que pouvons-nous faire ? \nOuvert à tous\, colloque en format hybride : à Saint-Germain-en-Laye ou en visio. \nInformations et réservations  : www.women-safe.org \n\n 
URL:https://www.yvelines-infos.fr/agenda/colloque-au-coeur-des-violences-les-jeunes-prennent-la-parole/
LOCATION:Mairiede SaintGermainenLaye\, 16 rue de Pontoise\, Saint-Germain-en-Laye\, 78100
ATTACH;FMTTYPE=image/png:https://www.yvelines-infos.fr/content/uploads/2022/affiche-validee.png
ORGANIZER;CN="WomenSafe%26amp%3Bamp%3BChildren":MAILTO:accueil@women-safe.org
END:VEVENT
END:VCALENDAR