BEGIN:VCALENDAR
VERSION:2.0
PRODID:-//Yvelines Infos - ECPv6.0.2//NONSGML v1.0//EN
CALSCALE:GREGORIAN
METHOD:PUBLISH
X-WR-CALNAME:Yvelines Infos
X-ORIGINAL-URL:https://www.yvelines-infos.fr
X-WR-CALDESC:Évènements pour Yvelines Infos
REFRESH-INTERVAL;VALUE=DURATION:PT1H
X-Robots-Tag:noindex
X-PUBLISHED-TTL:PT1H
BEGIN:VTIMEZONE
TZID:Europe/Paris
BEGIN:DAYLIGHT
TZOFFSETFROM:+0100
TZOFFSETTO:+0200
TZNAME:CEST
DTSTART:20200329T010000
END:DAYLIGHT
BEGIN:STANDARD
TZOFFSETFROM:+0200
TZOFFSETTO:+0100
TZNAME:CET
DTSTART:20201025T010000
END:STANDARD
END:VTIMEZONE
BEGIN:VEVENT
DTSTART;TZID=Europe/Paris:20200321T143000
DTEND;TZID=Europe/Paris:20200321T170000
DTSTAMP:20260423T074120
CREATED:20200106T114949Z
LAST-MODIFIED:20200106T114949Z
UID:364429-1584801000-1584810000@www.yvelines-infos.fr
SUMMARY:Du "port de la loge" au "poumon vert"
DESCRIPTION:Le Port-Marly\, dont les activités furent liées à la Seine et à Versailles\, a\, depuis l’époque romaine\, une longue histoire. Au cours de cette randonnée seront évoqués la présence d’Alexandre Dumas sur les coteaux de Montferrand et les peintres Corot\, Sisley\, Vlaminck posant leur chevalet sur les rives du fleuve face à l’Île de la Loge. Cette dernière est accessible depuis 2017 grâce à la passerelle\, que vous emprunterez pour découvrir le parc écologique\, « le Poumon Vert » des Marlyportains. \nPar Sylvie Dubois\, guide de l’association Rando’thèmes \nDurée : 3h00 – environ 9 km \n 
URL:https://www.yvelines-infos.fr/agenda/du-port-de-la-loge-au-poumon-vert/
LOCATION:Mairie du Port-Marly\, 13 Avenue Simon Vouet\, Le Port-Marly\, 78560\, France
ATTACH;FMTTYPE=image/jpeg:https://www.yvelines-infos.fr/content/uploads/2020/leport-marlyotisgbs2019.jpg
ORGANIZER;CN="Office%20de%20Tourisme%20Saint%20Germain%20Boucles%20de%20Seine":MAILTO:info@seine-saintgermain.fr
END:VEVENT
END:VCALENDAR