BEGIN:VCALENDAR
VERSION:2.0
PRODID:-//Yvelines Infos - ECPv6.0.2//NONSGML v1.0//EN
CALSCALE:GREGORIAN
METHOD:PUBLISH
X-ORIGINAL-URL:https://www.yvelines-infos.fr
X-WR-CALDESC:Évènements pour Yvelines Infos
REFRESH-INTERVAL;VALUE=DURATION:PT1H
X-Robots-Tag:noindex
X-PUBLISHED-TTL:PT1H
BEGIN:VTIMEZONE
TZID:Europe/Paris
BEGIN:DAYLIGHT
TZOFFSETFROM:+0100
TZOFFSETTO:+0200
TZNAME:CEST
DTSTART:20200329T010000
END:DAYLIGHT
BEGIN:STANDARD
TZOFFSETFROM:+0200
TZOFFSETTO:+0100
TZNAME:CET
DTSTART:20201025T010000
END:STANDARD
END:VTIMEZONE
BEGIN:VEVENT
DTSTART;TZID=Europe/Paris:20200517T090000
DTEND;TZID=Europe/Paris:20200517T140000
DTSTAMP:20260423T024737
CREATED:20200114T102341Z
LAST-MODIFIED:20200114T102341Z
UID:364475-1589706000-1589724000@www.yvelines-infos.fr
SUMMARY:Trail de l'Orangerie de Bonnelles
DESCRIPTION:La 8ème édition du Trail de l’Orangerie de Bonnelles aura lieu le dimanche 17 mai 2020. Cette manifestation est organisée par la Caisse des Écoles avec le concours de la Mairie de Bonnelles et tous les bénéfices servent à financer des aides et des projets pédagogiques pour les enfants scolarisés dans les écoles primaires du village. Chaque année 850 participants se donne rendez-vous pour parcourir les sentiers de la Vallée de Chevreuse sur deux distances : une de 18 km ouverte à la course\, marche nordique et marche à allure libre et une de 39 km uniquement course. Ouverture des inscriptions le 6 janvier 2020\, pour vous inscrire à ce trail ou participer en tant que bénévole\, rendez-vous sur le blog du Trail https://trailorangeriedebonnelles.jimdo.com/.
URL:https://www.yvelines-infos.fr/agenda/trail-de-lorangerie-de-bonnelles/
LOCATION:Mairie de Bonnelles\, 22 Rue de la Libération\, Bonnelles\, 78830\, France
ATTACH;FMTTYPE=image/jpeg:https://www.yvelines-infos.fr/content/uploads/2020/affiche-trail-2020.jpeg
ORGANIZER;CN="Caisse%20des%20Ecoles%20de%20Bonnelles":MAILTO:trail.bonnelles@gmail.com
END:VEVENT
END:VCALENDAR