BEGIN:VCALENDAR
VERSION:2.0
PRODID:-//Yvelines Infos - ECPv6.0.2//NONSGML v1.0//EN
CALSCALE:GREGORIAN
METHOD:PUBLISH
X-ORIGINAL-URL:https://www.yvelines-infos.fr
X-WR-CALDESC:Évènements pour Yvelines Infos
REFRESH-INTERVAL;VALUE=DURATION:PT1H
X-Robots-Tag:noindex
X-PUBLISHED-TTL:PT1H
BEGIN:VTIMEZONE
TZID:Europe/Paris
BEGIN:DAYLIGHT
TZOFFSETFROM:+0100
TZOFFSETTO:+0200
TZNAME:CEST
DTSTART:20190331T010000
END:DAYLIGHT
BEGIN:STANDARD
TZOFFSETFROM:+0200
TZOFFSETTO:+0100
TZNAME:CET
DTSTART:20191027T010000
END:STANDARD
END:VTIMEZONE
BEGIN:VEVENT
DTSTART;TZID=Europe/Paris:20190518T143000
DTEND;TZID=Europe/Paris:20190518T160000
DTSTAMP:20260423T040231
CREATED:20190509T090523Z
LAST-MODIFIED:20190509T090523Z
UID:358386-1558189800-1558195200@www.yvelines-infos.fr
SUMMARY:Renoir et ses amis à Louveciennes
DESCRIPTION:Les parents de Renoir quittent Paris en 1868\, pour s’installer à Louveciennes. Renoir\, qui vient souvent les voir\, aime le village et le fait découvrir à ses amis Pissarro et Sisley… \nEnsemble ou séparément\, ils peignent Louveciennes : Gel à Louveciennes de Sisley\, Châtaigniers à Louveciennes de Pissarro\, Route de Louveciennes\, neige fondante\, soleil couchant de Monet\, Vue de Louveciennes de Renoir… Ses chefs-d’œuvre sont le témoignage vibrant du Louveciennes d’antan\, qui a su conserver ses allures de village !
URL:https://www.yvelines-infos.fr/agenda/renoir-et-ses-amis-a-louveciennes/
LOCATION:Louveciennes\, Avenue Saint Martin\, Louveciennes\, Renoir et ses amis à Louveciennes Avenue Saint Martin 78430\, France
ATTACH;FMTTYPE=image/png:https://www.yvelines-infos.fr/content/uploads/2019/capture-decran-2019-05-09-a-11-02-39.png
ORGANIZER;CN="Office%20de%20Tourisme%20Saint%20Germain%20Boucles%20de%20Seine":MAILTO:info@seine-saintgermain.fr
END:VEVENT
END:VCALENDAR