BEGIN:VCALENDAR
VERSION:2.0
PRODID:-//Yvelines Infos - ECPv6.0.2//NONSGML v1.0//EN
CALSCALE:GREGORIAN
METHOD:PUBLISH
X-WR-CALNAME:Yvelines Infos
X-ORIGINAL-URL:https://www.yvelines-infos.fr
X-WR-CALDESC:Évènements pour Yvelines Infos
REFRESH-INTERVAL;VALUE=DURATION:PT1H
X-Robots-Tag:noindex
X-PUBLISHED-TTL:PT1H
BEGIN:VTIMEZONE
TZID:Europe/Paris
BEGIN:DAYLIGHT
TZOFFSETFROM:+0100
TZOFFSETTO:+0200
TZNAME:CEST
DTSTART:20170326T010000
END:DAYLIGHT
BEGIN:STANDARD
TZOFFSETFROM:+0200
TZOFFSETTO:+0100
TZNAME:CET
DTSTART:20171029T010000
END:STANDARD
BEGIN:DAYLIGHT
TZOFFSETFROM:+0100
TZOFFSETTO:+0200
TZNAME:CEST
DTSTART:20180325T010000
END:DAYLIGHT
BEGIN:STANDARD
TZOFFSETFROM:+0200
TZOFFSETTO:+0100
TZNAME:CET
DTSTART:20181028T010000
END:STANDARD
END:VTIMEZONE
BEGIN:VEVENT
DTSTART;TZID=Europe/Paris:20171202T150000
DTEND;TZID=Europe/Paris:20171202T150000
DTSTAMP:20260423T015034
CREATED:20171128T105042Z
LAST-MODIFIED:20171128T105141Z
UID:345892-1512226800-1512226800@www.yvelines-infos.fr
SUMMARY:Le Sapin de l’Onde
DESCRIPTION:Le duo d’artistes Grout/Mazeas investit le grand hall de l’Onde avec un gigantesque sapin de guirlandes\, dont la structure inversée rappelle les œuvres suspendues de Jesús-Rafael Soto. \nJouant sur l’opposition entre l’aspect clinquant et joyeux de l’installation et les sensations inquiétantes qu’elle procure par sa traversée aveugle\, les artistes proposent de vivre en miniature l’expérience d’une errance en forêt. \nLes ateliers du Sapin : les enfants dès l’âge de 2 ans et leurs accompagnateurs sont invités à participer à des ateliers autour du Sapin de l’Onde. Immergez-vous dans le monde mystérieux et sauvage de la forêt !\nSamedi 2 décembre\, 15h\nSamedis 9 et 16 décembre\, 11h30 et 14h30\nMercredis 6\, 13 et 20 décembre\, 14h30
URL:https://www.yvelines-infos.fr/agenda/sapin-de-londe/
LOCATION:L'Onde\, 8 bis\, avenue Louis Breguet\, Vélizy-Villacoublay\, 78140
ATTACH;FMTTYPE=image/jpeg:https://www.yvelines-infos.fr/content/uploads/2017/Sapin-Grout-Mazeas-paysage-2.jpg
GEO:48.7822173;2.1800377
X-APPLE-STRUCTURED-LOCATION;VALUE=URI;X-ADDRESS=L'Onde 8 bis avenue Louis Breguet Vélizy-Villacoublay 78140;X-APPLE-RADIUS=500;X-TITLE=8 bis\, avenue Louis Breguet:geo:2.1800377,48.7822173
END:VEVENT
BEGIN:VEVENT
DTSTART;TZID=Europe/Paris:20180127T000000
DTEND;TZID=Europe/Paris:20180324T000000
DTSTAMP:20260423T015034
CREATED:20180119T151154Z
LAST-MODIFIED:20180119T151154Z
UID:346789-1517011200-1521849600@www.yvelines-infos.fr
SUMMARY:Comme un frisson assoupi
DESCRIPTION:Il est difficile de présager de la richesse des expériences et des échanges de savoirs techniques\, scientifiques et artistiques qui se déroulent sur un territoire. Le Centre d’art de l’Onde situé à proximité de plusieurs sites universitaires (Paris-Saclay\, Saint-Quentin-en-Yvelines\, Versailles…)\, a été le témoin d’une montée en puissance des collaborations entre art et science\, révélant autant aux artistes la possibilité de puiser dans la technologie des matériaux de création qu’aux scientifiques la dimension créative de leurs recherches. \nOuvert aux dialogues avec de nouveaux champs de connaissances\, le travail de Karine Bonneval et Julie C. Fortier s’appuie sur les ressources de la nature et de la science pour nourrir une recherche portant sur une nouvelle façon de donner à voir et à percevoir. Suggérant dans son titre un murmure\, une parole chuchotée ou une sensation épidermique\, l’exposition « Comme un frisson assoupi » invite à parcourir deux environnements\, deux parcours singuliers\, prenant comme point de rencontre la force de leur capacité à renouveler l’expérience d’une contemplation multiple faisant appel aux sens.
URL:https://www.yvelines-infos.fr/agenda/comme-un-frisson-assoupi/
LOCATION:L'Onde\, 8 bis\, avenue Louis Breguet\, Vélizy-Villacoublay\, 78140
ATTACH;FMTTYPE=image/jpeg:https://www.yvelines-infos.fr/content/uploads/2018/cristallisation-1.jpg
GEO:48.7822173;2.1800377
X-APPLE-STRUCTURED-LOCATION;VALUE=URI;X-ADDRESS=L'Onde 8 bis avenue Louis Breguet Vélizy-Villacoublay 78140;X-APPLE-RADIUS=500;X-TITLE=8 bis\, avenue Louis Breguet:geo:2.1800377,48.7822173
END:VEVENT
BEGIN:VEVENT
DTSTART;TZID=Europe/Paris:20180407T150000
DTEND;TZID=Europe/Paris:20180630T183000
DTSTAMP:20260423T015034
CREATED:20180425T142940Z
LAST-MODIFIED:20180425T143646Z
UID:349338-1523113200-1530383400@www.yvelines-infos.fr
SUMMARY:Kodomo No Kuni - Enfance et aires de jeux au Japon
DESCRIPTION:Après l’exposition Aires de jeux – Contre-emplacements en 2010\, Micro Onde invite de nouveau le commissaire indépendant Vincent Romagny à poursuivre ses réflexions sur les liens entre les aires de jeux pour enfants et certaines formes présentes dans l’art contemporain. \n\n\n\n\n\n\n« Kodomo No Kuni » (« le pays des enfants » en japonais) est le nom d’un parc dont l’inauguration en 1965 a été l’occasion d’une déclaration du gouvernement japonais\, mettant un terme officiel aux reconstructions de l’après Seconde Guerre mondiale. « Kodomo No Kuni » est ainsi\, métaphoriquement\, le signe du recours à l’enfance suite aux destructions qu’ont pu occasionner l’histoire ou des catastrophes naturelles.\nL’exposition éponyme propose une traversée sélective dans l’histoire des formes de l’aire de jeux de l’après-guerre\, et dans l’art contemporain au Japon. Elle nous propose de découvrir des jeunes artistes japonais qui portent une attention particulière aux questions de l’enfance et de la mémoire. \nAvec les œuvres de Kasumi FUJISAWA\, Le Gentil Garçon\, Fujio KITO\, Isamu NOGUCHI\, Tadashi ONO\, Kohei SASAHARA\, Mitsuru SENDA\, SHIMABUKU\, Mayu SOEDA\, Constance SOREL\, Soni TAKEURA\, Mutsumi TSUDA et Yohei YAMAKADO.
URL:https://www.yvelines-infos.fr/agenda/kodomo-no-kuni-enfance-aires-de-jeux-japon/2018-04-07/
LOCATION:L'Onde\, 8 bis\, avenue Louis Breguet\, Vélizy-Villacoublay\, 78140
ATTACH;FMTTYPE=image/jpeg:https://www.yvelines-infos.fr/content/uploads/2018/children-dancing-with-dwarfs-hats-after-the-opening-ceremony-of-kodomonokuni-on-may-51965-bd.jpg
ORGANIZER;CN="L%27Onde%20Th%C3%A9%C3%A2tre%20Centre%20d%27art":MAILTO:microonde@londe.fr
GEO:48.7822173;2.1800377
X-APPLE-STRUCTURED-LOCATION;VALUE=URI;X-ADDRESS=L'Onde 8 bis avenue Louis Breguet Vélizy-Villacoublay 78140;X-APPLE-RADIUS=500;X-TITLE=8 bis\, avenue Louis Breguet:geo:2.1800377,48.7822173
END:VEVENT
BEGIN:VEVENT
DTSTART;TZID=Europe/Paris:20181005T193000
DTEND;TZID=Europe/Paris:20181005T213000
DTSTAMP:20260423T015034
CREATED:20180917T095929Z
LAST-MODIFIED:20180917T095929Z
UID:352612-1538767800-1538775000@www.yvelines-infos.fr
SUMMARY:Gwendoline Robin - Vernissage et performance
DESCRIPTION:SOUS LES LUNES DE JUPITER\nGWENDOLINE ROBIN\nExposition du 6 octobre au 24 novembre 2018\nGalerie et rue traversante \nVernissage – performance le vendredi 5 octobre à 19h30\nPendant le vernissage\, Gwendoline Robin présentera une performance inédite\, Sous les lunes de Jupiter\, d’une durée de 30 minutes\nEntrée libre \nNavette gratuite au départ de Paris-Concorde\, devant l’Hôtel Crillon\, à 18h30. Réservation obligatoire : 01 78 74 39 17 / 06 19 77 32 89 ou microonde@londe.fr \n—————————————————————————————— \nGwendoline Robin joue avec les matières (terre\, pierre\, eau\, air\, verre\, poudre noire…)\, dont elle explore les potentialités d’assemblage par la mise en place d’actions orchestrant télescopages physiques et réactions chimiques. \nQuand elle découvre le désert d’Atacama au Chili en 2014\, Gwendoline Robin s’intéresse de plus près à ces paysages de sel\, ses geysers et ses observatoires astronomiques. Plus tard\, elle découvre les recherches d’un astronome et d’un océanographe qui observent les océans déchaînés\, les mers congelées des lunes de Jupiter\, les paysages arctiques\, les mares acides\, les carottes de glace\, les pluies de météorites… Ces paysages nourrissent son imaginaire et engagent la création de nouvelles installations en pleine ébullition\, auxquelles participe la métamorphose des matières. \nL’exposition s’élabore à partir de 3 actions pendant lesquelles le public peut assister à la mutation des éléments : \nCratère n°6899 – Vendredi 19 octobre à 19h suivi d’une rencontre entre Gwendoline Robin et Ludovic Moreau\, secrétaire général de l’Onde.\nEntrée libre\, sur réservation à la billetterie de l’Onde et sur www.londe.fr \nConfluence n°1 / Incidence 1327 – Vendredi 16 novembre à 20h30\nInformation / réservation à la billetterie de l’Onde et sur www.londe.fr \n——————————————————————————————\nMicro Onde\, Centre d’art de l’Onde\nEntrée libre\nMardi – Vendredi : 13h – 18h30 ; Samedi : 11h – 16h\nLe centre d’art est également ouvert les soirs de spectacle\, une heure avant les représentations. Pendant les vacances scolaires\, les expositions sont accessibles seulement sur rendez-vous.
URL:https://www.yvelines-infos.fr/agenda/gwendoline-robin-vernissage-performance/
LOCATION:L'Onde\, 8 bis\, avenue Louis Breguet\, Vélizy-Villacoublay\, 78140
ATTACH;FMTTYPE=image/jpeg:https://www.yvelines-infos.fr/content/uploads/2018/composition-spontanee-2016-gwendoline-robin.jpg
ORGANIZER;CN="L%27Onde":MAILTO:microonde@londe.fr
GEO:48.7822173;2.1800377
X-APPLE-STRUCTURED-LOCATION;VALUE=URI;X-ADDRESS=L'Onde 8 bis avenue Louis Breguet Vélizy-Villacoublay 78140;X-APPLE-RADIUS=500;X-TITLE=8 bis\, avenue Louis Breguet:geo:2.1800377,48.7822173
END:VEVENT
END:VCALENDAR