BEGIN:VCALENDAR
VERSION:2.0
PRODID:-//Yvelines Infos - ECPv6.0.2//NONSGML v1.0//EN
CALSCALE:GREGORIAN
METHOD:PUBLISH
X-ORIGINAL-URL:https://www.yvelines-infos.fr
X-WR-CALDESC:Évènements pour Yvelines Infos
REFRESH-INTERVAL;VALUE=DURATION:PT1H
X-Robots-Tag:noindex
X-PUBLISHED-TTL:PT1H
BEGIN:VTIMEZONE
TZID:Europe/Paris
BEGIN:DAYLIGHT
TZOFFSETFROM:+0100
TZOFFSETTO:+0200
TZNAME:CEST
DTSTART:20170326T010000
END:DAYLIGHT
BEGIN:STANDARD
TZOFFSETFROM:+0200
TZOFFSETTO:+0100
TZNAME:CET
DTSTART:20171029T010000
END:STANDARD
END:VTIMEZONE
BEGIN:VEVENT
DTSTART;TZID=Europe/Paris:20170520T150000
DTEND;TZID=Europe/Paris:20170520T173000
DTSTAMP:20260423T121603
CREATED:20170505T091245Z
LAST-MODIFIED:20170505T091245Z
UID:338939-1495292400-1495301400@www.yvelines-infos.fr
SUMMARY:Regards Croisés
DESCRIPTION:Dans le cadre de l’exposition 1977\, l’artiste Pierre Leguillon propose\, à partir d’une sélection d’objets-témoins\, la rétrospective vivante d’une partie des œuvres\, interventions\, actions qu’il a produites sur\, avec ou contre le Centre Pompidou depuis le début des années 1990.\nEn dialogue avec Yann Chateigné\, qui a conçu l’exposition\, chaque objet sera interprété\, activé et parfois installé dans l’exposition. Imaginé comme l’accrochage d’une exposition en public\, ce dialogue sera également l’occasion d’interventions d’étudiant-e-s de la HEAD–Genève\, invité-e-s parmi d’autres personnes à mettre en œuvre un souvenir de « Beaubourg ». Cette après-midi d’échanges est enfin l’occasion pour le public de participer à cette conversation de manière active\, à cette relecture à plusieurs voix de l’exposition et des histoires sous-jacentes qu’elle explore. \n* Navette gratuite au départ de Paris-Concorde.\nRéservation obligatoire 01 78 74 39 17 — 06 19 77 32 89\nmicroonde@londe.fr
URL:https://www.yvelines-infos.fr/agenda/regards-croises/
LOCATION:L’Onde Théâtre Centre d’art\, 8 bis\, avenue Louis Breguet\, Vélizy-Villacoublay\, France\, 78140\, France
ATTACH;FMTTYPE=image/jpeg:https://www.yvelines-infos.fr/content/uploads/2017/pierre-leguillon-grille-du-nouveau-festival-2009-1.jpg
ORGANIZER;CN="L%27Onde%20Th%C3%A9%C3%A2tre%20Centre%20d%27art":MAILTO:labilletterie@londe.fr
GEO:48.7822173;2.1800377
X-APPLE-STRUCTURED-LOCATION;VALUE=URI;X-ADDRESS=L’Onde Théâtre Centre d’art 8 bis avenue Louis Breguet Vélizy-Villacoublay France 78140 France;X-APPLE-RADIUS=500;X-TITLE=8 bis\, avenue Louis Breguet:geo:2.1800377,48.7822173
END:VEVENT
END:VCALENDAR