BEGIN:VCALENDAR
VERSION:2.0
PRODID:-//Yvelines Infos - ECPv6.0.2//NONSGML v1.0//EN
CALSCALE:GREGORIAN
METHOD:PUBLISH
X-ORIGINAL-URL:https://www.yvelines-infos.fr
X-WR-CALDESC:Évènements pour Yvelines Infos
REFRESH-INTERVAL;VALUE=DURATION:PT1H
X-Robots-Tag:noindex
X-PUBLISHED-TTL:PT1H
BEGIN:VTIMEZONE
TZID:Europe/Paris
BEGIN:DAYLIGHT
TZOFFSETFROM:+0100
TZOFFSETTO:+0200
TZNAME:CEST
DTSTART:20180325T010000
END:DAYLIGHT
BEGIN:STANDARD
TZOFFSETFROM:+0200
TZOFFSETTO:+0100
TZNAME:CET
DTSTART:20181028T010000
END:STANDARD
BEGIN:DAYLIGHT
TZOFFSETFROM:+0100
TZOFFSETTO:+0200
TZNAME:CEST
DTSTART:20190331T010000
END:DAYLIGHT
BEGIN:STANDARD
TZOFFSETFROM:+0200
TZOFFSETTO:+0100
TZNAME:CET
DTSTART:20191027T010000
END:STANDARD
BEGIN:DAYLIGHT
TZOFFSETFROM:+0100
TZOFFSETTO:+0200
TZNAME:CEST
DTSTART:20200329T010000
END:DAYLIGHT
BEGIN:STANDARD
TZOFFSETFROM:+0200
TZOFFSETTO:+0100
TZNAME:CET
DTSTART:20201025T010000
END:STANDARD
END:VTIMEZONE
BEGIN:VEVENT
DTSTART;VALUE=DATE:20180527
DTEND;VALUE=DATE:20180528
DTSTAMP:20260423T090030
CREATED:20180525T151402Z
LAST-MODIFIED:20180525T151402Z
UID:350449-1527379200-1527465599@www.yvelines-infos.fr
SUMMARY:Seine en Selle 2018
DESCRIPTION:Seine en selle est une randonnée VTT – VTC accessible à toutes et à tous à partir de 8 ans\, vous invitant à partir à la découverte de la Seine et de son environnement naturel exceptionnel. \nL’édition 2017 a vu affluer pas moins de 550 participants\, tous très enjoués par cette journée. \nLe bulletin d’inscription\, le tableau des horaires\, les cartes des parcours\, les points de départ et les traces GPX des différents parcours sont en téléchargement. \nToujours en 2018 : différents parcours allant de 5 à 63 km\, avec plusieurs points de départ (Andrésy\, Les Mureaux\, Ile de Loisirs du Val de Seine ou Le Pecq mais également un stand au Parc du Peuple de l’Herbe) et des collations pour féliciter les participants et leur offrir un moment de détente en toute convivialité… \nDe plus cette année\, vous pourrez à nouveau emprunter un bac pour la traversée de la Seine sur votre parcours !
URL:https://www.yvelines-infos.fr/agenda/seine-selle-2018/
LOCATION:Les Mureaux
ATTACH;FMTTYPE=image/png:https://www.yvelines-infos.fr/content/uploads/2018/capture-decran-2018-05-25-a-17-08-29.png
END:VEVENT
BEGIN:VEVENT
DTSTART;VALUE=DATE:20200302
DTEND;VALUE=DATE:20200309
DTSTAMP:20260423T090030
CREATED:20200228T143001Z
LAST-MODIFIED:20200228T143001Z
UID:365693-1583107200-1583711999@www.yvelines-infos.fr
SUMMARY:Ciel en Seine : le Festival de l’air et de l’espace des Mureaux
DESCRIPTION:Berceau historique de la fusée Ariane et de l’aviation\, la ville des Mureaux met à l’honneur son lien fort avec l’air et l’espace lors du Festival Ciel en Seine\, le premier Festival de l’air et de l’espace d’Île-de-France. Pour la 4e édition qui se tiendra du lundi 2 au dimanche 8 mars 2020\, le programme offre l’opportunité de vivre au rythme de l’air et de l’espace à travers de nombreuses animations : exposition Rêves d’Espace\, du plasticien et scénographe Jacques Lélut\, ateliers de réalisation vidéo\, séances de cinéma\, conférence scientifique d’un YouTubeur scientifique célèbre\, ciné-débat en présence d’une femme scientifique ou encore un jeu d’Escape game au château de Bècheville. \nÉveiller la curiosité et réveiller les consciences \nPendant le Festival Ciel en Seine\, de multiples actions sont mises en œuvre notamment auprès des jeunes Muriautins afin de les éveiller à la culture scientifique. Parmi les temps forts\, l’intervention de Sébastien Carassou\, Docteur en astrophysique et créateur de la chaîne YouTube Le Sense of Wonder. Avec ses 150 000 abonnés\, ce vulgarisateur scientifique sait capter son auditoire pour rendre accessible les galaxies et leur évolution. Sa conférence Comprendre le ciel : des mythes à la science prévoit de revenir sur l’origine de l’astronomie scientifique et de cet intérêt que les hommes ont pour le ciel étoilé depuis la nuit des temps. La conférence aura lieu au cinéma Frédéric-Dard le vendredi 6 mars à 20h. \nLe dimanche 8 mars\, comme un clin d’œil à la journée internationale des droits des femmes\, la projection du film Proxima au cinéma Frédéric-Dard et le débat qui suivra permettront de réveiller les consciences et de s’interroger sur les potentiels des femmes et l’accessibilité aux métiers scientifiques. Pour en parler : Sylvaine Turck-Chièze\, astrophysicienne et directrice de recherche honoraire du CEA – Commissariat à l’énergie atomique et aux énergies alternatives\, qui a également assuré la présidence de l’association Femmes & Sciences. Cette dernière a pour objectif de promouvoir la science auprès des jeunes\, en particulier auprès des filles\, et de valoriser les femmes scientifiques dans leur vie professionnelle. \nUn festival de sciences\, mais pas que ! \nEn plus d’un regard scientifique sur l’air et l’espace\, le festival offre une vision culturelle avec l’opportunité de découvrir les œuvres de Jacques Lélut\, plasticien et scénographe\, à travers l’exposition Rêves d’Espace à l’Espace des habitants. Ces œuvres racontent des rencontres étranges et imaginaires nées à partir de détournements\, rejets\, jouets cassés et déchets plastiques autour d’un univers futuriste inspiré de Jules Verne ou les bandes dessinées d’Alexandre Jodorowsky. Une exposition familiale qui interpelle sur la plastification de notre planète et l’urgence de sa sauvegarde. \nDans cette continuité de découvertes\, l’exposition Des artistes dans les étoiles par les écoles des Mureaux\, à La Médiathèque du mardi 3 au vendredi 6 mars\, permettra de découvrir le travail des élèves muriautins dans le cadre d’un projet pédagogique\, développé en partenariat avec la ville et l’Éducation nationale. Pendant l’année scolaire\, 20 classes parmi les écoles muriautines\, soit près de 400 élèves\, travaillent autour du thème de l’espace\, en collaboration avec des artistes sculpteurs potiers. Cette initiative permet d’impliquer les petits Muriautins dans l’organisation du festival et de valoriser leur travail\, démontrant en passant que la création et l’innovation sont à la portée de tous. \nEnfin\, pour (re)découvrir la ville sous de nouveaux angles : un Escape game « Très très secret défense » organisé au château de Bècheville. Pendant deux heures\, les joueurs se mettront dans la peau d’aventuriers-enquêteurs pour collecter des indices et retrouver une pilote disparue suite au crash de sa navette spatiale\, le tout dans un décor et une ambiance de science-fiction. Un programme riche qui saura ravir toute la famille. \nÀ propos du Festival Ciel en Seine \nLancé en 2017\, le Festival Ciel en Seine est le rendez-vous annuel des amateurs de l’air et de l’espace. Berceau historique de la fusée Ariane et de l’aviation\, la ville des Mureaux est intimement liée à l’air et à l’espace et organise le tout premier festival de l’air et de l’espace d’Île-de-France. Durant une semaine\, de nombreuses animations sont proposées : initiation à la réalité virtuelle\, ateliers ludiques et pédagogiques\, projections cinéma\, conférences scientifiques\, ciné-débat\, simulateur de vol\, expositions… Un programme riche pour toute la famille. Toute la programmation du festival sur www.lesmureaux.fr
URL:https://www.yvelines-infos.fr/agenda/ciel-en-seine-le-festival-de-lair-et-de-lespace-des-mureaux/
LOCATION:Les Mureaux
ATTACH;FMTTYPE=image/jpeg:https://www.yvelines-infos.fr/content/uploads/2020/ciel-en-seine-affiche-2020.jpg
END:VEVENT
END:VCALENDAR