BEGIN:VCALENDAR
VERSION:2.0
PRODID:-//Yvelines Infos - ECPv6.0.2//NONSGML v1.0//EN
CALSCALE:GREGORIAN
METHOD:PUBLISH
X-ORIGINAL-URL:https://www.yvelines-infos.fr
X-WR-CALDESC:Évènements pour Yvelines Infos
REFRESH-INTERVAL;VALUE=DURATION:PT1H
X-Robots-Tag:noindex
X-PUBLISHED-TTL:PT1H
BEGIN:VTIMEZONE
TZID:Europe/Paris
BEGIN:DAYLIGHT
TZOFFSETFROM:+0100
TZOFFSETTO:+0200
TZNAME:CEST
DTSTART:20170326T010000
END:DAYLIGHT
BEGIN:STANDARD
TZOFFSETFROM:+0200
TZOFFSETTO:+0100
TZNAME:CET
DTSTART:20171029T010000
END:STANDARD
END:VTIMEZONE
BEGIN:VEVENT
DTSTART;TZID=Europe/Paris:20170521T143000
DTEND;TZID=Europe/Paris:20170521T203000
DTSTAMP:20260423T162111
CREATED:20170511T092653Z
LAST-MODIFIED:20170511T092722Z
UID:339059-1495377000-1495398600@www.yvelines-infos.fr
SUMMARY:Festival Tracteur Blues
DESCRIPTION:Un festival rural\, familial et musical au cœur des Yvelines ! L’association Blues sur Seine présente le  Festival Tracteur Blues  : 3 jours de festivités gratuites\, 3 villages ruraux au patrimoine et à l’environnement préservé\,  un tracteur-scène itinérant\, une programmation musicale pour tous les publics\,  une sélection des meilleurs produits locaux du terroir yvelinois\, des animations pour les petits et grands enfants. Au programme : \nJour 1 : Vendredi 19 Mai 2017 à Sailly \n\n19h00 : King Biscuit (jeune public)\n20h15 : The Jamwalkers (Delta Blues Rock)\n21h30 : Zozophonic Orchestra (Funky Blues New Orleans)\n\nJour 2 : Samedi 20 mai 2017 à Flacourt – Favrieux \n\n17h30 : King Biscuit (jeune public)\n18h45 : Red Chocolate invite Maria Popkiewicz (Jazz Blues)\n20h15 : Restitution des ateliers scolaires du Collège Paul Cézanne et du Lycée Jean Rostand de Mantes-la-Jolie (CLEA / GPS&O)\n20h30 : The Blue Butter Pot (Country Blues Rock)\n22h00 : Bad mules and Dr Dee (Swing Soul Revue)\n\nJour 3 : Dimanche 21 mai 2017 à Les Alluets-Le-Roi \n\n14h30 : Baron Samedi (New Orleans)\n15h45 : King Biscuit Trio (Mississippi Blues)\n17h00 : Flo Bauer Officiel (Blues Folk)\n18h15 : Ceux Qui Marchent Debout (Funky Brass Band)
URL:https://www.yvelines-infos.fr/agenda/festival-tracteur-blues/
LOCATION:Les Alluets-le-Roi\, Route de Crespières\, Les Alluets-le-Roi\, 78580\, France
ATTACH;FMTTYPE=image/jpeg:https://www.yvelines-infos.fr/content/uploads/2017/afftb17-a4-2.jpg
ORGANIZER;CN="Blues%20sur%20Seine":MAILTO:contact@blues-sur-seine.com
GEO:48.9062825;1.9225424
X-APPLE-STRUCTURED-LOCATION;VALUE=URI;X-ADDRESS=Les Alluets-le-Roi Route de Crespières Les Alluets-le-Roi 78580 France;X-APPLE-RADIUS=500;X-TITLE=Route de Crespières:geo:1.9225424,48.9062825
END:VEVENT
END:VCALENDAR