BEGIN:VCALENDAR
VERSION:2.0
PRODID:-//Yvelines Infos - ECPv6.0.2//NONSGML v1.0//EN
CALSCALE:GREGORIAN
METHOD:PUBLISH
X-WR-CALNAME:Yvelines Infos
X-ORIGINAL-URL:https://www.yvelines-infos.fr
X-WR-CALDESC:Évènements pour Yvelines Infos
REFRESH-INTERVAL;VALUE=DURATION:PT1H
X-Robots-Tag:noindex
X-PUBLISHED-TTL:PT1H
BEGIN:VTIMEZONE
TZID:Europe/Paris
BEGIN:DAYLIGHT
TZOFFSETFROM:+0100
TZOFFSETTO:+0200
TZNAME:CEST
DTSTART:20170326T010000
END:DAYLIGHT
BEGIN:STANDARD
TZOFFSETFROM:+0200
TZOFFSETTO:+0100
TZNAME:CET
DTSTART:20171029T010000
END:STANDARD
BEGIN:DAYLIGHT
TZOFFSETFROM:+0100
TZOFFSETTO:+0200
TZNAME:CEST
DTSTART:20180325T010000
END:DAYLIGHT
BEGIN:STANDARD
TZOFFSETFROM:+0200
TZOFFSETTO:+0100
TZNAME:CET
DTSTART:20181028T010000
END:STANDARD
BEGIN:DAYLIGHT
TZOFFSETFROM:+0100
TZOFFSETTO:+0200
TZNAME:CEST
DTSTART:20190331T010000
END:DAYLIGHT
BEGIN:STANDARD
TZOFFSETFROM:+0200
TZOFFSETTO:+0100
TZNAME:CET
DTSTART:20191027T010000
END:STANDARD
BEGIN:DAYLIGHT
TZOFFSETFROM:+0100
TZOFFSETTO:+0200
TZNAME:CEST
DTSTART:20200329T010000
END:DAYLIGHT
BEGIN:STANDARD
TZOFFSETFROM:+0200
TZOFFSETTO:+0100
TZNAME:CET
DTSTART:20201025T010000
END:STANDARD
BEGIN:DAYLIGHT
TZOFFSETFROM:+0100
TZOFFSETTO:+0200
TZNAME:CEST
DTSTART:20210328T010000
END:DAYLIGHT
BEGIN:STANDARD
TZOFFSETFROM:+0200
TZOFFSETTO:+0100
TZNAME:CET
DTSTART:20211031T010000
END:STANDARD
BEGIN:DAYLIGHT
TZOFFSETFROM:+0100
TZOFFSETTO:+0200
TZNAME:CEST
DTSTART:20220327T010000
END:DAYLIGHT
BEGIN:STANDARD
TZOFFSETFROM:+0200
TZOFFSETTO:+0100
TZNAME:CET
DTSTART:20221030T010000
END:STANDARD
END:VTIMEZONE
BEGIN:VEVENT
DTSTART;TZID=Europe/Paris:20171110T190000
DTEND;TZID=Europe/Paris:20171110T233000
DTSTAMP:20260423T104738
CREATED:20170828T140138Z
LAST-MODIFIED:20170828T140200Z
UID:342631-1510340400-1510356600@www.yvelines-infos.fr
SUMMARY:Festival : Archimède + Romain Ughetto + Penn du + Bably
DESCRIPTION:Après le vif succès rencontré en 2016\, les associations JAMAIS\, OPENWALLS et SOUND ROAD\, se réunissent à nouveau pour vous offrir une tournée Pop rock à Paris (75)\, La Verrière (78) et Lyon (69). Nous serons accompagnés par ARCHIMEDE\, ROMAIN UGHETTO\, et FREAK INJECTION sur ces 3 dates.\nDes Guests accompagneront nos trois groupes\, et pas des moindres : BEBLY\, et PENN DU\, seront en ouverture sur la scène de La Verrière. \nFestival au profit des victimes du terrorisme  \nBilleterie Yurplan :\n– pour le vendredi 10 novembre 2017 au Scarabée de la Verrière (78) : \nhttps://yurplan.com/event/Concert-archimede-au-profit-des-victimes-du-terrorisme-78/18407 \n– pour le vendredi 24 novembre 2017 au Gibus Live de Paris (75) : \nhttps://yurplan.com/event/Archimede-Romain-Ughetto-gibus-Paris-concert-caritatif/18405 \n– pour le samedi 25 novembre 2017 au CCO Jean Pierre Lachaize de Villeurbanne (69) : \nhttps://yurplan.com/event/Archimede-Romain-Ughetto-cco-Villeurbanne-concert-caritatif/18404 \n► Archimède :\nhttps://facebook.com/archimedemusic\nhttp://www.pyrprod.fr/site/Archimede \n► Romain Ughetto :\nhttps://facebook.com/RomainUghettoOfficiel\nhttp://romainughetto.fr/ \n► Guests\nFreak Injection\nhttps://www.facebook.com/Freakinjectionmusic/\n« Freak Injection se lance dans sa chevauchée licornique avec Archimède et vous prépare un jet de bulles sur des sons unicorn rock et dansant. Mélangeant esprit enfantin et folie sensuelle les licornes vont accompagner Archimède pour une grande chevauchée enflammée. Show violet rose pailleté \, cuirs et piques\, venez découvrir le monde des freaks violets ! » \n► Penn Du\nhttps://www.facebook.com/penn.du\nhttps://www.twitter.com/PENN_DUOfficiel \nAvec 1 clip\, 2 albums et plusieurs festivals à leur actif\, les 7 compères de PENN DU basés autour de Mantes-La-Jolie mélangent allègrement leur ADN celtique et leurs univers rock pour parvenir sur scène à déployer toute une énergie communicative : « …En effet\, à peine le son arrivé à nos oreilles\, que mon âme bretonne est en fête. Penn Du produit un son très rock teinté de ska comme on aime\, avec un mélange de sonorité bretonne et celte permises par l’apport de la bombarde\, du violon\, ou encore de la cornemuse. Leur style 100% rock celto-bretonned comme ils l’appellent est survolté et entraînant. C’est bien simple\, même quelqu’un qui ne danse jamais devant un concert\, se surprendra à hocher de la tête et taper du pied. N’hésitez pas à faire le test et redite moi… ». (Cédric\, d’Info festival.com) \n► Bebly\nhttps://www.facebook.com/Beblymusic/ \nBebly\, le Trio Maurepasien\, composé de Benjamin (Guitare / Chant)\, Guillaume (Basse) et Fabien (Batterie)\, défend déjà trois albums depuis sa création en 2008.Il reviennent en Novembre avec un nouvel EP 5 titres! Tiré à bout portant\, son rock insoumis leur a permis d’ouvrir pour des artistes comme Eiffel\, Déportivo\, Sidilarsen et Luke ». \nTous les dons iront à l’Association Française des Victimes du Terrorisme :www.afvt.org. Nous comptons sur vous !
URL:https://www.yvelines-infos.fr/agenda/festival-archimede-romain-ughetto-penn-bably/
LOCATION:le scarabée\, 7 bis avenue du général leclerc\, la verrière\, 78230
ATTACH;FMTTYPE=image/jpeg:https://www.yvelines-infos.fr/content/uploads/2017/arton1.jpg
ORGANIZER;CN="jamais":MAILTO:association.jamais@gmail.com
GEO:48.7570896;1.9573651
X-APPLE-STRUCTURED-LOCATION;VALUE=URI;X-ADDRESS=le scarabée 7 bis avenue du général leclerc la verrière 78230;X-APPLE-RADIUS=500;X-TITLE=7 bis avenue du général leclerc:geo:1.9573651,48.7570896
END:VEVENT
BEGIN:VEVENT
DTSTART;TZID=Europe/Paris:20220211T203000
DTEND;TZID=Europe/Paris:20220211T203000
DTSTAMP:20260423T104738
CREATED:20220126T132230Z
LAST-MODIFIED:20220126T132230Z
UID:383086-1644611400-1644611400@www.yvelines-infos.fr
SUMMARY:LETTRE À NOUR
DESCRIPTION:Nour a 20ans. Élevée par un père veuf\, philosophe\, elle disparaît un jour pour rejoindre en Irak l’homme qu’elle a épousé en secret\, lieutenant de Daech. Pendant deux ans\, une correspondance va s’établir entre eux. D’un côté\, un père\, musulman pratiquant\, épris des Lumières\, persuadé que sa fille est pétrie des valeurs de liberté\, de tolérance et de démocratie qu’il a toujours défendues. De l’autre\, une jeune fille qui justifie sa révolte par la trahison de ces mêmes valeurs par un « Occident » qu’elle décrie et qu’elle entend renverser par un ordre et un monde nouveaux. Au-delà de l’incompréhension\, cette correspondance porte un message d’espoir\, celui de la réconciliation des générations futures. Au-delà des croyances\, elle révèle que seule la vie est sacrée. \nCette lecture sera suivie d’un échange avec Rachid Benzine\nPièce de théâtre adaptée du roman de Rachid Benzine « Nour\, pourquoi n’ai-je rien vu venir »\, Edition du Seuil. \nLecture théâtralisée dès 14 ans
URL:https://www.yvelines-infos.fr/agenda/lettre-a-nour/
LOCATION:le scarabée\, 7 bis avenue du général leclerc\, la verrière\, 78230
ATTACH;FMTTYPE=image/jpeg:https://www.yvelines-infos.fr/content/uploads/2022/thumbnail-2.jpeg
GEO:48.7570896;1.9573651
X-APPLE-STRUCTURED-LOCATION;VALUE=URI;X-ADDRESS=le scarabée 7 bis avenue du général leclerc la verrière 78230;X-APPLE-RADIUS=500;X-TITLE=7 bis avenue du général leclerc:geo:1.9573651,48.7570896
END:VEVENT
END:VCALENDAR