BEGIN:VCALENDAR
VERSION:2.0
PRODID:-//Yvelines Infos - ECPv6.0.2//NONSGML v1.0//EN
CALSCALE:GREGORIAN
METHOD:PUBLISH
X-WR-CALNAME:Yvelines Infos
X-ORIGINAL-URL:https://www.yvelines-infos.fr
X-WR-CALDESC:Évènements pour Yvelines Infos
REFRESH-INTERVAL;VALUE=DURATION:PT1H
X-Robots-Tag:noindex
X-PUBLISHED-TTL:PT1H
BEGIN:VTIMEZONE
TZID:Europe/Paris
BEGIN:DAYLIGHT
TZOFFSETFROM:+0100
TZOFFSETTO:+0200
TZNAME:CEST
DTSTART:20170326T010000
END:DAYLIGHT
BEGIN:STANDARD
TZOFFSETFROM:+0200
TZOFFSETTO:+0100
TZNAME:CET
DTSTART:20171029T010000
END:STANDARD
BEGIN:DAYLIGHT
TZOFFSETFROM:+0100
TZOFFSETTO:+0200
TZNAME:CEST
DTSTART:20180325T010000
END:DAYLIGHT
BEGIN:STANDARD
TZOFFSETFROM:+0200
TZOFFSETTO:+0100
TZNAME:CET
DTSTART:20181028T010000
END:STANDARD
END:VTIMEZONE
BEGIN:VEVENT
DTSTART;TZID=Europe/Paris:20170419T210000
DTEND;TZID=Europe/Paris:20170419T210000
DTSTAMP:20260423T050920
CREATED:20170323T095053Z
LAST-MODIFIED:20170323T095053Z
UID:337407-1492635600-1492635600@www.yvelines-infos.fr
SUMMARY:Les Faux British – Molière de la Comédie 2016
DESCRIPTION:Molière de la comédie 2016 ! \nA l’occasion de la réunion annuelle de la Société des Amis du Roman Noir Anglais\, le spectateur est plongé dans un jeu de Cluedo.\nCharles Aversham est retrouvé mort dans la chambre de son manoir…. Sherlock Holmes est chargé d’enquêter\, non… son copyright !\nLes membres de cette société\, apprentis comédiens\, évoluent avec une telle maladresse qu’ils trahissent la convention théâtrale. La comédie s’enraye\, les acteurs sont pris au piège\, et le public s’amuse. \nC’est une pièce mal écrite\, interprétée par de mauvais comédiens\, dans un décor complètement raté et une régie son approximative. Mais voilà\, tout cela est bien sûr intentionnel et le résultat est des plus réjouissants.\nN.B. – Reg’Arts
URL:https://www.yvelines-infos.fr/agenda/faux-british-moliere-de-comedie-2016/
LOCATION:Le Prisme – Centre de développement artistique de Saint-Quentin-en-Yvelines\,  Quartier des 7 Mares\, Élancourt\, 78190 \, France
ATTACH;FMTTYPE=image/jpeg:https://www.yvelines-infos.fr/content/uploads/2017/photo.les-faux-british.jpg
GEO:48.7666789;1.9481856
X-APPLE-STRUCTURED-LOCATION;VALUE=URI;X-ADDRESS=Le Prisme – Centre de développement artistique de Saint-Quentin-en-Yvelines  Quartier des 7 Mares Élancourt 78190  France;X-APPLE-RADIUS=500;X-TITLE=Quartier des 7 Mares:geo:1.9481856,48.7666789
END:VEVENT
BEGIN:VEVENT
DTSTART;TZID=Europe/Paris:20170421T210000
DTEND;TZID=Europe/Paris:20170421T210000
DTSTAMP:20260423T050920
CREATED:20170323T111110Z
LAST-MODIFIED:20170323T111110Z
UID:337424-1492808400-1492808400@www.yvelines-infos.fr
SUMMARY:Les Rois de la piste – Thomas Lebrun / Danse
DESCRIPTION:CRÉATION 2016 – PREMIÈRE EN RÉGION PARISIENNE – Les danseurs ne s’invitent pas sur le plateau pour interpréter une chorégraphie orchestrée à l’avance\, mais\, comme sur « la piste de danse » ils se montrent : pacotille\, chemise ouverte\, chaines en or qui brillent\, s’exposent et c’est « la représentation » qui est ici questionnée : celle de la vitrine. \nTout démarre du Funk. La boite de nuit\, le dancing\, la discothèque ou encore la boom proposent des espaces à géométrie variables\, qui fédère une micro-société de danseurs provisoires aux élans exutoires communs : la piste de danse. A chacun sa singularité de funk\, de disco\, de techno\, de house…\nPar une image fidèle\, une galerie jouée\, le chorégraphe cherche à atteindre une certaine idée du cabaret et de la satire sociale.\nLes Rois de la piste proposent\, entre autres\, une multitude de portraits de ces « passagers » en traversant différents courants de la mode populaire\, liés à ces lieux depuis les années 70.
URL:https://www.yvelines-infos.fr/agenda/rois-de-piste-thomas-lebrun-danse/
LOCATION:Le Prisme – Centre de développement artistique de Saint-Quentin-en-Yvelines\,  Quartier des 7 Mares\, Élancourt\, 78190 \, France
ATTACH;FMTTYPE=image/jpeg:https://www.yvelines-infos.fr/content/uploads/2017/duret-bernard-5.jpg
GEO:48.7666789;1.9481856
X-APPLE-STRUCTURED-LOCATION;VALUE=URI;X-ADDRESS=Le Prisme – Centre de développement artistique de Saint-Quentin-en-Yvelines  Quartier des 7 Mares Élancourt 78190  France;X-APPLE-RADIUS=500;X-TITLE=Quartier des 7 Mares:geo:1.9481856,48.7666789
END:VEVENT
BEGIN:VEVENT
DTSTART;TZID=Europe/Paris:20170513T210000
DTEND;TZID=Europe/Paris:20170513T210000
DTSTAMP:20260423T050920
CREATED:20170323T160610Z
LAST-MODIFIED:20170323T161611Z
UID:337502-1494709200-1494709200@www.yvelines-infos.fr
SUMMARY:Fabrice Luchini et moi – Olivier Sauton / Théâtre
DESCRIPTION:Prix du public au festival Off d’Avignon 2015 – Un spectacle qui réconcilie art et divertissement\, profondeur et légèreté. \nCette histoire de la rencontre fantasmée en Olivier Sauton et Fabrice Luchini ne peut que faire la part belle à la langue française\, aux bons mots et aux traits d’esprit. Sans préciosité ni pédanterie\, l’écriture distille au public un festin d’humour\, de tournures d’esprits\, et ce\, à la portée de toutes et tous. \n” De la rencontre improbable entre un jeune homme inculte et le génial acteur naît un « seul en scène » érudit et drôle…ce n’est pas incompatible ! …Un spectacle aux allures de vibrant hommage au théâtre et à tous ceux qui le servent avec passion. ”\nMichèle Bourcet – Télérama
URL:https://www.yvelines-infos.fr/agenda/fabrice-luchini-moi-olivier-sauton-theatre/
LOCATION:Le Prisme – Centre de développement artistique de Saint-Quentin-en-Yvelines\,  Quartier des 7 Mares\, Élancourt\, 78190 \, France
ATTACH;FMTTYPE=image/jpeg:https://www.yvelines-infos.fr/content/uploads/2017/fabrice-luchini-et-moi-olivier-sauton-credit-photo-denis-tribhou.jpg
GEO:48.7666789;1.9481856
X-APPLE-STRUCTURED-LOCATION;VALUE=URI;X-ADDRESS=Le Prisme – Centre de développement artistique de Saint-Quentin-en-Yvelines  Quartier des 7 Mares Élancourt 78190  France;X-APPLE-RADIUS=500;X-TITLE=Quartier des 7 Mares:geo:1.9481856,48.7666789
END:VEVENT
BEGIN:VEVENT
DTSTART;TZID=Europe/Paris:20170517T000000
DTEND;TZID=Europe/Paris:20170517T000000
DTSTAMP:20260423T050920
CREATED:20170323T161439Z
LAST-MODIFIED:20170323T161439Z
UID:337509-1494979200-1494979200@www.yvelines-infos.fr
SUMMARY:Le vol des hirondelles – Cie Un chateau en Espagne / Poème visuel
DESCRIPTION:MERCREDI 17 MAI à 9h15\, 10h30 et 16h \nUn spectacle pictural et sonore offert aux sens des petits et des grands qui évoque le temps qui passe et invite le tout-petit à sortir du nid et à prendre son envol. \nUne proposition poétique entre sensation et émotion où une femme\, un arbre\, de la musique\, du papier\, du rythme\, du mouvement se transforment en petites hirondelles au gré du vent et du temps. Un espace en apesanteur conçu comme une invitation délicate à prendre son envol. En s’adressant à la fois aux tout-petits et à leurs accompagnateurs\, les spectacles « tout-petits »\, parlent des choses de la vie et peuvent permettre du partage de sens et d’émotions fondatrices entre l’adulte et l’enfant. \n 
URL:https://www.yvelines-infos.fr/agenda/vol-hirondelles-cie-chateau-espagne-poeme-visuel/
LOCATION:Le Prisme – Centre de développement artistique de Saint-Quentin-en-Yvelines\,  Quartier des 7 Mares\, Élancourt\, 78190 \, France
ATTACH;FMTTYPE=image/jpeg:https://www.yvelines-infos.fr/content/uploads/2017/le_vol_des_hirondelles3@baptiste_jacquemin.jpg
GEO:48.7666789;1.9481856
X-APPLE-STRUCTURED-LOCATION;VALUE=URI;X-ADDRESS=Le Prisme – Centre de développement artistique de Saint-Quentin-en-Yvelines  Quartier des 7 Mares Élancourt 78190  France;X-APPLE-RADIUS=500;X-TITLE=Quartier des 7 Mares:geo:1.9481856,48.7666789
END:VEVENT
BEGIN:VEVENT
DTSTART;TZID=Europe/Paris:20180517T203000
DTEND;TZID=Europe/Paris:20180517T223000
DTSTAMP:20260423T050920
CREATED:20180503T140352Z
LAST-MODIFIED:20180503T140352Z
UID:349811-1526589000-1526596200@www.yvelines-infos.fr
SUMMARY:"Les Désaxés" au Prisme
DESCRIPTION:Quatre saxophonistes aux styles musicaux et vestimentaires très différents… Une audition\, une seule place à prendre\, qu’aucun des quatre ne réussira à obtenir ! \nClassique ou jazz\, de rue ou de studio\, les quatre perdants vont se rejoindre et errer ensemble dans l’amour de leur instrument\, chacun donnant en partage son univers musical. De Bach à Charlie Mingus\, de la Bossa Brésilienne à la musique tzigane en passant par le funk\, l’aventure collective de ces fous du sax se construit au son d’un répertoire éclectique et foisonnant. Après l’échec en solo\, ils découvrent que l’unisson fait la force. \nLes DéSAXés est un quatuor rassemblant Guy Rebreyend\, saxophone soprano\, Samuel Maingaud saxophone alto\, Frédéric Saumagne\, saxophone baryton et Michel Oberli\, saxophone ténor. Chacun est aussi comédien\, danseur\, bruiteur\, chanteur… Ils ont sillonné la planète avec leurs spectacles et ont reçu de nombreux prix. \n“Ce quatuor prouve que l’on peut être virtuose sans se prendre au sérieux : un régal.”  Figaroscope \nPlus d’informations sur le site du Prisme. \n\n\n \nDISTRIBUTION\nCréation et interprétation : Guy Rebreyend\, Frédéric Saumagne\, Samuel Maingaud\, Michel Oberli / Mise en scène : Gil Galliot / Costumes : Claire Djemah / Création lumière : Stéphanie Vélard / Chorégraphie Aurore Stauder
URL:https://www.yvelines-infos.fr/agenda/les-desaxes-au-prisme/
LOCATION:Le Prisme – Centre de développement artistique de Saint-Quentin-en-Yvelines\,  Quartier des 7 Mares\, Élancourt\, 78190 \, France
ATTACH;FMTTYPE=image/jpeg:https://www.yvelines-infos.fr/content/uploads/2018/0517-desaxes.jpg
GEO:48.7666789;1.9481856
X-APPLE-STRUCTURED-LOCATION;VALUE=URI;X-ADDRESS=Le Prisme – Centre de développement artistique de Saint-Quentin-en-Yvelines  Quartier des 7 Mares Élancourt 78190  France;X-APPLE-RADIUS=500;X-TITLE=Quartier des 7 Mares:geo:1.9481856,48.7666789
END:VEVENT
END:VCALENDAR