BEGIN:VCALENDAR
VERSION:2.0
PRODID:-//Yvelines Infos - ECPv6.0.2//NONSGML v1.0//EN
CALSCALE:GREGORIAN
METHOD:PUBLISH
X-ORIGINAL-URL:https://www.yvelines-infos.fr
X-WR-CALDESC:Évènements pour Yvelines Infos
REFRESH-INTERVAL;VALUE=DURATION:PT1H
X-Robots-Tag:noindex
X-PUBLISHED-TTL:PT1H
BEGIN:VTIMEZONE
TZID:Europe/Paris
BEGIN:DAYLIGHT
TZOFFSETFROM:+0100
TZOFFSETTO:+0200
TZNAME:CEST
DTSTART:20180325T010000
END:DAYLIGHT
BEGIN:STANDARD
TZOFFSETFROM:+0200
TZOFFSETTO:+0100
TZNAME:CET
DTSTART:20181028T010000
END:STANDARD
BEGIN:DAYLIGHT
TZOFFSETFROM:+0100
TZOFFSETTO:+0200
TZNAME:CEST
DTSTART:20190331T010000
END:DAYLIGHT
BEGIN:STANDARD
TZOFFSETFROM:+0200
TZOFFSETTO:+0100
TZNAME:CET
DTSTART:20191027T010000
END:STANDARD
BEGIN:DAYLIGHT
TZOFFSETFROM:+0100
TZOFFSETTO:+0200
TZNAME:CEST
DTSTART:20200329T010000
END:DAYLIGHT
BEGIN:STANDARD
TZOFFSETFROM:+0200
TZOFFSETTO:+0100
TZNAME:CET
DTSTART:20201025T010000
END:STANDARD
BEGIN:DAYLIGHT
TZOFFSETFROM:+0100
TZOFFSETTO:+0200
TZNAME:CEST
DTSTART:20210328T010000
END:DAYLIGHT
BEGIN:STANDARD
TZOFFSETFROM:+0200
TZOFFSETTO:+0100
TZNAME:CET
DTSTART:20211031T010000
END:STANDARD
BEGIN:DAYLIGHT
TZOFFSETFROM:+0100
TZOFFSETTO:+0200
TZNAME:CEST
DTSTART:20220327T010000
END:DAYLIGHT
BEGIN:STANDARD
TZOFFSETFROM:+0200
TZOFFSETTO:+0100
TZNAME:CET
DTSTART:20221030T010000
END:STANDARD
END:VTIMEZONE
BEGIN:VEVENT
DTSTART;TZID=Europe/Paris:20180707T203000
DTEND;TZID=Europe/Paris:20180707T233000
DTSTAMP:20260422T181928
CREATED:20180530T140940Z
LAST-MODIFIED:20180530T143300Z
UID:350564-1530995400-1531006200@www.yvelines-infos.fr
SUMMARY:Dîner nocturne contemplatif
DESCRIPTION:Les Nocturnes du Potager du Roi vous invitent à un dîner gastronomique à l’heure du coucher du soleil. Sous le regard bienveillant de La Quintinie et au rythme de la musique baroque\, vous dégusterez un dîner avec une vue imprenable sur le site. \nUn instant inoubliable qui réenchante ce jardin remarquable exceptionnel. \nLe dîner servi par le traiteur Cuillère d’Argent valorise le patrimoine français au travers de la gastronomie. \nCuillère d’Argent\, partenaire traiteur de l’École nationale supérieure de paysage au Potager du Roi et mécène\, a développé des créations culinaires intégrant les productions du site. \nEntre tradition et modernité\, les recettes de Cuillère d’Argent sont inspirées de la cuisine « Grand Siècle » servie à la table du Roi-Soleil.
URL:https://www.yvelines-infos.fr/agenda/diner-nocturne-contemplatif/
LOCATION:Le Potager du Roi\, 10 Rue du Maréchal Joffre\, Versailles\, 78000\, France
ATTACH;FMTTYPE=image/jpeg:https://www.yvelines-infos.fr/content/uploads/2018/0001-2.jpg
GEO:48.7989176;2.1238157
X-APPLE-STRUCTURED-LOCATION;VALUE=URI;X-ADDRESS=Le Potager du Roi 10 Rue du Maréchal Joffre Versailles 78000 France;X-APPLE-RADIUS=500;X-TITLE=10 Rue du Maréchal Joffre:geo:2.1238157,48.7989176
END:VEVENT
BEGIN:VEVENT
DTSTART;TZID=Europe/Paris:20180725T203000
DTEND;TZID=Europe/Paris:20180725T233000
DTSTAMP:20260422T181928
CREATED:20180530T143145Z
LAST-MODIFIED:20180530T143145Z
UID:350576-1532550600-1532561400@www.yvelines-infos.fr
SUMMARY:Dîner spectacle nocturne
DESCRIPTION:Les Nocturnes du Potager du Roi vous invitent à un dîner gastronomique à l’heure du coucher du soleil. Sous le regard bienveillant de La Quintinie et au rythme de la musique baroque\, vous dégusterez un dîner avec une vue imprenable sur le site. \nUn instant inoubliable qui réenchante ce jardin remarquable exceptionnel. \nLe dîner servi par le traiteur Cuillère d’Argent valorise le patrimoine français au travers de la gastronomie. \nCuillère d’Argent\, partenaire traiteur de l’École nationale supérieure de paysage au Potager du Roi et mécène\, a développé des créations culinaires intégrant les productions du site. \nEntre tradition et modernité\, les recettes de Cuillère d’Argent sont inspirées de la cuisine « Grand Siècle » servie à la table du Roi-Soleil.
URL:https://www.yvelines-infos.fr/agenda/diner-spectacle-nocturne/
LOCATION:Le Potager du Roi\, 10 Rue du Maréchal Joffre\, Versailles\, 78000\, France
ATTACH;FMTTYPE=image/jpeg:https://www.yvelines-infos.fr/content/uploads/2018/0001-2.jpg
GEO:48.7989176;2.1238157
X-APPLE-STRUCTURED-LOCATION;VALUE=URI;X-ADDRESS=Le Potager du Roi 10 Rue du Maréchal Joffre Versailles 78000 France;X-APPLE-RADIUS=500;X-TITLE=10 Rue du Maréchal Joffre:geo:2.1238157,48.7989176
END:VEVENT
BEGIN:VEVENT
DTSTART;VALUE=DATE:20210626
DTEND;VALUE=DATE:20210926
DTSTAMP:20260422T181928
CREATED:20210623T093519Z
LAST-MODIFIED:20210623T093519Z
UID:376687-1624665600-1632614399@www.yvelines-infos.fr
SUMMARY:Pass Malin au Potager du Roi
DESCRIPTION:Pass Malin aux jardins\n\nUne visite de jardin est davantage une expérience qu’un simple exercice culturel. Cette plongée dans la beauté et l’apaisement correspond aujourd’hui plus que jamais aux attentes de tous\, c’est pourquoi le Département des Yvelines\, en collaboration avec l’Office de Tourisme et le Domaine de Versailles\, le Potager du Roi et la Ferme Nature et Découvertes\, a lancé le « Pass Malin aux jardins »\, près de 30 visites guidées thématiques de jardins à Versailles entre juin et septembre. Le tout\, soumis à la réduction habituelle de 15% du Pass Malin ! Cet été\, on se met au vert ! \n\nLe Potager du roi\, jardin extraordinaire à plus d’un titre\nLe potager du roi à Versailles s’étend sur 9 hectares. Il  a été réalisé entre 1678 et 1683 par Jean-Baptiste de La Quintinie\, alors directeur des jardins royaux à la demande de Louis XIV. Le site est classé monument historique et jardin remarquable. Le potager est devenu un jardin urbain qui abrite l’Ecole nationale supérieure du paysage. Avec un guide\, découvrez ce site historique dans lequel grande diversité de fruits et légumes est encore cultivée chaque année. \n\nDates : samedis à 11h jusqu’à fin septembre à l’exception des 11 et 12 septembre et du weekend des journées du patrimoine. Tarif Pass Malin valable uniquement pour la visite de 11h\nDurée : 1h\n\nTarifs Tarifs Pass Malin\nTarif par personne (gratuit pour les moins de 26 ans) 8€ 3€ \nAdresse : Le Potager du Roi\n10\, rue du Maréchal-Joffre\n78000 Versailles \nInformations Potager du Roi : 01 39 24 62 62 – Site web \nA noter : Il est inutile de réserver ces visites par téléphone si vous ne venez pas en groupe. Merci de vous présenter à la boutique du Potager du Roi un quart d’heure avant l’heure de départ de la visite commentée. Vous rejoindrez ensuite le conférencier au point de départ des visites\, dans le jardin.
URL:https://www.yvelines-infos.fr/agenda/pass-malin-au-potager-du-roi/
LOCATION:Le Potager du Roi\, 10 Rue du Maréchal Joffre\, Versailles\, 78000\, France
ATTACH;FMTTYPE=image/png:https://www.yvelines-infos.fr/content/uploads/2021/capture-decran-2021-06-23-a-11-29-02.png
GEO:48.7989176;2.1238157
X-APPLE-STRUCTURED-LOCATION;VALUE=URI;X-ADDRESS=Le Potager du Roi 10 Rue du Maréchal Joffre Versailles 78000 France;X-APPLE-RADIUS=500;X-TITLE=10 Rue du Maréchal Joffre:geo:2.1238157,48.7989176
END:VEVENT
BEGIN:VEVENT
DTSTART;VALUE=DATE:20211002
DTEND;VALUE=DATE:20211004
DTSTAMP:20260422T181928
CREATED:20210928T134822Z
LAST-MODIFIED:20210928T134822Z
UID:379384-1633132800-1633305599@www.yvelines-infos.fr
SUMMARY:Esprit Jardin 2021
DESCRIPTION:Le Département des Yvelines participe à l’événement Esprit Jardin sur la thématique 2021 ‘ POTAGER EN VILLE’. \nAprès la réalisation d’une maison connectée en 2019\, les équipes se sont cette année affairées à concevoir différents lieux pour « potager dans son environnement » proche. \nVous trouverez la création d’un jardin d’hiver dans lequel on entretient ses plantes vertes comme ces aromatiques\, un potager partagé pour les urbains qui cherchent un coin de culture dans nos villes nouvelles et également une maison et sa terrasse dans laquelle on cultive grâce à de nouvelles technologies ! \nSe dessineront alors trois espaces distincts pensés en fonction des différents mode de vies et animés par trois ateliers sur l’ensemble du week-end. Un atelier macramé pour suspendre ses plantes d’intérieurs\, un atelier de confection de sel aromatisé pour ravir les papilles de chacun mais aussi l’apprentissage du potager pour les plus petits ! \nSi vous passez sur le stand\, vous aurez la chance de profiter d’une dégustation de miel Yvelinois\, du Domaine de Madame Elisabeth ! ( N’hésitez pas à demander !) \nHoraires ateliers\n• samedi 02/10 : Atelier macramés: 15h30/16h et 17h/17h30 / Atelier sel aromatisé 14h/14h30 et 16h/16h30/ Animation potager avec les enfants : 14h00-15h00 et 16h-17h \n• Dimanche 03/10 : : Atelier macramés: 15h30/16h et 17h/17h30 / Atelier sel aromatisé : 14h00-14h30 et 16h00-16h30 / Animation potager avec les enfants : 14h00-15h00 et 16h-17h
URL:https://www.yvelines-infos.fr/agenda/esprit-jardin-2021/
LOCATION:Le Potager du Roi\, 10 Rue du Maréchal Joffre\, Versailles\, 78000\, France
ATTACH;FMTTYPE=image/jpeg:https://www.yvelines-infos.fr/content/uploads/2021/2021-10-02-esprit-jardin-versailles.jpg
GEO:48.7989176;2.1238157
X-APPLE-STRUCTURED-LOCATION;VALUE=URI;X-ADDRESS=Le Potager du Roi 10 Rue du Maréchal Joffre Versailles 78000 France;X-APPLE-RADIUS=500;X-TITLE=10 Rue du Maréchal Joffre:geo:2.1238157,48.7989176
END:VEVENT
BEGIN:VEVENT
DTSTART;TZID=Europe/Paris:20220129T100000
DTEND;TZID=Europe/Paris:20220129T170000
DTSTAMP:20260422T181928
CREATED:20220126T132244Z
LAST-MODIFIED:20220126T132244Z
UID:383071-1643450400-1643475600@www.yvelines-infos.fr
SUMMARY:Journée Portes Ouvertes – École nationale supérieure de paysage
DESCRIPTION:L’École nationale supérieure de paysage donne rendez-vous au futurs étudiants\, à leurs parents\, ainsi qu’aux professionnels et amateurs\, le samedi 29 janvier\, de 10h à 17h\, sur ses campus de Versailles et de Marseille. Elle les convie également en ligne à travers un programme de directs à suivre sur sa chaîne Youtube. Dès à présent\, il est possible de retrouver toutes les informations sur l’école\, son offre de formations et le programme sur jpo.ecole-paysage.fr \nTout au long de la journée du samedi 29 janvier\, des présentations des différents parcours de formation\, des modalités d’accés\, des débouchés\, et des visites des locaux seront organisées sur les deux campus de Versailles et de Marseille. Certaines présentations seront retransmises en direct sur la chaîne YouTube de l’école. Elles seront suivis d’un temps d’échanges avec la salle et les internautes via le chat. Ils seront accessibles en différé sur la chaîne YouTube et sur jpo.ecole-paysage.fr \nLes visiteurs pourront échanger avec les étudiants\, les enseignants et les équipes pédagogiques\, ainsi que découvrir les différents exercices proposés tout au long de la scolarité au travers des expositions des productions réalisées en formations initiale et continue. \nUne visite du Potager du Roi\, site historique de l’École nationale supérieure de paysage\, est organisée par le Département écologie permettant ainsi d’aborder la place de ce jardin exceptionnel et\, de manière plus générale\, du vivant dans les enseignements de l’école.
URL:https://www.yvelines-infos.fr/agenda/journee-portes-ouvertes-ecole-nationale-superieure-de-paysage/
LOCATION:Le Potager du Roi\, 10 Rue du Maréchal Joffre\, Versailles\, 78000\, France
ATTACH;FMTTYPE=image/jpeg:https://www.yvelines-infos.fr/content/uploads/2022/2672431-journee-portes-ouvertes-39-141532.jpg
GEO:48.7989176;2.1238157
X-APPLE-STRUCTURED-LOCATION;VALUE=URI;X-ADDRESS=Le Potager du Roi 10 Rue du Maréchal Joffre Versailles 78000 France;X-APPLE-RADIUS=500;X-TITLE=10 Rue du Maréchal Joffre:geo:2.1238157,48.7989176
END:VEVENT
END:VCALENDAR