BEGIN:VCALENDAR
VERSION:2.0
PRODID:-//Yvelines Infos - ECPv6.0.2//NONSGML v1.0//EN
CALSCALE:GREGORIAN
METHOD:PUBLISH
X-ORIGINAL-URL:https://www.yvelines-infos.fr
X-WR-CALDESC:Évènements pour Yvelines Infos
REFRESH-INTERVAL;VALUE=DURATION:PT1H
X-Robots-Tag:noindex
X-PUBLISHED-TTL:PT1H
BEGIN:VTIMEZONE
TZID:Europe/Paris
BEGIN:DAYLIGHT
TZOFFSETFROM:+0100
TZOFFSETTO:+0200
TZNAME:CEST
DTSTART:20180325T010000
END:DAYLIGHT
BEGIN:STANDARD
TZOFFSETFROM:+0200
TZOFFSETTO:+0100
TZNAME:CET
DTSTART:20181028T010000
END:STANDARD
END:VTIMEZONE
BEGIN:VEVENT
DTSTART;TZID=Europe/Paris:20180609T143000
DTEND;TZID=Europe/Paris:20180609T163000
DTSTAMP:20260423T003420
CREATED:20180530T071826Z
LAST-MODIFIED:20180530T071826Z
UID:350500-1528554600-1528561800@www.yvelines-infos.fr
SUMMARY:Visite de logements passifs dans bâtiment neuf
DESCRIPTION:Pour répondre à la spécificité du label « passif »\, ce bâtiment a plusieurs particularités que vous pourrez découvrir au fil de la visite : construit en ossature bois avec une isolation en laine de bois et fibre de bois\, ses menuiseries sont en triple vitrage. Cet ensemble\, bien orienté par rapport au soleil\, lui permet de ne pas avoir de système de chauffage. Une ventilation double flux assure les apports d’air extérieur. L’eau chaude sanitaire est produite par un chauffe eau thermodynamique. Enfin\, sa toiture est équipée de panneaux solaires photovoltaïques afin de produire de l’électricité. \nToutes ces spécificités nécessitent une adaptation de nos comportements à l’usage du bâtiment : comment ventiler ? quand consommer son électricité ?…\nUn conseiller info-énergie de l’Alec sera présent pour répondre à vos questions\, en collaboration avec la Maison des Projets\, l’ADIL 78 et Le Perray Énergies. \nInscription obligatoire par mail à visites@energie-sqy.com ou par téléphone 01 30 47 98 90 en indiquant nom et prénom des participants\, code postal\, ville\, numéro de téléphone et courriel.
URL:https://www.yvelines-infos.fr/agenda/visite-de-logements-passifs-batiment-neuf/
LOCATION:Le Perray-en-Yvelines
ATTACH;FMTTYPE=image/png:https://www.yvelines-infos.fr/content/uploads/2018/image2.png
ORGANIZER;CN="ALEC%20SQY":MAILTO:conseil@alecsqy.org
END:VEVENT
END:VCALENDAR