BEGIN:VCALENDAR
VERSION:2.0
PRODID:-//Yvelines Infos - ECPv6.0.2//NONSGML v1.0//EN
CALSCALE:GREGORIAN
METHOD:PUBLISH
X-WR-CALNAME:Yvelines Infos
X-ORIGINAL-URL:https://www.yvelines-infos.fr
X-WR-CALDESC:Évènements pour Yvelines Infos
REFRESH-INTERVAL;VALUE=DURATION:PT1H
X-Robots-Tag:noindex
X-PUBLISHED-TTL:PT1H
BEGIN:VTIMEZONE
TZID:Europe/Paris
BEGIN:DAYLIGHT
TZOFFSETFROM:+0100
TZOFFSETTO:+0200
TZNAME:CEST
DTSTART:20170326T010000
END:DAYLIGHT
BEGIN:STANDARD
TZOFFSETFROM:+0200
TZOFFSETTO:+0100
TZNAME:CET
DTSTART:20171029T010000
END:STANDARD
END:VTIMEZONE
BEGIN:VEVENT
DTSTART;TZID=Europe/Paris:20171015T140000
DTEND;TZID=Europe/Paris:20171015T170000
DTSTAMP:20260423T163339
CREATED:20171004T082803Z
LAST-MODIFIED:20171004T082827Z
UID:344187-1508076000-1508086800@www.yvelines-infos.fr
SUMMARY:Stage de salsa cubaine à Saint-Germain-en-Laye
DESCRIPTION: C’est la rentrée de la salsa cubaine à Saint-Germain-en-Laye! \n\nVenez découvrir la salsa cubaine ou vous remettre à niveau le dimanche 15 octobre 2017 dans une ambiance chaleureuse à l’Atelier des Arts Scéniques de Saint-Germain-en-Laye (à proximité de la sortie du RER A\, Saint-Germain-en-laye) avec les professeurs expérimentés et pédagogues de Mambolia danse.  Progrès et bon moment garantis!\n\nComme son nom l’indique\, le stage de niveau initiation ne requiert pas d’expérience particulière et est ouvert à tous. Il vise à initier les futurs élèves du cours débutants. Pour les nouveaux élèves souhaitant rejoindre le cours hebdomadaire de niveau intermédiaire\, le stage du dimanche 15 octobre de 15h30 à 17h permettra de déterminer si le niveau des participants convient pour participer aux cours.\n\nReprise des cours de salsa cubaine niveau débutant et intermédiaire tous les vendredi à 20h (débutants) et 21h15 (intermédiaires) dès le 20 octobre pour une année de bonne humeur et de progrès en danses latines!\n\nTarif du stage : 15 euros. Venez à deux\, l’association propose un tarif régressif pour les couples !\n\nInformations et inscriptions par email (réservation fortement conseillée): mamboliadanse@gmail.com ou par téléphone: 0629078763\nQue viva la salsa dans les Yvelines !
URL:https://www.yvelines-infos.fr/agenda/stage-de-salsa-cubaine-a-saint-germain-laye/
LOCATION:L’Atelier des Arts Scéniques\, 6 rue Jouy Boudonville\, Saint-Germain-en-Laye\, 78100\, France
ATTACH;FMTTYPE=image/jpeg:https://www.yvelines-infos.fr/content/uploads/2017/img_8832.jpg
GEO:48.8951959;2.0889138
X-APPLE-STRUCTURED-LOCATION;VALUE=URI;X-ADDRESS=L’Atelier des Arts Scéniques 6 rue Jouy Boudonville Saint-Germain-en-Laye 78100 France;X-APPLE-RADIUS=500;X-TITLE=6 rue Jouy Boudonville:geo:2.0889138,48.8951959
END:VEVENT
END:VCALENDAR