BEGIN:VCALENDAR
VERSION:2.0
PRODID:-//Yvelines Infos - ECPv6.0.2//NONSGML v1.0//EN
CALSCALE:GREGORIAN
METHOD:PUBLISH
X-WR-CALNAME:Yvelines Infos
X-ORIGINAL-URL:https://www.yvelines-infos.fr
X-WR-CALDESC:Évènements pour Yvelines Infos
REFRESH-INTERVAL;VALUE=DURATION:PT1H
X-Robots-Tag:noindex
X-PUBLISHED-TTL:PT1H
BEGIN:VTIMEZONE
TZID:Europe/Paris
BEGIN:DAYLIGHT
TZOFFSETFROM:+0100
TZOFFSETTO:+0200
TZNAME:CEST
DTSTART:20180325T010000
END:DAYLIGHT
BEGIN:STANDARD
TZOFFSETFROM:+0200
TZOFFSETTO:+0100
TZNAME:CET
DTSTART:20181028T010000
END:STANDARD
END:VTIMEZONE
BEGIN:VEVENT
DTSTART;TZID=Europe/Paris:20180114T150000
DTEND;TZID=Europe/Paris:20180114T170000
DTSTAMP:20260423T110530
CREATED:20180104T143553Z
LAST-MODIFIED:20180104T160423Z
UID:346424-1515942000-1515949200@www.yvelines-infos.fr
SUMMARY:Stage de Bachata (Débutants Evolutif)
DESCRIPTION:Vous débutez en bachata et souhaitez apprendre rapidement et dans la bonne humeur cette danse sensuelle ? Les professeurs de MAMBOLIA danse vous font entrer dans la danse dimanche 14 janvier à Saint-Germain-en-Laye! \nLe stage commencera par une découverte des fondamentaux de la bachata : pas de base\, guidage\, et compréhension du guidage\, tours (15h-15h30) puis sera suivi par l’apprentissage d’un enchaînement chorégraphique à deux (15h30-16h30) qui sera ensuite répété en musique (16h30-17h00). \nCe stage sera un excellent moyen de progresser rapidement. \nIl s’adresse également à tous les grands débutants de la bachata. \nInformation et inscription par email : mamboliadanse@gmail.com
URL:https://www.yvelines-infos.fr/agenda/stage-intensif-de-bachata-debutants-evolutif/
LOCATION:L’Atelier des Arts Scéniques\, 6 rue Jouy Boudonville\, Saint-Germain-en-Laye\, 78100
ATTACH;FMTTYPE=image/jpeg:https://www.yvelines-infos.fr/content/uploads/2018/stage-bachata-janvier-2018-mambolia.jpg
ORGANIZER;CN="MAMBOLIA%20danse":MAILTO:mamboliadanse@gmail.com
GEO:48.8951959;2.0889138
X-APPLE-STRUCTURED-LOCATION;VALUE=URI;X-ADDRESS=L’Atelier des Arts Scéniques 6 rue Jouy Boudonville Saint-Germain-en-Laye 78100;X-APPLE-RADIUS=500;X-TITLE=6 rue Jouy Boudonville:geo:2.0889138,48.8951959
END:VEVENT
END:VCALENDAR