BEGIN:VCALENDAR
VERSION:2.0
PRODID:-//Yvelines Infos - ECPv6.0.2//NONSGML v1.0//EN
CALSCALE:GREGORIAN
METHOD:PUBLISH
X-WR-CALNAME:Yvelines Infos
X-ORIGINAL-URL:https://www.yvelines-infos.fr
X-WR-CALDESC:Évènements pour Yvelines Infos
REFRESH-INTERVAL;VALUE=DURATION:PT1H
X-Robots-Tag:noindex
X-PUBLISHED-TTL:PT1H
BEGIN:VTIMEZONE
TZID:Europe/Paris
BEGIN:DAYLIGHT
TZOFFSETFROM:+0100
TZOFFSETTO:+0200
TZNAME:CEST
DTSTART:20210328T010000
END:DAYLIGHT
BEGIN:STANDARD
TZOFFSETFROM:+0200
TZOFFSETTO:+0100
TZNAME:CET
DTSTART:20211031T010000
END:STANDARD
BEGIN:DAYLIGHT
TZOFFSETFROM:+0100
TZOFFSETTO:+0200
TZNAME:CEST
DTSTART:20220327T010000
END:DAYLIGHT
BEGIN:STANDARD
TZOFFSETFROM:+0200
TZOFFSETTO:+0100
TZNAME:CET
DTSTART:20221030T010000
END:STANDARD
END:VTIMEZONE
BEGIN:VEVENT
DTSTART;TZID=Europe/Paris:20211203T203000
DTEND;TZID=Europe/Paris:20211203T203000
DTSTAMP:20260422T200911
CREATED:20211104T152631Z
LAST-MODIFIED:20211104T152631Z
UID:380527-1638563400-1638563400@www.yvelines-infos.fr
SUMMARY:KERY JAMES
DESCRIPTION:Accompagné de ses fidèles compagnons de scènes aux clavier et percussions\, Kery James revisitera les titres les plus poignants de son répertoire. \nCes shows intimistes\, profonds mettront en valeur une plume et une voix dont la poésie\, le talent\, la puissance émotionnelle et la pertinence du propos se hissent bien au-delà d’un simple registre musical.
URL:https://www.yvelines-infos.fr/agenda/kery-james/
LOCATION:La Merise\, Places des Merisiers\, Trappes\, 78190
ATTACH;FMTTYPE=image/jpeg:https://www.yvelines-infos.fr/content/uploads/2021/kery-1-aces-vincent-corrion.jpg
ORGANIZER;CN="La%20Merise":MAILTO:reservation@la-merise.fr
GEO:48.7786121;1.9854133
X-APPLE-STRUCTURED-LOCATION;VALUE=URI;X-ADDRESS=La Merise Places des Merisiers Trappes 78190;X-APPLE-RADIUS=500;X-TITLE=Places des Merisiers:geo:1.9854133,48.7786121
END:VEVENT
BEGIN:VEVENT
DTSTART;TZID=Europe/Paris:20211211T150000
DTEND;TZID=Europe/Paris:20211211T150000
DTSTAMP:20260422T200911
CREATED:20211025T110619Z
LAST-MODIFIED:20211025T110619Z
UID:380337-1639234800-1639234800@www.yvelines-infos.fr
SUMMARY:Gainsbourg For Kids
DESCRIPTION:Gainsbourg For Kids c’est la revisite du répertoire de Serge Gainsbourg à destination des familles !\nSi on plonge dans l’œuvre de Serge Gainsbourg\, on s’aperçoit qu’il n’a pas écrit que des chansons pour adultes. Gainsbourg For Kids va chercher la part d’enfance d’un de nos plus grands auteurs de chansons pour donner un concert-spectacle pour toute la famille plein de « Shebam ! Pow ! Blop ! Wizz ! » \nÀ l’image de « Ce petit garçon nommé Charlie » qui se casse la figure à tous les coins de la ville\, chanson touchante et pas si désespérée qu’il avait écrite pour le dessin animé Charlie Brown et qu’il avait sans doute perçu comme un miroir de lui-même\, Serge Gainsbourg avait aussi sa part d’enfance. \nEt comme beaucoup d’enfants\, il avait le goût des mots qui sonnent\, et des « Shebam ! Pow ! Blop ! Wizz ! » qui explosent dans les bulles des comic-strips. De quoi donner l’envie à la dream-team de Wanted Joe Dassin de fouiller dans le répertoire monumental de Gainsbourg\, d’en extraire quelques pépites connues et inconnues\, et d’imaginer ce nouveau spectacle destiné aux grands enfants et aux familles. Bienvenue dans le comic-strip des Gainsbourg for Kids ! \nDurée : 1h
URL:https://www.yvelines-infos.fr/agenda/gainsbourg-for-kids/
LOCATION:La Merise\, Places des Merisiers\, Trappes\, 78190
ATTACH;FMTTYPE=image/jpeg:https://www.yvelines-infos.fr/content/uploads/2021/thumbnail.jpeg
ORGANIZER;CN="Ville%20de%20Trappes":MAILTO:reservation@la-merise.fr
GEO:48.7786121;1.9854133
X-APPLE-STRUCTURED-LOCATION;VALUE=URI;X-ADDRESS=La Merise Places des Merisiers Trappes 78190;X-APPLE-RADIUS=500;X-TITLE=Places des Merisiers:geo:1.9854133,48.7786121
END:VEVENT
BEGIN:VEVENT
DTSTART;TZID=Europe/Paris:20211216T160000
DTEND;TZID=Europe/Paris:20211216T173000
DTSTAMP:20260422T200911
CREATED:20211105T133103Z
LAST-MODIFIED:20211105T133103Z
UID:380818-1639670400-1639675800@www.yvelines-infos.fr
SUMMARY:BOODER- "Booder is back"
DESCRIPTION:Grâce à son humour toujours aiguisé\, son autodérision il vous donne son ressenti de la vie dans cette « société de beaux gosses ». Après le succés au cinéma dans « Neuilly sa mère » et « Beur sur la ville » et après le carton de sa pièce de théâtre « La grande évasion »\, Booder revient avec ses premiers amours : le one man show\, pour notre plus grand plaisir. \nSon expérience dans le domaine artistique\, ses rencontres\, son fils\, son pays d’origine\, tout y passe.
URL:https://www.yvelines-infos.fr/agenda/booder-booder-is-back/
LOCATION:La Merise\, Places des Merisiers\, Trappes\, 78190
ATTACH;FMTTYPE=image/jpeg:https://www.yvelines-infos.fr/content/uploads/2021/booder-is-back-4440995157697423688.jpg
ORGANIZER;CN="La%20Merise":MAILTO:reservation@la-merise.fr
GEO:48.7786121;1.9854133
X-APPLE-STRUCTURED-LOCATION;VALUE=URI;X-ADDRESS=La Merise Places des Merisiers Trappes 78190;X-APPLE-RADIUS=500;X-TITLE=Places des Merisiers:geo:1.9854133,48.7786121
END:VEVENT
BEGIN:VEVENT
DTSTART;TZID=Europe/Paris:20220113T203000
DTEND;TZID=Europe/Paris:20220113T203000
DTSTAMP:20260422T200911
CREATED:20211220T101654Z
LAST-MODIFIED:20211220T101654Z
UID:381437-1642105800-1642105800@www.yvelines-infos.fr
SUMMARY:SHERLOCK HOLMES
DESCRIPTION:3 comédiens\, 9 personnages\, un seul meurtrier ! Le mystère de la vallée de Boscombe (The Boscombe valley mystery)\, est l’une des cinquante-six nouvelles d’Arthur Conan Doyle mettant en scène le détective Sherlock Holmes. \nVenez enquêter avec Sherlock Holmes et le docteur Watson sur la mort suspecte de Charles Mac Carty… Le ton de la pièce offre un savant cocktail d’action\, de suspense\, mais aussi une sacrée dose d’humour. Une réjouissante comédie familiale à l’humour british\, avec un trio de comédiens parfait pour une enquête surprenante !
URL:https://www.yvelines-infos.fr/agenda/sherlock-holmes/
LOCATION:La Merise\, Places des Merisiers\, Trappes\, 78190
ATTACH;FMTTYPE=image/jpeg:https://www.yvelines-infos.fr/content/uploads/2021/thumbnail-7.jpeg
ORGANIZER;CN="La%20Merise":MAILTO:reservation@la-merise.fr
GEO:48.7786121;1.9854133
X-APPLE-STRUCTURED-LOCATION;VALUE=URI;X-ADDRESS=La Merise Places des Merisiers Trappes 78190;X-APPLE-RADIUS=500;X-TITLE=Places des Merisiers:geo:1.9854133,48.7786121
END:VEVENT
BEGIN:VEVENT
DTSTART;TZID=Europe/Paris:20220122T203000
DTEND;TZID=Europe/Paris:20220122T203000
DTSTAMP:20260422T200911
CREATED:20211109T153115Z
LAST-MODIFIED:20211109T153115Z
UID:380832-1642883400-1642883400@www.yvelines-infos.fr
SUMMARY:ARCADIE - Cie La Vouivre
DESCRIPTION:Interrogeant les notions de la singularité et de nuance\, d’utopie et de dystopie\, Arcadie aborde\, à la manière d’une fable rétrofuturiste\, les possibles transformations d’un monde. \nDu noir matriciel vers la lumière\, arcadie est une plongée autant qu’un retour à la surface d’un monde en gestation\, où les rites initiatiques sont des passages à l’acte\, à la révolte\, où le groupe ce fait matière organique. \nDans l’épure de l’arcadie\, se révèle la polymorphie des composants du monde. \nVoyage spatio-temporel au cours duquel la notions d’indentité est questionnée\, arcadie est une oeuvre en suspens\, en déplacement\, révélant « ici et maintenant » des espaces qui sont comme autant de seuils destinés à être franchis par l’imaginaire.
URL:https://www.yvelines-infos.fr/agenda/arcadie-cie-la-vouivre/
LOCATION:La Merise\, Places des Merisiers\, Trappes\, 78190
ATTACH;FMTTYPE=image/jpeg:https://www.yvelines-infos.fr/content/uploads/2021/thumbnail-2-1.jpeg
ORGANIZER;CN="La%20Merise":MAILTO:reservation@la-merise.fr
GEO:48.7786121;1.9854133
X-APPLE-STRUCTURED-LOCATION;VALUE=URI;X-ADDRESS=La Merise Places des Merisiers Trappes 78190;X-APPLE-RADIUS=500;X-TITLE=Places des Merisiers:geo:1.9854133,48.7786121
END:VEVENT
BEGIN:VEVENT
DTSTART;TZID=Europe/Paris:20220129T203000
DTEND;TZID=Europe/Paris:20220129T203000
DTSTAMP:20260422T200911
CREATED:20211109T153120Z
LAST-MODIFIED:20211109T153120Z
UID:380830-1643488200-1643488200@www.yvelines-infos.fr
SUMMARY:ZAO
DESCRIPTION:Zoba Casimir\, alias Zao\, est LE chanteur congolais. Depuis plus de 30 ans\, il use de la langue et de bons mots pour dénoncer sur fond de rumba funky et d’humour langagier\, les traits sensible de la société congolaise en particulier\, et africaine\, voir mondiale\, en général. Car si Zao chante en lari et en français\, il se définit comme un francophonais\, ses thèmes sont plutôt universels. Les thêmes de la mort\, de la corruption\, de l’alcoolisme\, concernent aussi bien les Français que les Congolais ou les Belges\, etc… \nL’auteur de Moustique\, de Soulard et d’Ancien combattant\, le plus grand des bouffons africains qui paya cher la vérité dite aux puissants\, revient pour une date unique en France\, à la Merise de Trappes ! \n  \nZao\, son rire débonnaire\, ses yeux qui tourneboulent\, sa gouaille truculente\, ses mots gourmands de néologismes. Zao\, dont la verve et l’humour ont fait se gondoler et se déhancher des générations dans les années 80 sur les thèmes de la guerre et de la mort… Zao\, l’antimilitariste forcené\, interprète d’Ancien combattant\, tube incontesté de la musique africaine\, nous manquait. La langue toujours bien pendue. De la folie des guerres au juteux business du foot en passant par l’inspiration de la Bible\, le chanteur congolais a son mot à dire. (Frédérique Briard de RFI)
URL:https://www.yvelines-infos.fr/agenda/zao/
LOCATION:La Merise\, Places des Merisiers\, Trappes\, 78190
ATTACH;FMTTYPE=image/jpeg:https://www.yvelines-infos.fr/content/uploads/2021/dsc-0613-bd.jpg
ORGANIZER;CN="La%20Merise":MAILTO:reservation@la-merise.fr
GEO:48.7786121;1.9854133
X-APPLE-STRUCTURED-LOCATION;VALUE=URI;X-ADDRESS=La Merise Places des Merisiers Trappes 78190;X-APPLE-RADIUS=500;X-TITLE=Places des Merisiers:geo:1.9854133,48.7786121
END:VEVENT
BEGIN:VEVENT
DTSTART;TZID=Europe/Paris:20220130T180000
DTEND;TZID=Europe/Paris:20220130T180000
DTSTAMP:20260422T200911
CREATED:20211109T153152Z
LAST-MODIFIED:20211109T153152Z
UID:380826-1643565600-1643565600@www.yvelines-infos.fr
SUMMARY:TRYO
DESCRIPTION:Cela fait 14 ans que Tryo n’était pas venu nous rendre visite\, Donc\, tout est pareil et tout est différent. Tryo\, toujours combatif et dansant\, toujours radieux et grave\, toujours indigné et heureux. Et puis Tryo renouvelé\, remodelé\, réinventé –une performance quand on arrive au huitième album. \nPour fabriquer des images qui dureront\, le groupe s’est arraché à cette actualité. Et aussi au deuil d’une aventure fauchés en pleine course. Dès lors\, comme toute la France\, Tryo invente\, innove\, réfléchit\, apprend de nouveaux outils\, découvrir de nouvelles pratiques. \nConcert live en ligne dans un Bercy sans public\, des clips et vidéos en ligne\, avec des amis… Tryo n’a jamais arrêté d’être là même en plein confinement. \nIls seront chez nous et cette fois le public sera présent\, vous serez présent.                                                                                                            Venez nombreux chanter « L’hymne des campagnes » et « Serre Moi ».
URL:https://www.yvelines-infos.fr/agenda/tryo/
LOCATION:La Merise\, Places des Merisiers\, Trappes\, 78190
ATTACH;FMTTYPE=image/jpeg:https://www.yvelines-infos.fr/content/uploads/2021/tryofifou-8137-min.jpg
ORGANIZER;CN="La%20Merise":MAILTO:reservation@la-merise.fr
GEO:48.7786121;1.9854133
X-APPLE-STRUCTURED-LOCATION;VALUE=URI;X-ADDRESS=La Merise Places des Merisiers Trappes 78190;X-APPLE-RADIUS=500;X-TITLE=Places des Merisiers:geo:1.9854133,48.7786121
END:VEVENT
BEGIN:VEVENT
DTSTART;TZID=Europe/Paris:20220205T150000
DTEND;TZID=Europe/Paris:20220205T150000
DTSTAMP:20260422T200911
CREATED:20220126T133453Z
LAST-MODIFIED:20220126T133453Z
UID:382857-1644073200-1644073200@www.yvelines-infos.fr
SUMMARY:LA CHANSON DE LA PLUIE - CIE BORÉALE
DESCRIPTION:La Compagnie Boréale présente sa nouvelle création jeune public dès 3 ans La chanson de la pluie. Une hymne à la joie\, à l’amour\, au rire ! Une ode à la vie avec poésie et singularité qui réjouira les petits autant que les grands !\n\nPar un jour de pluie\, une petite fille sort de chez elle. En ville\, elle rencontre un renard roux qui récolte de la pluie. Dans son milieu\, il n’y a plus d’eau. La nature se meurt. \nIl doit s’empresser de nourrir ses fleurs sous peine qu’elles disparaissent inexorablement. Main dans la main\, ils courent à la conquête de cet or bleu avec enthousiasme. \nC’est l’histoire d’une grande amitié naissante entre une petite fille et un renard…
URL:https://www.yvelines-infos.fr/agenda/la-chanson-de-la-pluie-cie-boreale/
LOCATION:La Merise\, Places des Merisiers\, Trappes\, 78190
ATTACH;FMTTYPE=image/jpeg:https://www.yvelines-infos.fr/content/uploads/2022/the-song-for-rain9.jpg
ORGANIZER;CN="La%20Merise":MAILTO:reservation@la-merise.fr
GEO:48.7786121;1.9854133
X-APPLE-STRUCTURED-LOCATION;VALUE=URI;X-ADDRESS=La Merise Places des Merisiers Trappes 78190;X-APPLE-RADIUS=500;X-TITLE=Places des Merisiers:geo:1.9854133,48.7786121
END:VEVENT
BEGIN:VEVENT
DTSTART;TZID=Europe/Paris:20220312T203000
DTEND;TZID=Europe/Paris:20220312T203000
DTSTAMP:20260422T200911
CREATED:20220126T133459Z
LAST-MODIFIED:20220126T133459Z
UID:382855-1647117000-1647117000@www.yvelines-infos.fr
SUMMARY:SHIRLEY SOUAGNON - ÊTRE HUMAIN
DESCRIPTION:Dans ce nouveau spectacle « Être humain »\, Shirley s’affranchit des modèles de pensées préconçus pour vous faire rire sur notre existence. \nC’est quoi être humain ? On se pose peu la question et pourtant c’est notre fonction principale\, être humain. On n’en connaît même pas la définition ! Vas-y cherche…Tu vois ? T’as besoin de Google. \nRepensons-nous\, repensons notre monde pour qu’il nous appartienne de nouveau\, au moins pendant une heure !
URL:https://www.yvelines-infos.fr/agenda/shirley-souagnon-etre-humain/
LOCATION:La Merise\, Places des Merisiers\, Trappes\, 78190
ATTACH;FMTTYPE=image/jpeg:https://www.yvelines-infos.fr/content/uploads/2022/affiche-shirley-hd-min.jpg
ORGANIZER;CN="La%20Merise":MAILTO:reservation@la-merise.fr
GEO:48.7786121;1.9854133
X-APPLE-STRUCTURED-LOCATION;VALUE=URI;X-ADDRESS=La Merise Places des Merisiers Trappes 78190;X-APPLE-RADIUS=500;X-TITLE=Places des Merisiers:geo:1.9854133,48.7786121
END:VEVENT
BEGIN:VEVENT
DTSTART;TZID=Europe/Paris:20220323T143000
DTEND;TZID=Europe/Paris:20220323T143000
DTSTAMP:20260422T200911
CREATED:20220322T150938Z
LAST-MODIFIED:20220322T150938Z
UID:384005-1648045800-1648045800@www.yvelines-infos.fr
SUMMARY:INSINUATION - COMPAGNIE TRAFIC DE STYLES
DESCRIPTION:La troupe nous présentera sa toute dernière création autour de la glisse\, mais cette fois non pas sur des patins à glace mais sur des roulettes. \nLa compagnie Trafic de Styles présente Insinuation\, un nouveau projet mêlant danse hip-hop et patin à roulettes dans un style décalé et original. Fondateur de la compagnie\, Sébastien Lefrançois\, chorégrahe et patineur artistique professionnel\, s’empare des techniques de la danse hip-hop tout en s’inspirant d’autres disciplines très variées ; du théâtre au mime en passant par le cirque. Claire Bournet\, qui rejoint la compagnie en 2014\, a elle aussi su développer un goût pour la mise en scène et le mouvement dansé au cours de sa carrière de patineuse. Forts de leurs expériences respectives\, les deux artistes articulent leur travail autour de questionnements sur les capacités du corps humain qu’ils transmettent au jeune public comme aux adultes. Cette nouvelle création de la compagnie aboutira sur un travail divertissant et ludique.
URL:https://www.yvelines-infos.fr/agenda/insinuation-compagnie-trafic-de-styles/
LOCATION:La Merise\, Places des Merisiers\, Trappes\, 78190
ATTACH;FMTTYPE=image/jpeg:https://www.yvelines-infos.fr/content/uploads/2022/laurencevasselininsinuation0.jpg
ORGANIZER;CN="La%20Merise":MAILTO:reservation@la-merise.fr
GEO:48.7786121;1.9854133
X-APPLE-STRUCTURED-LOCATION;VALUE=URI;X-ADDRESS=La Merise Places des Merisiers Trappes 78190;X-APPLE-RADIUS=500;X-TITLE=Places des Merisiers:geo:1.9854133,48.7786121
END:VEVENT
BEGIN:VEVENT
DTSTART;TZID=Europe/Paris:20220326T203000
DTEND;TZID=Europe/Paris:20220326T203000
DTSTAMP:20260422T200911
CREATED:20220322T150942Z
LAST-MODIFIED:20220322T150942Z
UID:384003-1648326600-1648326600@www.yvelines-infos.fr
SUMMARY:PIERRE PERRET
DESCRIPTION:Avant d’être trop « viocque »\, il reprend la route pour ses « ADIEUX PROVISOIRES » !\n85 ans au compteur\, plus de 60 ans sur scène\, Pierre Perret n’a rien perdu de sa verve ! L’engagement toujours à la boutonnière et l’humour comme frontière\, le tout savamment orchestré par la maitrise du mot qu’on lui connaît. Pierre Perret c’est aussi : 61 ans de carrière\, 40 millions d’albums vendus 500 chansons écrites\, 38 écoles à son nom ainsi que 2 rues. 60e album dans les bacs depuis le 9 novembre 2018. \nPierre Perret présentera ses plus grands succès. Il est accompagné sur scène par 4 musiciens (guitare\, basse\, batterie\, accordéon).
URL:https://www.yvelines-infos.fr/agenda/pierre-perret/
LOCATION:La Merise\, Places des Merisiers\, Trappes\, 78190
ATTACH;FMTTYPE=image/jpeg:https://www.yvelines-infos.fr/content/uploads/2022/2014-03-26-21h46-pp-0113-002.jpg
ORGANIZER;CN="La%20Merise":MAILTO:reservation@la-merise.fr
GEO:48.7786121;1.9854133
X-APPLE-STRUCTURED-LOCATION;VALUE=URI;X-ADDRESS=La Merise Places des Merisiers Trappes 78190;X-APPLE-RADIUS=500;X-TITLE=Places des Merisiers:geo:1.9854133,48.7786121
END:VEVENT
BEGIN:VEVENT
DTSTART;TZID=Europe/Paris:20220422T203000
DTEND;TZID=Europe/Paris:20220422T203000
DTSTAMP:20260422T200911
CREATED:20220406T133602Z
LAST-MODIFIED:20220406T133602Z
UID:384921-1650659400-1650659400@www.yvelines-infos.fr
SUMMARY:ET LE COEUR FUME ENCORE
DESCRIPTION:Traversée kaléidoscopique des mémoires de la guerre d’Algérie\, le spectacle s’est construit autour de témoignages\, recueillis auprès de nos familles et de nos proches. Et le cœur fume encore part d’une investigation auprès d’historiens et d’associations\, de poétes et d’intellectuels\, point de départ pour basculer dans le théâtre\, passant sans cesse de l’intime au politique\, du témoignage au jeu\, du réel à la fiction.\nCette guerre si longtemps refoulée explique en partie les fractures sociales et politiques de la France d’aujourd’hui. Si\, comme l’écrit le plasticien Kader Attia\, « l’Algérie coloniale a été le laboratoire des banlieues « \, la guerre d’Algérie s’y retrouve partout\, tant y cohabitent des mémoires occultées des récits officiels. \nRenonçant d’emblée à une exhaustivité impossible\, Et le cœur fume encore fait le pari de rassembler des catégories mémorielles diverses\, parfois antagonistes\, en les faisant cohabiter dans une écriture polyphonique. Nous avons dessiné sept parcours de personnages qui se trouvent parfois entremêlés : deux militants du FLN – section française et algérienne\, un harki\, une militante parisienne anticolonialiste\, une pied-noir\, un appelé du contingent et un militaire de métier. Ces paroles engageront ceux des deuxièmes et troisièmes générations selon les cas\, qui témoigneront de la résurgence de cette mémoire et de son impact sur leur famille et leur inscription dans la société contemporaine française. \nEn faisant entendre les paroles de ceux qui se sont tus si longtemps\, nous portons un nouveau regard sur notre présent. Dans ce second volet\, nous retrouvons aussi sur notre route Kated Yacine\, Edouard Glissant\, Assia Djebar et Jérôme Lindon qui ont chacun œuvré à ce combat\, parce que politique et littérature sont les deux faces d’une même histoire.
URL:https://www.yvelines-infos.fr/agenda/et-le-coeur-fume-encore/
LOCATION:La Merise\, Places des Merisiers\, Trappes\, 78190
ATTACH;FMTTYPE=image/jpeg:https://www.yvelines-infos.fr/content/uploads/2022/thumbnail-7.jpeg
ORGANIZER;CN="La%20Merise":MAILTO:reservation@la-merise.fr
GEO:48.7786121;1.9854133
X-APPLE-STRUCTURED-LOCATION;VALUE=URI;X-ADDRESS=La Merise Places des Merisiers Trappes 78190;X-APPLE-RADIUS=500;X-TITLE=Places des Merisiers:geo:1.9854133,48.7786121
END:VEVENT
BEGIN:VEVENT
DTSTART;TZID=Europe/Paris:20220512T203000
DTEND;TZID=Europe/Paris:20220512T203000
DTSTAMP:20260422T200911
CREATED:20220406T133749Z
LAST-MODIFIED:20220406T133749Z
UID:384908-1652387400-1652387400@www.yvelines-infos.fr
SUMMARY:LE COMTE DE MONTE-CRISTO D'APRÈS LE ROMAN D'ALEXANDRE DUMAS
DESCRIPTION:Une adaptation contemporaine du Comte de Monte-Cristo qui surprend et tient le public en haleine tout comme le faisait Alexandre Dumas ! \nUne histoire passionnante\, truffée d’aventures\, de rebondissements spectaculaires et de figures inoubliables\, racontée sur scène par 4 comédiens qui naviguent entre narration moderne et dialogues des célèbres personnages du roman intensément dramatiques. Derrière eux\, des images fortes en noir et blanc inspirées des mangas projetées sur des voiles et une lumière crépusculaire viennent sublimer le texte. Ces voiles sont manipulées par les comédiens sur scène et les projections vidéo sont réalisées en direct depuis le plateau par le comédien-vidéaste. Le découpage en chapitre est un clin d’oeil à une autre célèbre histoire de vengeance\, Kill Bill de Quentin Tarantino. \nCette bouleversante histoire d’amour perdu\, de trahison\, de trésor\, et surtout\, de vengeance suscite de multiples questions sur des sujets qui sont toujours d’actualité tels que la corruption\, le pouvoir infini de l’argent\, la tentation de l’auto-justice…
URL:https://www.yvelines-infos.fr/agenda/le-comte-de-monte-cristo-dapres-le-roman-dalexandre-dumas/
LOCATION:La Merise\, Places des Merisiers\, Trappes\, 78190
ATTACH;FMTTYPE=image/jpeg:https://www.yvelines-infos.fr/content/uploads/2022/monte-christo-125.jpg
ORGANIZER;CN="La%20Merise":MAILTO:reservation@la-merise.fr
GEO:48.7786121;1.9854133
X-APPLE-STRUCTURED-LOCATION;VALUE=URI;X-ADDRESS=La Merise Places des Merisiers Trappes 78190;X-APPLE-RADIUS=500;X-TITLE=Places des Merisiers:geo:1.9854133,48.7786121
END:VEVENT
END:VCALENDAR