BEGIN:VCALENDAR
VERSION:2.0
PRODID:-//Yvelines Infos - ECPv6.0.2//NONSGML v1.0//EN
CALSCALE:GREGORIAN
METHOD:PUBLISH
X-WR-CALNAME:Yvelines Infos
X-ORIGINAL-URL:https://www.yvelines-infos.fr
X-WR-CALDESC:Évènements pour Yvelines Infos
REFRESH-INTERVAL;VALUE=DURATION:PT1H
X-Robots-Tag:noindex
X-PUBLISHED-TTL:PT1H
BEGIN:VTIMEZONE
TZID:Europe/Paris
BEGIN:DAYLIGHT
TZOFFSETFROM:+0100
TZOFFSETTO:+0200
TZNAME:CEST
DTSTART:20170326T010000
END:DAYLIGHT
BEGIN:STANDARD
TZOFFSETFROM:+0200
TZOFFSETTO:+0100
TZNAME:CET
DTSTART:20171029T010000
END:STANDARD
BEGIN:DAYLIGHT
TZOFFSETFROM:+0100
TZOFFSETTO:+0200
TZNAME:CEST
DTSTART:20180325T010000
END:DAYLIGHT
BEGIN:STANDARD
TZOFFSETFROM:+0200
TZOFFSETTO:+0100
TZNAME:CET
DTSTART:20181028T010000
END:STANDARD
BEGIN:DAYLIGHT
TZOFFSETFROM:+0100
TZOFFSETTO:+0200
TZNAME:CEST
DTSTART:20190331T010000
END:DAYLIGHT
BEGIN:STANDARD
TZOFFSETFROM:+0200
TZOFFSETTO:+0100
TZNAME:CET
DTSTART:20191027T010000
END:STANDARD
END:VTIMEZONE
BEGIN:VEVENT
DTSTART;TZID=Europe/Paris:20170505T000000
DTEND;TZID=Europe/Paris:20170709T000000
DTSTAMP:20260423T033914
CREATED:20170323T153857Z
LAST-MODIFIED:20170323T153857Z
UID:337483-1493942400-1499558400@www.yvelines-infos.fr
SUMMARY:Hippocampus – Cheikh Ndiaye
DESCRIPTION:La Maréchalerie est heureuse de présenter une nouvelle exposition personnelle de Cheikh Ndiaye en France. Né en 1970 au Sénégal\, puis successivement diplômé des beaux arts de Dakar (1998) et de Lyon (2008)\, il vit aujourd’hui entre Lyon\, New York et Dakar. \nProduit par assemblages et hybridations techniques\, son travail convoque une esthétique hétérogène\, par un rapport détourné à l’artisanat et à l’architecture. Il produit une forme de symbolisme\, en mettant en place des environnements intimistes et des volumes fragmentaires invitant à la rêverie et à la contemplation\, mais toujours emprunts d’une charge esthétique forte par le choix de matériaux bruts et usagés. \nSon travail prend autant la forme d’installation et de sculpture mais aussi de films et de peinture. Pour La Maréchalerie\, Cheikh Ndiaye s’inspire de la figure particulière de l’Hippocampe et de ses différentes significations.A l’intersection de l’architecture et de la construction navale\, le projet conçu comme un fragment\, et produit avec des matériaux de récupération peut renvoyer à différents aspects de la figure mythique du «cheval de mer»\, à la fois monture céleste\, véhicule et créature hybride.
URL:https://www.yvelines-infos.fr/agenda/hippocampus-cheikh-ndiaye/
LOCATION:La Maréchalerie Centre d’art contemporain // Versailles\,  5\, avenue de Sceaux\, Versailles\, 78000\, France
ATTACH;FMTTYPE=image/jpeg:https://www.yvelines-infos.fr/content/uploads/2017/une-redoute-2_cheikh-ndiaye_2016.jpg
GEO:48.8013969;2.1263877
X-APPLE-STRUCTURED-LOCATION;VALUE=URI;X-ADDRESS=La Maréchalerie Centre d’art contemporain // Versailles  5 avenue de Sceaux Versailles 78000 France;X-APPLE-RADIUS=500;X-TITLE=5\, avenue de Sceaux:geo:2.1263877,48.8013969
END:VEVENT
BEGIN:VEVENT
DTSTART;TZID=Europe/Paris:20170916T140000
DTEND;TZID=Europe/Paris:20171218T190000
DTSTAMP:20260423T033914
CREATED:20170828T143617Z
LAST-MODIFIED:20170828T143617Z
UID:342634-1505570400-1513623600@www.yvelines-infos.fr
SUMMARY:Expo : Le Baphomet par Bertrand Lamarche
DESCRIPTION:Du 16 Septembre au 17 décembre\, La Maréchalerie est heureuse de présenter une nouvelle exposition de Bertrand Lamarche pensée en dialogue avec la figure du Baphomet.   Depuis ses débuts\, le travail de Bertrand Lamarche est traversé par un ensemble d’événements et de figures récurrentes\, comme la grande berce du Caucase\, la skyline nancéenne\, Kate Bush ou la météorologie qui s’incarnent dans un ensemble d’œuvres qui peuvent s’envisager comme des micro scénario. \nIdolâtre et androgyne\, Le Baphomet est une figure occulte remise en lumière par le roman éponyme de Pierre Klossowski en 1965. Figure de fascination ou d’effroi\, le Baphomet se caractérise par sa transformation continue et par son rapport indéterminé à la sagesse\, à la morale et à ses propres origines. Déjà convoqué dans certains projets plus anciens de Bertrand Lamarche telles que l’installation La Réplique ou la vidéo Les Souffles\, “le prince des modifications” prend ici corps dans un sujet en lévitation\, autour duquel s’articulent des œuvres renvoyant à un principe de transformation. \nL’exposition présente un ensemble de sculptures\, installations et vidéos animées au sens étymologique du terme. Par l’utilisation de procédés mécaniques et techniques\, et par la manifestation de formes automates ou organiques\, elles convoquent un bestiaire pouvant faire écho aux classiques du genre fantastique\, et à la littérature de science fiction. \nL’exposition se tient en semaine au 5 avenue des Sceaux\, et le weekend à la Place des Manèges (avenue du Général de Gaulle) à Versailles \nVernissage jeudi 5 octobre de 18h à 22h. Entrée libre \nNavette gratuite au départ de Paris\, Place du Châtelet\, à 18h30 – information et réservations : lamarechalerie@versailles.archi.fr \nHoraires :\n– Du mardi au vendredi : de 14h à 18h\n– Le weekend : de 14h à 19h \nLieux : \n– La semaine: 5 avenue de Sceaux\n– Le weekend: Place des Manèges ( avenue du Général de Gaulle) \n\n\nTransports : \nGare de Versailles Chateau – rive gauche à 100 m\n(Paris RER C) à 30 min des Invalides \nGare de Versailles rive droite à 1\,5 km\n(Paris Saint-Lazare – LIGNE L) 35 min \nGare de Versailles Chantiers à 1\,5 km\n(Paris Saint-Lazare – LIGNE L ) 35 min\n(Paris La Défense – LIGNE U ) – 25 min \nParking : Non
URL:https://www.yvelines-infos.fr/agenda/expo-baphomet-bertrand-lamarche/2017-09-16/
LOCATION:La Maréchalerie Centre d’art contemporain // Versailles\,  5\, avenue de Sceaux\, Versailles\, 78000\, France
ATTACH;FMTTYPE=image/jpeg:https://www.yvelines-infos.fr/content/uploads/2017/LaMarechalerieVersailles-BertrandLamarche-LeBaphometweb.jpg
ORGANIZER;CN="La%20Mar%C3%A9chalerie":MAILTO:lamarechalerie@versailles.archi.fr
GEO:48.8013969;2.1263877
X-APPLE-STRUCTURED-LOCATION;VALUE=URI;X-ADDRESS=La Maréchalerie Centre d’art contemporain // Versailles  5 avenue de Sceaux Versailles 78000 France;X-APPLE-RADIUS=500;X-TITLE=5\, avenue de Sceaux:geo:2.1263877,48.8013969
END:VEVENT
BEGIN:VEVENT
DTSTART;TZID=Europe/Paris:20180516T080000
DTEND;TZID=Europe/Paris:20180708T170000
DTSTAMP:20260423T033914
CREATED:20180425T142623Z
LAST-MODIFIED:20180425T142623Z
UID:349407-1526457600-1531069200@www.yvelines-infos.fr
SUMMARY:Kodomo No Kuni : Mémoire et enfance au Japon
DESCRIPTION:Avec les oeuvres de Susumu Hani\, Yusuké Y. Offhause et une documentation inédite sur les réalisations de Takashi Asada\, Kiyonori Kikutake\, Kisho Kurokawa\, Isamu Noguchi et Sachio Otani dans le parc Kodomo No Kuni de Yokohama. \nCommissaire : Vincent Romagny \nOrganisée en Partenariat avec Le Micro-Onde (Vélizy-Villacoublay) et le FRAC Grand Large – Hauts-de-France (Dunkerque)\, l’exposition Kodomo No Kuni\, littéralement «le pays des enfants»\, reprend le nom d’un célèbre parc de jeux pour enfants situé à Yokohama et inauguré en 1965\, et prolonge la recherche du commissaire invité Vincent Romagny sur la question des Aires de jeux\, mais appliquée ici au contexte spécifique du Japon. A La Maréchalerie\, Kodomo No Kuni : Mémoire et enfance au Japon\, présente une production inédite et in situ de l’artiste Yusuke Y. OFFHAUSE\, un ensemble de documents iconographiques de bâtiments réalisés par les architectes métabolistes Japonais dans le parc du même nom\, ainsi que le film « Childrens who draw » de Susumu Hani\, datant de 1954 et présenté ici pour la première fois en France (20 séances). \nLe cycle Kodomo No Kuni est organisé par Vincent ROMAGNY\, suite à sa résidence à la Villa Kujoyama en 2015. Il bénéficie du soutien de la Kwansei Gakuin University de Hyogo. L’oeuvre de Yusuke Y. OFFHAUSE bénéficie du soutien de PRO HELVETIA et du FMAC de Genève. La série de photographies Dialogues de Mitsuru TSUDA est empruntée au FRAC Alsace\, et l’oeuvre Passing Through the Rubber Band de SHIMABUKU est empruntée au FRAC Île-de-France\, Le Plateau. La Villa Kujoyama bénéficie du soutien de la Fondation Bettencourt-Schueller. Avec la collaboration de Iwanami audiovisual media inc \nRemerciements à Mathieu CAPEL\, Simon MINÉ\, Isabelle OLIVIER et Olivier VADROT et Kaori KINOSHITA. \nAGENDA DES EVENEMENTS : \nNUIT DES MUSEES\nSamedi 19 mai – La Maréchalerie – Ouverture exceptionnelle de 14h à minuit. À cette occasion\, activation du dispositif mobile Chronique\ndu monde d’avant (2013) du Gentil Garçon\, dans différents lieux à Versailles.\nPlus d’informations sur notre site internet\nhttp://lamarechalerie.versailles.archi.fr/ \nRANDOTRAM\nSamedi 9 juin – Informations / réservations :\nT. +33 (0)1 53 34 64 43\ntaxitram@tram-idf.fr \nREGARDS CROISES\nSamedi 23 juin 2018 à 15h – Micro Onde et La Maréchalerie – Rencontre entre Vincent Romagny\, Sophie Auger et Valérie Knochel Abecassis à Micro Onde suivi d’une visite à La Maréchalerie. Navette A/R gratuite à 14h\, au départ de Paris – Concorde / Informations & réservations : T. +33 (0)1 78 74 39 17\nmicroonde@londe.fr \nWORKSHOP / FINISSAGE\nSamedi 7 juillet de 14h à 19h – La Maréchalerie – Workshop en famille en présence de l’artiste Yusuké Y. Offhause / Entrée libre sur réservation \nphoto : Ouverture officielle de Kodomo No Kuni\, 5 mai 1965
URL:https://www.yvelines-infos.fr/agenda/kodomo-no-kuni-memoire-enfance-japon/
LOCATION:La Maréchalerie Centre d’art contemporain // Versailles\,  5\, avenue de Sceaux\, Versailles\, 78000\, France
ATTACH;FMTTYPE=image/gif:https://www.yvelines-infos.fr/content/uploads/2018/kodomonokuniversailles-2.gif
ORGANIZER;CN="La%20Mar%C3%A9chalerie":MAILTO:lamarechalerie@versailles.archi.fr
GEO:48.8013969;2.1263877
X-APPLE-STRUCTURED-LOCATION;VALUE=URI;X-ADDRESS=La Maréchalerie Centre d’art contemporain // Versailles  5 avenue de Sceaux Versailles 78000 France;X-APPLE-RADIUS=500;X-TITLE=5\, avenue de Sceaux:geo:2.1263877,48.8013969
END:VEVENT
BEGIN:VEVENT
DTSTART;TZID=Europe/Paris:20180915T140000
DTEND;TZID=Europe/Paris:20181216T190000
DTSTAMP:20260423T033914
CREATED:20180726T151324Z
LAST-MODIFIED:20180726T151324Z
UID:351767-1537020000-1544986800@www.yvelines-infos.fr
SUMMARY:Expo : Orage\, exposition personnelle de Stéphane Thidet
DESCRIPTION:Le travail de Stéphane Thidet s’exerce dans des mouvements d’écart et de rapprochement\, d’inversion ou de détournement\, mettant en place une dramaturgie latente à la fois brutale\, sensuelle et poétique. Son nouveau projet propose à La Maréchalerie la représentation d’un environnement artificiel et synthétique\, entre l’installation et le jardin d’hiver\, une forme de singularité suspendue mettant en scène une temporalité propre.\nÉvoquant un débordement ou une collision imminente\, « Orage » déploie au travers d’une exposition rassemblant essentiellement des œuvres inédites\, les conditions d’une Acmé\, le moment extrême d’une tension. Mise en place sous la forme d’une composition entre la scène de chasse et la fantasmagorie\, l’exposition emprunte autant à une forme de symbolisme qu’à une forme de gravité.
URL:https://www.yvelines-infos.fr/agenda/expo-orage-exposition-personnelle-de-stephane-thidet/
LOCATION:La Maréchalerie Centre d’art contemporain // Versailles\,  5\, avenue de Sceaux\, Versailles\, 78000\, France
ATTACH;FMTTYPE=image/jpeg:https://www.yvelines-infos.fr/content/uploads/2018/versailles-stephanethidet.jpg
GEO:48.8013969;2.1263877
X-APPLE-STRUCTURED-LOCATION;VALUE=URI;X-ADDRESS=La Maréchalerie Centre d’art contemporain // Versailles  5 avenue de Sceaux Versailles 78000 France;X-APPLE-RADIUS=500;X-TITLE=5\, avenue de Sceaux:geo:2.1263877,48.8013969
END:VEVENT
BEGIN:VEVENT
DTSTART;TZID=Europe/Paris:20190125T140000
DTEND;TZID=Europe/Paris:20190317T190000
DTSTAMP:20260423T033914
CREATED:20190110T125217Z
LAST-MODIFIED:20190110T125217Z
UID:354838-1548424800-1552849200@www.yvelines-infos.fr
SUMMARY:CMJN / H2O - EDOUARD SAUTAI
DESCRIPTION:CMJN/H2O – Edouard Sautai\ndu 25 janvier au 17 mars\nVernissage le jeudi 24 janvier Navette A/R au départ de la place de la Concorde 18h – Réservations : lamarechalerie@versailles.archi.fr \nSuite à l’invitation de La Maréchalerie\, Edouard Sautai présente une nouvelle itération de son projet RVB H2O décomposant le spectre lumineux et transformant l’espace en miroir prismatique. Initialement orientée vers des problématiques constructives et architecturales\, la recherche d’Edouard Sautai s’étend à des questions de l’ordre de la vision et du point de vue\, par un recours à des procédés de représentation et décomposition de l’espace en deux dimensions ayant à voir avec le sténopé\, la peinture ou encore la photographie. \nNé en 1965 à Grenoble\, il vit et travailles à Vitry-sur-Seine et Canne-Ecluse.\n\nVERNISSAGE\nVernissage le jeudi 24 janvier de 18h à 22h\nNavette A/R au départ de la place de la Concorde 18h – Réservations : lamarechalerie@versailles.archi.fr\n\nVISITES ATELIERS\nLes visites-ateliers du samedi à l’attention des 6 – 12 ans / Les 2 février et 2 mars de 14:30 à 16:00 \nFINISSAGE / BRUNCH\nSamedi 16 mars de 11h30 à 16h\nRSVP : lamarechalerie@versailles.archi.fr
URL:https://www.yvelines-infos.fr/agenda/cmjn-h2o-edouard-sautai/2019-01-25/
LOCATION:La Maréchalerie Centre d’art contemporain // Versailles\,  5\, avenue de Sceaux\, Versailles\, 78000\, France
ATTACH;FMTTYPE=image/jpeg:https://www.yvelines-infos.fr/content/uploads/2019/2018-edouardsautailamarechalerie-versailles.jpg
GEO:48.8013969;2.1263877
X-APPLE-STRUCTURED-LOCATION;VALUE=URI;X-ADDRESS=La Maréchalerie Centre d’art contemporain // Versailles  5 avenue de Sceaux Versailles 78000 France;X-APPLE-RADIUS=500;X-TITLE=5\, avenue de Sceaux:geo:2.1263877,48.8013969
END:VEVENT
END:VCALENDAR