BEGIN:VCALENDAR
VERSION:2.0
PRODID:-//Yvelines Infos - ECPv6.0.2//NONSGML v1.0//EN
CALSCALE:GREGORIAN
METHOD:PUBLISH
X-WR-CALNAME:Yvelines Infos
X-ORIGINAL-URL:https://www.yvelines-infos.fr
X-WR-CALDESC:Évènements pour Yvelines Infos
REFRESH-INTERVAL;VALUE=DURATION:PT1H
X-Robots-Tag:noindex
X-PUBLISHED-TTL:PT1H
BEGIN:VTIMEZONE
TZID:Europe/Paris
BEGIN:DAYLIGHT
TZOFFSETFROM:+0100
TZOFFSETTO:+0200
TZNAME:CEST
DTSTART:20220327T010000
END:DAYLIGHT
BEGIN:STANDARD
TZOFFSETFROM:+0200
TZOFFSETTO:+0100
TZNAME:CET
DTSTART:20221030T010000
END:STANDARD
END:VTIMEZONE
BEGIN:VEVENT
DTSTART;TZID=Europe/Paris:20220319T210000
DTEND;TZID=Europe/Paris:20220319T210000
DTSTAMP:20260423T062103
CREATED:20220126T131741Z
LAST-MODIFIED:20220126T131741Z
UID:383164-1647723600-1647723600@www.yvelines-infos.fr
SUMMARY:LES WAMPAS
DESCRIPTION:Evénement avec la venue à Plaisir des Wampas\, groupe mythique du rock alternatif français. \nLeur 13ème album « Sauve Le Monde » est sorti en 2020. Les Wampas sauvent donc le monde\, mais à leur manière. Tout en restant indéboulonnablement fidèles au punk\, ils ont l’intelligence de continuer à questionner leur époque et de rester « résolument modernes ».
URL:https://www.yvelines-infos.fr/agenda/les-wampas/
LOCATION:La clé des champs\, 13 rue Romain Rolland\, Plaisir\, 78370
ATTACH;FMTTYPE=image/jpeg:https://www.yvelines-infos.fr/content/uploads/2022/thumbnail-5-scaled.jpeg
ORGANIZER;CN="Ville%20de%20Plaisir":MAILTO:culture@ville-plaisir.fr
END:VEVENT
BEGIN:VEVENT
DTSTART;TZID=Europe/Paris:20220514T190000
DTEND;TZID=Europe/Paris:20220514T190000
DTSTAMP:20260423T062103
CREATED:20220401T130335Z
LAST-MODIFIED:20220401T130335Z
UID:385204-1652554800-1652554800@www.yvelines-infos.fr
SUMMARY:MAGYD CHERFI
DESCRIPTION:Chanteur et leader emblématique du groupe Zebda\, MAGYD CHERFI présente « Longue Haleine »\, un concert littéraire. Écrivain remarquable\, il combine dans ce spectacle son répertoire littéraire et musical. « Longue haleine » tisse ainsi des extraits de ses trois livres avec des paroles de chansons\, les siennes et celles de quelques autres.
URL:https://www.yvelines-infos.fr/agenda/magyd-cherfi/
LOCATION:La clé des champs\, 13 rue Romain Rolland\, Plaisir\, 78370
ATTACH;FMTTYPE=image/jpeg:https://www.yvelines-infos.fr/content/uploads/2022/9561dd-ea6a566494b244e9a4374e8693bca8ff-mv2.jpg
ORGANIZER;CN="Ville%20de%20Plaisir":MAILTO:culture@ville-plaisir.fr
END:VEVENT
BEGIN:VEVENT
DTSTART;TZID=Europe/Paris:20220604T210000
DTEND;TZID=Europe/Paris:20220604T210000
DTSTAMP:20260423T062103
CREATED:20220401T130709Z
LAST-MODIFIED:20220401T130709Z
UID:385195-1654376400-1654376400@www.yvelines-infos.fr
SUMMARY:DEMI PORTION
DESCRIPTION:Admiré pour sa plume légère et guidée par son vécu\, Demi Portion ne cesse de nous prouver que son rap « fait maison » comme il le revendique\, fait de lui un des artistes les plus talentueux de la scène Hip Hop française.
URL:https://www.yvelines-infos.fr/agenda/demi-portion/
LOCATION:La clé des champs\, 13 rue Romain Rolland\, Plaisir\, 78370
ATTACH;FMTTYPE=image/jpeg:https://www.yvelines-infos.fr/content/uploads/2022/9561dd-0cc5023637e449448f3cf811b6ea7ad4-mv2.jpg
ORGANIZER;CN="ville%20de%20Plaisir":MAILTO:culture@ville-plaisir.fr
END:VEVENT
END:VCALENDAR