BEGIN:VCALENDAR
VERSION:2.0
PRODID:-//Yvelines Infos - ECPv6.0.2//NONSGML v1.0//EN
CALSCALE:GREGORIAN
METHOD:PUBLISH
X-WR-CALNAME:Yvelines Infos
X-ORIGINAL-URL:https://www.yvelines-infos.fr
X-WR-CALDESC:Évènements pour Yvelines Infos
REFRESH-INTERVAL;VALUE=DURATION:PT1H
X-Robots-Tag:noindex
X-PUBLISHED-TTL:PT1H
BEGIN:VTIMEZONE
TZID:Europe/Paris
BEGIN:DAYLIGHT
TZOFFSETFROM:+0100
TZOFFSETTO:+0200
TZNAME:CEST
DTSTART:20170326T010000
END:DAYLIGHT
BEGIN:STANDARD
TZOFFSETFROM:+0200
TZOFFSETTO:+0100
TZNAME:CET
DTSTART:20171029T010000
END:STANDARD
BEGIN:DAYLIGHT
TZOFFSETFROM:+0100
TZOFFSETTO:+0200
TZNAME:CEST
DTSTART:20180325T010000
END:DAYLIGHT
BEGIN:STANDARD
TZOFFSETFROM:+0200
TZOFFSETTO:+0100
TZNAME:CET
DTSTART:20181028T010000
END:STANDARD
END:VTIMEZONE
BEGIN:VEVENT
DTSTART;TZID=Europe/Paris:20171006T203000
DTEND;TZID=Europe/Paris:20171006T233000
DTSTAMP:20260423T004339
CREATED:20170718T125303Z
LAST-MODIFIED:20170718T125303Z
UID:341733-1507321800-1507332600@www.yvelines-infos.fr
SUMMARY:7 Weeks + High On Wheels
DESCRIPTION:7 Weeks a créé un style inventif\, mixant habilement tension et puissance avec sensibilité et expérimentation\, il en résulte des morceaux uniques\, très organiques mais sophistiqués\, un rock massif\, nourri aux mélodies mais se faisant un malin plaisir à contourner le convenu. \nHigh On Wheels est un groupe de stoner/desert rock francilien\, fondé en 2014 et influencé notamment par la Palm Desert Scene. Ces jeunes éphèbes fringants proposent un rock stoner brut de décoffrage qui sent bon la fuzz et le sable chaud des hautes mesas du Punkistan et de Black Sabbatterie
URL:https://www.yvelines-infos.fr/agenda/7-weeks-high-on-wheels/
LOCATION:La Batterie\, 1 rue de la redoute\, Guyancourt\, 78280\, France
ATTACH;FMTTYPE=image/jpeg:https://www.yvelines-infos.fr/content/uploads/2017/k_7weeks_credit-ArdonauHD.jpg
GEO:48.7828828;2.058275
X-APPLE-STRUCTURED-LOCATION;VALUE=URI;X-ADDRESS=La Batterie 1 rue de la redoute Guyancourt 78280 France;X-APPLE-RADIUS=500;X-TITLE=1 rue de la redoute:geo:2.058275,48.7828828
END:VEVENT
BEGIN:VEVENT
DTSTART;TZID=Europe/Paris:20171007T203000
DTEND;TZID=Europe/Paris:20171007T203000
DTSTAMP:20260423T004339
CREATED:20170828T140413Z
LAST-MODIFIED:20170828T140413Z
UID:342687-1507408200-1507408200@www.yvelines-infos.fr
SUMMARY:Concert : Kasö & Friends
DESCRIPTION:Devenu depuis la sortie de son album « De Paris à Maurice » une figure incontournable du reggae-dancehall francophone\, Kasö revient là où tout a commencé. Et il n’est pas seul ! Caporal Nigga\, Straika D ou encore Tonton David\, Real Axe\, Le D.O.U (mais aussi quelques invités surprises !) investissent la Batterie pour une soirée lourde en bonnes vibes.
URL:https://www.yvelines-infos.fr/agenda/concert-kaso-friends/
LOCATION:La Batterie\, 1 rue de la redoute\, Guyancourt\, 78280\, France
ATTACH;FMTTYPE=image/jpeg:https://www.yvelines-infos.fr/content/uploads/2017/k_07-KASu-1-1.jpg
GEO:48.7828828;2.058275
X-APPLE-STRUCTURED-LOCATION;VALUE=URI;X-ADDRESS=La Batterie 1 rue de la redoute Guyancourt 78280 France;X-APPLE-RADIUS=500;X-TITLE=1 rue de la redoute:geo:2.058275,48.7828828
END:VEVENT
BEGIN:VEVENT
DTSTART;TZID=Europe/Paris:20171019T203000
DTEND;TZID=Europe/Paris:20171019T203000
DTSTAMP:20260423T004339
CREATED:20170828T143041Z
LAST-MODIFIED:20170828T143041Z
UID:342689-1508445000-1508445000@www.yvelines-infos.fr
SUMMARY:Concert : Cock Robin + Laura Perrudin
DESCRIPTION:Cock Robin\, légende de la pop-rock grâce aux tubes « When Your Heart Is Weak » et « The Promise You » Made\, nous présentera ses chansons tout en mélodies pop et touches électro ! \nLaura Perrudin est une jeune harpiste et chanteuse qui flirte avec l’électro\, le jazz ou encore la pop !
URL:https://www.yvelines-infos.fr/agenda/concert-cock-robin-laura-perrudin/
LOCATION:La Batterie\, 1 rue de la redoute\, Guyancourt\, 78280\, France
ATTACH;FMTTYPE=image/jpeg:https://www.yvelines-infos.fr/content/uploads/2017/k_Cock-Robin-TEE-1.jpg
GEO:48.7828828;2.058275
X-APPLE-STRUCTURED-LOCATION;VALUE=URI;X-ADDRESS=La Batterie 1 rue de la redoute Guyancourt 78280 France;X-APPLE-RADIUS=500;X-TITLE=1 rue de la redoute:geo:2.058275,48.7828828
END:VEVENT
BEGIN:VEVENT
DTSTART;TZID=Europe/Paris:20171110T203000
DTEND;TZID=Europe/Paris:20171110T203000
DTSTAMP:20260423T004339
CREATED:20170828T142051Z
LAST-MODIFIED:20170828T142147Z
UID:342691-1510345800-1510345800@www.yvelines-infos.fr
SUMMARY:Concert : Charles Pasi + Betty Bonifassi
DESCRIPTION:Blues\, soul\, pop.. Avec Charles Pasi\, d’entrée\, on ne sait pas\, on ne sait plus et on comprend que les étiquettes n’ont ici aucune importance face au désir de tout transfigurer depuis plus de 10 ans ! \nBetty Bonifassi ensorcèle son public grâce à sa voix sombre à la Shirley Bassey et l’hypnotise avec son mélange blues-rock audacieux !
URL:https://www.yvelines-infos.fr/agenda/concert-charles-pasi-betty-bonifassi/
LOCATION:La Batterie\, 1 rue de la redoute\, Guyancourt\, 78280\, France
ATTACH;FMTTYPE=image/jpeg:https://www.yvelines-infos.fr/content/uploads/2017/Charles-PASI-©-Boby-3.jpg
GEO:48.7828828;2.058275
X-APPLE-STRUCTURED-LOCATION;VALUE=URI;X-ADDRESS=La Batterie 1 rue de la redoute Guyancourt 78280 France;X-APPLE-RADIUS=500;X-TITLE=1 rue de la redoute:geo:2.058275,48.7828828
END:VEVENT
BEGIN:VEVENT
DTSTART;TZID=Europe/Paris:20171125T203000
DTEND;TZID=Europe/Paris:20171125T203000
DTSTAMP:20260423T004339
CREATED:20170828T142901Z
LAST-MODIFIED:20170828T142901Z
UID:342693-1511641800-1511641800@www.yvelines-infos.fr
SUMMARY:Concert : Seun Kuti & Egypt 80’ + Wayne Snow
DESCRIPTION:Seun Kuti\, fils du roi de l’afro-beat Fela Kuti\, sera sur scène avec l’orchestre mythique Egypt 80’\, composé d’anciens acolytes de son père. \nWayne Snow navigue entre groove\, soul et deep-house pour un rendu acrobatique de haute volée !
URL:https://www.yvelines-infos.fr/agenda/concert-seun-kuti-egypt-80-wayne-snow/
LOCATION:La Batterie\, 1 rue de la redoute\, Guyancourt\, 78280\, France
ATTACH;FMTTYPE=image/jpeg:https://www.yvelines-infos.fr/content/uploads/2017/K_Seun-Kuti-1.jpg
GEO:48.7828828;2.058275
X-APPLE-STRUCTURED-LOCATION;VALUE=URI;X-ADDRESS=La Batterie 1 rue de la redoute Guyancourt 78280 France;X-APPLE-RADIUS=500;X-TITLE=1 rue de la redoute:geo:2.058275,48.7828828
END:VEVENT
BEGIN:VEVENT
DTSTART;TZID=Europe/Paris:20171202T203000
DTEND;TZID=Europe/Paris:20171203T010000
DTSTAMP:20260423T004339
CREATED:20170828T140559Z
LAST-MODIFIED:20170828T140559Z
UID:342695-1512246600-1512262800@www.yvelines-infos.fr
SUMMARY:Concert : Anthony Johnson & Positive Roots Band + Joe Pilgrim & The Ligerians
DESCRIPTION:Anthony Johnson\, l’un des meilleurs chanteurs jamaïcains actuels\, s’accompagne du Positive Roots Band\, véritable combo scénique à ne pas rater en live ! \nJoe Pilgrim & The Ligerians vous invitent dans une expérience tant sonore que spirituelle\, où se laisseront embarquer les amateurs de reggae\, de dub et autres mélomanes !
URL:https://www.yvelines-infos.fr/agenda/concert-anthony-johnson-positive-roots-band-joe-pilgrim-the-ligerians/
LOCATION:La Batterie\, 1 rue de la redoute\, Guyancourt\, 78280\, France
ATTACH;FMTTYPE=image/jpeg:https://www.yvelines-infos.fr/content/uploads/2017/k_Anthony-Johnson-1.jpg
GEO:48.7828828;2.058275
X-APPLE-STRUCTURED-LOCATION;VALUE=URI;X-ADDRESS=La Batterie 1 rue de la redoute Guyancourt 78280 France;X-APPLE-RADIUS=500;X-TITLE=1 rue de la redoute:geo:2.058275,48.7828828
END:VEVENT
BEGIN:VEVENT
DTSTART;TZID=Europe/Paris:20171209T203000
DTEND;TZID=Europe/Paris:20171210T010000
DTSTAMP:20260423T004339
CREATED:20170828T142440Z
LAST-MODIFIED:20170828T142440Z
UID:342697-1512851400-1512867600@www.yvelines-infos.fr
SUMMARY:Concert : Passi + Les Sages Poètes de la Rue + Koyote
DESCRIPTION:Légende urbaine des années 90\, Passi se prépare à fêter les 20 ans de son album « Les Tentations » sur scène ! \nLes Sages Poètes de La Rue\, véritables virtuoses de la langue française et acrobates du flow\, savent faire une musique tout aussi technique que populaire. \nLe Guyancourtois Koyote vous proposera avec talent ses chansons aux textes égotrip et engagés !
URL:https://www.yvelines-infos.fr/agenda/concert-passi-sages-poetes-de-rue-koyote/
LOCATION:La Batterie\, 1 rue de la redoute\, Guyancourt\, 78280\, France
ATTACH;FMTTYPE=image/jpeg:https://www.yvelines-infos.fr/content/uploads/2017/k_Passi-1.jpg
GEO:48.7828828;2.058275
X-APPLE-STRUCTURED-LOCATION;VALUE=URI;X-ADDRESS=La Batterie 1 rue de la redoute Guyancourt 78280 France;X-APPLE-RADIUS=500;X-TITLE=1 rue de la redoute:geo:2.058275,48.7828828
END:VEVENT
BEGIN:VEVENT
DTSTART;TZID=Europe/Paris:20180504T203000
DTEND;TZID=Europe/Paris:20180504T230000
DTSTAMP:20260423T004339
CREATED:20180514T102515Z
LAST-MODIFIED:20180514T102515Z
UID:348824-1525465800-1525474800@www.yvelines-infos.fr
SUMMARY:Jim Jones and The Righteous Mind + Make-Overs + Baby Shakes
DESCRIPTION:Retrouvez Jim Jones avec sa nouvelle formation les Righteous Mind pour une proposition plus rock que jamais\, le duo Make-Overs et leur mélange de rock-pop-punk ainsi que le rock’n’roll-punk mélodique de Baby Shakes !
URL:https://www.yvelines-infos.fr/agenda/jim-jones-and-the-righteous-mind-make-overs-baby-shakes/
LOCATION:La Batterie\, 1 rue de la redoute\, Guyancourt\, 78280\, France
ATTACH;FMTTYPE=image/jpeg:https://www.yvelines-infos.fr/content/uploads/2018/l-jim-jones.jpg
ORGANIZER;CN="La%20Batterie":MAILTO:labatterie@ville-guyancourt.fr
GEO:48.7828828;2.058275
X-APPLE-STRUCTURED-LOCATION;VALUE=URI;X-ADDRESS=La Batterie 1 rue de la redoute Guyancourt 78280 France;X-APPLE-RADIUS=500;X-TITLE=1 rue de la redoute:geo:2.058275,48.7828828
END:VEVENT
BEGIN:VEVENT
DTSTART;TZID=Europe/Paris:20180512T203000
DTEND;TZID=Europe/Paris:20180512T223000
DTSTAMP:20260423T004339
CREATED:20180425T151440Z
LAST-MODIFIED:20180425T151440Z
UID:348843-1526157000-1526164200@www.yvelines-infos.fr
SUMMARY:La Dernière Nuit – Bruno Angelini
DESCRIPTION:Bruno Angelini (piano)\, Daniel Erdmann (saxophone) et Olivia Kryger (comédienne) proposent un spectacle où musiques qu’ils ont composées et textes originaux d’Alban Lefranc sont entremêlés\, s’inspirant de la dernière nuit de Sophie Scholl\, Résistante Allemande\, exemple de courage et de célébration de la vie.
URL:https://www.yvelines-infos.fr/agenda/derniere-nuit-bruno-angelini/
LOCATION:La Batterie\, 1 rue de la redoute\, Guyancourt\, 78280\, France
ORGANIZER;CN="La%20Batterie":MAILTO:labatterie@ville-guyancourt.fr
GEO:48.7828828;2.058275
X-APPLE-STRUCTURED-LOCATION;VALUE=URI;X-ADDRESS=La Batterie 1 rue de la redoute Guyancourt 78280 France;X-APPLE-RADIUS=500;X-TITLE=1 rue de la redoute:geo:2.058275,48.7828828
END:VEVENT
BEGIN:VEVENT
DTSTART;TZID=Europe/Paris:20180516T203000
DTEND;TZID=Europe/Paris:20180516T223000
DTSTAMP:20260423T004339
CREATED:20180425T151155Z
LAST-MODIFIED:20180425T151155Z
UID:348844-1526502600-1526509800@www.yvelines-infos.fr
SUMMARY:Quintette de Schumann – Jacques Dor
DESCRIPTION:Venez découvrir ce chef d’oeuvre de la musique de chambre interprété par le quintette de Jacques Dor. \nLe Quintette pour piano en mi bémol Majeur : « allie la rigueur du style de quatuor à la fantaisie imaginative\, à la richesse et à la liberté concertante de l’écriture pianistique de Schumann ».
URL:https://www.yvelines-infos.fr/agenda/quintette-de-schumann-jacques-dor/
LOCATION:La Batterie\, 1 rue de la redoute\, Guyancourt\, 78280\, France
ATTACH;FMTTYPE=image/jpeg:https://www.yvelines-infos.fr/content/uploads/2018/l-quintet-jaques-dor.jpg
ORGANIZER;CN="La%20Batterie":MAILTO:labatterie@ville-guyancourt.fr
GEO:48.7828828;2.058275
X-APPLE-STRUCTURED-LOCATION;VALUE=URI;X-ADDRESS=La Batterie 1 rue de la redoute Guyancourt 78280 France;X-APPLE-RADIUS=500;X-TITLE=1 rue de la redoute:geo:2.058275,48.7828828
END:VEVENT
BEGIN:VEVENT
DTSTART;TZID=Europe/Paris:20180526T203000
DTEND;TZID=Europe/Paris:20180526T233000
DTSTAMP:20260423T004339
CREATED:20180514T102635Z
LAST-MODIFIED:20180514T102733Z
UID:348829-1527366600-1527377400@www.yvelines-infos.fr
SUMMARY:Yarol + Black Minou + Jake La Botz à Guyancourt
DESCRIPTION:Après avoir joué avec FFF ou encore Johnny Hallyday\, Yarol nous présente son groupe Black Minou pour nous proposer un torride cocktail de rock’n’roll et de soul ! – Jake La Botz se distingue par une voix d’une intensité peu commune et des musiques roots-rock teintées de blues et de folk !
URL:https://www.yvelines-infos.fr/agenda/yarol-black-minou-jake-botz-a-guyancourt/
LOCATION:La Batterie\, 1 rue de la redoute\, Guyancourt\, 78280\, France
ATTACH;FMTTYPE=image/jpeg:https://www.yvelines-infos.fr/content/uploads/2018/l-yarol.jpg
ORGANIZER;CN="La%20Batterie":MAILTO:labatterie@ville-guyancourt.fr
GEO:48.7828828;2.058275
X-APPLE-STRUCTURED-LOCATION;VALUE=URI;X-ADDRESS=La Batterie 1 rue de la redoute Guyancourt 78280 France;X-APPLE-RADIUS=500;X-TITLE=1 rue de la redoute:geo:2.058275,48.7828828
END:VEVENT
BEGIN:VEVENT
DTSTART;TZID=Europe/Paris:20180601T203000
DTEND;TZID=Europe/Paris:20180601T230000
DTSTAMP:20260423T004339
CREATED:20180514T102937Z
LAST-MODIFIED:20180514T102937Z
UID:348831-1527885000-1527894000@www.yvelines-infos.fr
SUMMARY:The BellRays + The Red Goes Black + Dry Can
DESCRIPTION:Découvrez l’énergie scénique des BellRays sur des musiques blues\, punk\, rock et rhythm’n’blues\, les influences rock 60’s et 70’s avec des nuances blues et soul de The Red Goes Black et le rock des talentueux Dry Can.
URL:https://www.yvelines-infos.fr/agenda/the-bellrays-the-red-goes-black-dry-can/
LOCATION:La Batterie\, 1 rue de la redoute\, Guyancourt\, 78280\, France
ATTACH;FMTTYPE=image/jpeg:https://www.yvelines-infos.fr/content/uploads/2018/l-bellrays-2-by-carlos-puma.jpg
ORGANIZER;CN="La%20Batterie":MAILTO:labatterie@ville-guyancourt.fr
GEO:48.7828828;2.058275
X-APPLE-STRUCTURED-LOCATION;VALUE=URI;X-ADDRESS=La Batterie 1 rue de la redoute Guyancourt 78280 France;X-APPLE-RADIUS=500;X-TITLE=1 rue de la redoute:geo:2.058275,48.7828828
END:VEVENT
BEGIN:VEVENT
DTSTART;TZID=Europe/Paris:20180614T203000
DTEND;TZID=Europe/Paris:20180614T230000
DTSTAMP:20260423T004339
CREATED:20180514T102345Z
LAST-MODIFIED:20180514T102345Z
UID:348837-1529008200-1529017200@www.yvelines-infos.fr
SUMMARY:Concert de reggae à la Batterie
DESCRIPTION:U-Roy\, mythe de la scène reggae Jamaïcaine\, sera accompagné du légendaire live band anglais The Robotiks pour un concert mixé par Mad Professor ! – Sir Jean & The Roots Doctors vous proposeront un reggae qui vous fera voyager directement en Jamaïque…
URL:https://www.yvelines-infos.fr/agenda/concert-de-reggae-a-batterie/
LOCATION:La Batterie\, 1 rue de la redoute\, Guyancourt\, 78280\, France
ATTACH;FMTTYPE=image/jpeg:https://www.yvelines-infos.fr/content/uploads/2018/l-u-roy.jpg
ORGANIZER;CN="La%20Batterie":MAILTO:labatterie@ville-guyancourt.fr
GEO:48.7828828;2.058275
X-APPLE-STRUCTURED-LOCATION;VALUE=URI;X-ADDRESS=La Batterie 1 rue de la redoute Guyancourt 78280 France;X-APPLE-RADIUS=500;X-TITLE=1 rue de la redoute:geo:2.058275,48.7828828
END:VEVENT
BEGIN:VEVENT
DTSTART;TZID=Europe/Paris:20180616T203000
DTEND;TZID=Europe/Paris:20180616T230000
DTSTAMP:20260423T004339
CREATED:20180514T085120Z
LAST-MODIFIED:20180514T085120Z
UID:348839-1529181000-1529190000@www.yvelines-infos.fr
SUMMARY:Shake Shake Go + Gunwood + Louis Arlette (duo)
DESCRIPTION:Laissez-vous emporter par Shake Shake Go\, groupe franco-gallois\, dans un voyage pop folk aux mélodies envoûtantes\, Gunwood vous proposera un retour aux sources du blues moderne et Louis Arlette vous enchantera grâce à sa voix hypnotisante et ses chansons à textes.
URL:https://www.yvelines-infos.fr/agenda/shake-shake-go-gunwood-louis-arlette-duo/
LOCATION:La Batterie\, 1 rue de la redoute\, Guyancourt\, 78280\, France
ATTACH;FMTTYPE=image/jpeg:https://www.yvelines-infos.fr/content/uploads/2018/l-shake-shake-go-claurenthumbert.jpg
ORGANIZER;CN="La%20Batterie":MAILTO:labatterie@ville-guyancourt.fr
GEO:48.7828828;2.058275
X-APPLE-STRUCTURED-LOCATION;VALUE=URI;X-ADDRESS=La Batterie 1 rue de la redoute Guyancourt 78280 France;X-APPLE-RADIUS=500;X-TITLE=1 rue de la redoute:geo:2.058275,48.7828828
END:VEVENT
BEGIN:VEVENT
DTSTART;TZID=Europe/Paris:20180622T203000
DTEND;TZID=Europe/Paris:20180622T220000
DTSTAMP:20260423T004339
CREATED:20180514T105707Z
LAST-MODIFIED:20180514T105707Z
UID:348841-1529699400-1529704800@www.yvelines-infos.fr
SUMMARY:Pleymo
DESCRIPTION:Groupe majeur de la scène rock-métal\, Pleymo sort son premier EP « Keçkispasse » en 1998\, 20 ans plus tard\, le groupe annonce sa reformation pour une tournée événementielle et unique et passera par La Batterie pour un concert exceptionnel !
URL:https://www.yvelines-infos.fr/agenda/pleymo/
LOCATION:La Batterie\, 1 rue de la redoute\, Guyancourt\, 78280\, France
ATTACH;FMTTYPE=image/jpeg:https://www.yvelines-infos.fr/content/uploads/2018/l-pleymo4-c-berzerker.jpg
ORGANIZER;CN="La%20Batterie":MAILTO:labatterie@ville-guyancourt.fr
GEO:48.7828828;2.058275
X-APPLE-STRUCTURED-LOCATION;VALUE=URI;X-ADDRESS=La Batterie 1 rue de la redoute Guyancourt 78280 France;X-APPLE-RADIUS=500;X-TITLE=1 rue de la redoute:geo:2.058275,48.7828828
END:VEVENT
END:VCALENDAR