BEGIN:VCALENDAR
VERSION:2.0
PRODID:-//Yvelines Infos - ECPv6.0.2//NONSGML v1.0//EN
CALSCALE:GREGORIAN
METHOD:PUBLISH
X-WR-CALNAME:Yvelines Infos
X-ORIGINAL-URL:https://www.yvelines-infos.fr
X-WR-CALDESC:Évènements pour Yvelines Infos
REFRESH-INTERVAL;VALUE=DURATION:PT1H
X-Robots-Tag:noindex
X-PUBLISHED-TTL:PT1H
BEGIN:VTIMEZONE
TZID:Europe/Paris
BEGIN:DAYLIGHT
TZOFFSETFROM:+0100
TZOFFSETTO:+0200
TZNAME:CEST
DTSTART:20170326T010000
END:DAYLIGHT
BEGIN:STANDARD
TZOFFSETFROM:+0200
TZOFFSETTO:+0100
TZNAME:CET
DTSTART:20171029T010000
END:STANDARD
BEGIN:DAYLIGHT
TZOFFSETFROM:+0100
TZOFFSETTO:+0200
TZNAME:CEST
DTSTART:20180325T010000
END:DAYLIGHT
BEGIN:STANDARD
TZOFFSETFROM:+0200
TZOFFSETTO:+0100
TZNAME:CET
DTSTART:20181028T010000
END:STANDARD
BEGIN:DAYLIGHT
TZOFFSETFROM:+0100
TZOFFSETTO:+0200
TZNAME:CEST
DTSTART:20190331T010000
END:DAYLIGHT
BEGIN:STANDARD
TZOFFSETFROM:+0200
TZOFFSETTO:+0100
TZNAME:CET
DTSTART:20191027T010000
END:STANDARD
BEGIN:DAYLIGHT
TZOFFSETFROM:+0100
TZOFFSETTO:+0200
TZNAME:CEST
DTSTART:20200329T010000
END:DAYLIGHT
BEGIN:STANDARD
TZOFFSETFROM:+0200
TZOFFSETTO:+0100
TZNAME:CET
DTSTART:20201025T010000
END:STANDARD
BEGIN:DAYLIGHT
TZOFFSETFROM:+0100
TZOFFSETTO:+0200
TZNAME:CEST
DTSTART:20210328T010000
END:DAYLIGHT
BEGIN:STANDARD
TZOFFSETFROM:+0200
TZOFFSETTO:+0100
TZNAME:CET
DTSTART:20211031T010000
END:STANDARD
BEGIN:DAYLIGHT
TZOFFSETFROM:+0100
TZOFFSETTO:+0200
TZNAME:CEST
DTSTART:20220327T010000
END:DAYLIGHT
BEGIN:STANDARD
TZOFFSETFROM:+0200
TZOFFSETTO:+0100
TZNAME:CET
DTSTART:20221030T010000
END:STANDARD
END:VTIMEZONE
BEGIN:VEVENT
DTSTART;TZID=Europe/Paris:20171006T203000
DTEND;TZID=Europe/Paris:20171006T203000
DTSTAMP:20260423T043556
CREATED:20170828T132312Z
LAST-MODIFIED:20170828T132312Z
UID:342684-1507321800-1507321800@www.yvelines-infos.fr
SUMMARY:Concert rock : 7 Weeks + High On Wheels
DESCRIPTION:7 Weeks a créé un style inventif\, mixant habilement tension et puissance avec sensibilité et expérimentation\, il en résulte des morceaux uniques\, très organiques mais sophistiqués\, un rock massif\, nourri aux mélodies mais se faisant un malin plaisir à contourner le convenu. \nHigh On Wheels est un groupe de stoner/desert rock francilien\, influencé notamment par la Palm Desert Scene. Ces jeunes éphèbes fringants proposent un rock stoner brut de décoffrage qui sent bon la fuzz et le sable chaud des hautes mesas du Punkistan et de Black Sabbatterie.
URL:https://www.yvelines-infos.fr/agenda/concert-rock-7-weeks-high-on-wheels/
LOCATION:La Batterie // Guyancourt\, 1 rue de la redoute\, Guyancourt\, 78280\, France
ATTACH;FMTTYPE=image/jpeg:https://www.yvelines-infos.fr/content/uploads/2017/k_7weeks_credit-ArdonauHD-1.jpg
GEO:48.7828828;2.058275
X-APPLE-STRUCTURED-LOCATION;VALUE=URI;X-ADDRESS=La Batterie // Guyancourt 1 rue de la redoute Guyancourt 78280 France;X-APPLE-RADIUS=500;X-TITLE=1 rue de la redoute:geo:2.058275,48.7828828
END:VEVENT
BEGIN:VEVENT
DTSTART;TZID=Europe/Paris:20180203T200000
DTEND;TZID=Europe/Paris:20180203T233000
DTSTAMP:20260423T043556
CREATED:20180112T130533Z
LAST-MODIFIED:20180223T135721Z
UID:346652-1517688000-1517700600@www.yvelines-infos.fr
SUMMARY:Diva Faune + Lazzy Bird
DESCRIPTION:Lazzy Bird propose un cocktail de musiques rythmées alliant pop-rock-électro et sonorités hip hop. – Diva Faune\, jeune groupe français en pleine ascension\, mêle culture folk\, brit pop et électro sur des mélodies légères et entrainantes.
URL:https://www.yvelines-infos.fr/agenda/diva-faune-lazzy-bird/
LOCATION:La Batterie // Guyancourt\, 1 rue de la redoute\, Guyancourt\, 78280\, France
ATTACH;FMTTYPE=image/jpeg:https://www.yvelines-infos.fr/content/uploads/2018/k-img-7791-def-credit-christopher-poulain.jpg
GEO:48.7828828;2.058275
X-APPLE-STRUCTURED-LOCATION;VALUE=URI;X-ADDRESS=La Batterie // Guyancourt 1 rue de la redoute Guyancourt 78280 France;X-APPLE-RADIUS=500;X-TITLE=1 rue de la redoute:geo:2.058275,48.7828828
END:VEVENT
BEGIN:VEVENT
DTSTART;TZID=Europe/Paris:20180209T200000
DTEND;TZID=Europe/Paris:20180209T233000
DTSTAMP:20260423T043556
CREATED:20180112T130748Z
LAST-MODIFIED:20180223T135736Z
UID:346654-1518206400-1518219000@www.yvelines-infos.fr
SUMMARY:Mademoiselle K + French Connection
DESCRIPTION:Depuis Ça me vexe\, Mademoiselle K incarne sans conteste le rock féminin français par ses textes intenses et son énergie sur scène ! – French Connection est un groupe aux influences anglo-saxonnes qui étonne par ses musiques rhythm’n’blues accompagnées de guitares rock !
URL:https://www.yvelines-infos.fr/agenda/mademoiselle-k-french-connection/
LOCATION:La Batterie // Guyancourt\, 1 rue de la redoute\, Guyancourt\, 78280\, France
ATTACH;FMTTYPE=image/jpeg:https://www.yvelines-infos.fr/content/uploads/2018/k-mademoiselle-k-craphael-lugassy.jpg
GEO:48.7828828;2.058275
X-APPLE-STRUCTURED-LOCATION;VALUE=URI;X-ADDRESS=La Batterie // Guyancourt 1 rue de la redoute Guyancourt 78280 France;X-APPLE-RADIUS=500;X-TITLE=1 rue de la redoute:geo:2.058275,48.7828828
END:VEVENT
BEGIN:VEVENT
DTSTART;TZID=Europe/Paris:20180210T200000
DTEND;TZID=Europe/Paris:20180210T233000
DTSTAMP:20260423T043556
CREATED:20180112T130945Z
LAST-MODIFIED:20180223T140738Z
UID:346656-1518292800-1518305400@www.yvelines-infos.fr
SUMMARY:Anthony B + Vanupié
DESCRIPTION:Figure reggae incontournable\, Anthony B est un artiste à voir sur scène qui prône des valeurs telles que la liberté ou encore l’égalité ! – Découvrez le mélange soul\, pop et reggae de Vanupié\, accompagné de musiciens ayant joué avec Electro Deluxe\, Imany ou Vianney !
URL:https://www.yvelines-infos.fr/agenda/anthony-b-vanupie/
LOCATION:La Batterie // Guyancourt\, 1 rue de la redoute\, Guyancourt\, 78280\, France
ATTACH;FMTTYPE=image/jpeg:https://www.yvelines-infos.fr/content/uploads/2018/k-anthony-b-1.jpg
GEO:48.7828828;2.058275
X-APPLE-STRUCTURED-LOCATION;VALUE=URI;X-ADDRESS=La Batterie // Guyancourt 1 rue de la redoute Guyancourt 78280 France;X-APPLE-RADIUS=500;X-TITLE=1 rue de la redoute:geo:2.058275,48.7828828
END:VEVENT
BEGIN:VEVENT
DTSTART;TZID=Europe/Paris:20180308T200000
DTEND;TZID=Europe/Paris:20180308T233000
DTSTAMP:20260423T043556
CREATED:20180112T131127Z
LAST-MODIFIED:20180223T135519Z
UID:346658-1520539200-1520551800@www.yvelines-infos.fr
SUMMARY:Hundred Seventy Split + Aaron Keylock
DESCRIPTION:Retrouvez le groupe blues-rock Hundred Seventy Split avec la légende de Woodstock Léo Lyons\, membre fondateur de Ten Years After\, Joe Gooch et Damon Sawyer ! – Aaron Keylock remet au goût du jour une musique teintée de tous les grands guitaristes de l’époque de Rory Gallagher et autres !
URL:https://www.yvelines-infos.fr/agenda/hundred-seventy-split-aaron-keylock/
LOCATION:La Batterie // Guyancourt\, 1 rue de la redoute\, Guyancourt\, 78280\, France
ATTACH;FMTTYPE=image/jpeg:https://www.yvelines-infos.fr/content/uploads/2018/k-hss.jpg
GEO:48.7828828;2.058275
X-APPLE-STRUCTURED-LOCATION;VALUE=URI;X-ADDRESS=La Batterie // Guyancourt 1 rue de la redoute Guyancourt 78280 France;X-APPLE-RADIUS=500;X-TITLE=1 rue de la redoute:geo:2.058275,48.7828828
END:VEVENT
BEGIN:VEVENT
DTSTART;TZID=Europe/Paris:20220111T203000
DTEND;TZID=Europe/Paris:20220111T203000
DTSTAMP:20260423T043556
CREATED:20211220T101702Z
LAST-MODIFIED:20211220T101702Z
UID:381434-1641933000-1641933000@www.yvelines-infos.fr
SUMMARY:PROMONTOIRE
DESCRIPTION:Pianiste et compositeur de jazz inclassable\, Benjamin Moussay présente sur scène son premier album de piano solo\, Promontoire\, sorti en 2020 sur le prestigieux Label ECM.\nNourri aussi bien par la tradition du jazz que par les musiqus classiques et contemporaines ou le rock progressif\, Benjamin Moussay s’est forgé une personnalité unique sur la scène musicale. Son art combine une technique très solide\, une grande aisance rythmique et un sens aigu de la forme. Au clavier\, on est saisi par l’intensité de sa présence\, la profondeur de sa sonorité et sa créativité d’improvisateur. \nSi ce magicien de l’imaginaire a multiplié les collaborations avec de nombreuses figures illustres du jazz telles que Youn Sun Nah\, Martial Solal ou encore Louis Sclavis et même Marc Ducret pour ne citer qu’elles\, c’est peut-être dans l’art du solo qu’il semble le mieux s’épanouir. Ce nouvel album\, aussi humble que voluptueux\, nous saisit fatalement en plein coeur.
URL:https://www.yvelines-infos.fr/agenda/promontoire/
LOCATION:La Batterie // Guyancourt\, 1 rue de la redoute\, Guyancourt\, 78280\, France
ATTACH;FMTTYPE=image/png:https://www.yvelines-infos.fr/content/uploads/2021/thumbnail-5-1.png
ORGANIZER;CN="VILLE%20DE%20GUYANCOURT":MAILTO:service.emploi@ville-guyancourt.fr
GEO:48.7828828;2.058275
X-APPLE-STRUCTURED-LOCATION;VALUE=URI;X-ADDRESS=La Batterie // Guyancourt 1 rue de la redoute Guyancourt 78280 France;X-APPLE-RADIUS=500;X-TITLE=1 rue de la redoute:geo:2.058275,48.7828828
END:VEVENT
END:VCALENDAR