BEGIN:VCALENDAR
VERSION:2.0
PRODID:-//Yvelines Infos - ECPv6.0.2//NONSGML v1.0//EN
CALSCALE:GREGORIAN
METHOD:PUBLISH
X-ORIGINAL-URL:https://www.yvelines-infos.fr
X-WR-CALDESC:Évènements pour Yvelines Infos
REFRESH-INTERVAL;VALUE=DURATION:PT1H
X-Robots-Tag:noindex
X-PUBLISHED-TTL:PT1H
BEGIN:VTIMEZONE
TZID:Europe/Paris
BEGIN:DAYLIGHT
TZOFFSETFROM:+0100
TZOFFSETTO:+0200
TZNAME:CEST
DTSTART:20170326T010000
END:DAYLIGHT
BEGIN:STANDARD
TZOFFSETFROM:+0200
TZOFFSETTO:+0100
TZNAME:CET
DTSTART:20171029T010000
END:STANDARD
BEGIN:DAYLIGHT
TZOFFSETFROM:+0100
TZOFFSETTO:+0200
TZNAME:CEST
DTSTART:20180325T010000
END:DAYLIGHT
BEGIN:STANDARD
TZOFFSETFROM:+0200
TZOFFSETTO:+0100
TZNAME:CET
DTSTART:20181028T010000
END:STANDARD
BEGIN:DAYLIGHT
TZOFFSETFROM:+0100
TZOFFSETTO:+0200
TZNAME:CEST
DTSTART:20190331T010000
END:DAYLIGHT
BEGIN:STANDARD
TZOFFSETFROM:+0200
TZOFFSETTO:+0100
TZNAME:CET
DTSTART:20191027T010000
END:STANDARD
BEGIN:DAYLIGHT
TZOFFSETFROM:+0100
TZOFFSETTO:+0200
TZNAME:CEST
DTSTART:20200329T010000
END:DAYLIGHT
BEGIN:STANDARD
TZOFFSETFROM:+0200
TZOFFSETTO:+0100
TZNAME:CET
DTSTART:20201025T010000
END:STANDARD
BEGIN:DAYLIGHT
TZOFFSETFROM:+0100
TZOFFSETTO:+0200
TZNAME:CEST
DTSTART:20210328T010000
END:DAYLIGHT
BEGIN:STANDARD
TZOFFSETFROM:+0200
TZOFFSETTO:+0100
TZNAME:CET
DTSTART:20211031T010000
END:STANDARD
BEGIN:DAYLIGHT
TZOFFSETFROM:+0100
TZOFFSETTO:+0200
TZNAME:CEST
DTSTART:20220327T010000
END:DAYLIGHT
BEGIN:STANDARD
TZOFFSETFROM:+0200
TZOFFSETTO:+0100
TZNAME:CET
DTSTART:20221030T010000
END:STANDARD
END:VTIMEZONE
BEGIN:VEVENT
DTSTART;TZID=Europe/Paris:20171007T203000
DTEND;TZID=Europe/Paris:20171007T233000
DTSTAMP:20260423T041122
CREATED:20170718T125303Z
LAST-MODIFIED:20170718T125303Z
UID:341736-1507408200-1507419000@www.yvelines-infos.fr
SUMMARY:Kasö & Friends
DESCRIPTION:Devenu depuis la sortie de son album De Paris à Maurice une figure incontournable du reggae-dancehall francophone\, Kasö revient là où tout a commencé. Et il n’est pas seul ! Caporal Nigga\, Straika D ou encore Tonton David\, Real Axe\, Le D.O.U (mais aussi quelques invités surprises !) investissent la Batterie pour une soirée lourde en bonnes vibes.
URL:https://www.yvelines-infos.fr/agenda/kaso-friends/
LOCATION:La Batterie\, 1 rue de la redoute\, Guyancourt\, 78280\, France
ATTACH;FMTTYPE=image/jpeg:https://www.yvelines-infos.fr/content/uploads/2017/k_07-KASu-.jpg
GEO:48.7828828;2.058275
X-APPLE-STRUCTURED-LOCATION;VALUE=URI;X-ADDRESS=La Batterie 1 rue de la redoute Guyancourt 78280 France;X-APPLE-RADIUS=500;X-TITLE=1 rue de la redoute:geo:2.058275,48.7828828
END:VEVENT
BEGIN:VEVENT
DTSTART;TZID=Europe/Paris:20220308T203000
DTEND;TZID=Europe/Paris:20220308T203000
DTSTAMP:20260423T041122
CREATED:20220126T132407Z
LAST-MODIFIED:20220126T132407Z
UID:382947-1646771400-1646771400@www.yvelines-infos.fr
SUMMARY:SOUS MA ROBE\, MON CŒUR
DESCRIPTION:Avec son timbre unique et ses textes drôles\, mystiques\, décalés et tendres\, la poétesse aux multiples facettes enchante le monde. Une p…. de déesse ! \nAutant de poèmes\, de chansons\, tout droit sorti du cœur d’Estelle Meyer. Cette artiste puissante – entre la chamane et la poétesse rock – nous offre son univers généreux. \n« Je veux inventer dans le réel d’un concert la puissance d’un rituel\, la très longue conversation avec le rêve… Créer des frottements\, des déécalages\, de l’humour avec ces tentatives\, le triviale\, la splendeur. Les pieds dans la terre\, enfouis\, profonds\, des petits vers de terre enroulés autour de l’orteil\, la tête dans les étoiles. Ohhhh ! Être enfin une et unie\, faire tenir le temps d’un concert tous nos paradoxes\, nos appels\, faire arriver dans le réel le monde du rêve\, et dans le monde rêvé l’humour nécessaire du réel\, que ces deux pays se complètent et dansent enlacés ! » – Estelle Meyer
URL:https://www.yvelines-infos.fr/agenda/sous-ma-robe-mon-coeur/
LOCATION:La Batterie\, 1 rue de la redoute\, Guyancourt\, 78280\, France
ATTACH;FMTTYPE=image/png:https://www.yvelines-infos.fr/content/uploads/2022/meyer.png
ORGANIZER;CN="La%20Batterie":MAILTO:labatterie@ville-guyancourt.fr
GEO:48.7828828;2.058275
X-APPLE-STRUCTURED-LOCATION;VALUE=URI;X-ADDRESS=La Batterie 1 rue de la redoute Guyancourt 78280 France;X-APPLE-RADIUS=500;X-TITLE=1 rue de la redoute:geo:2.058275,48.7828828
END:VEVENT
BEGIN:VEVENT
DTSTART;TZID=Europe/Paris:20220421T203000
DTEND;TZID=Europe/Paris:20220421T203000
DTSTAMP:20260423T041122
CREATED:20220401T131308Z
LAST-MODIFIED:20220401T131308Z
UID:385159-1650573000-1650573000@www.yvelines-infos.fr
SUMMARY:DELUXE + Dajak
DESCRIPTION:DELUXE\n\nProfitant du confinement pour rejouer ses classiques\, Deluxe sortait en juillet 2020 un nouvel album En Confinement\, et son cet Automne 2021 en pleine préparation d’un nouvel album prévu pour le printemps 2022 ! \nSur scène des costumes encore plus déjantés\, colorés et brillant\, à l’intérieur d’une scénographie totalement revisitée\, qui laissera encore plus de place à leur explosivité et leur dynamisme communicatif. Sans oublier leur emblématique moustache qui sera encore une fois mise à l’honneur. Deluxe nous a ainsi préparé\, une performance musicale et visuelle encore plus folle\, alors « si ça t’a plu\, reviens moustachu ». \n\nDAJAK (1ère partie)\n\nUn majestueux voyage poétique\, c’est ce que promet Dajak avec ses balades hypnotisantes.\nL’auteur\, compositeur et interprète développe un spleen parisien et tente de s’évader loin de sa réalité\, guitare à la main… Inspirations Rap\, Indie ou encore Prog Rock\, Dajak impose sa propre musique à la frontière des genres\, unique et sans compromis. \nSon nouveau single HOODIEBLACK est une ôde à l’évasion\, une ballade alliant nappes de guitares réverbérées\, percussions glaciales ou encore envolées orchestrales. Entre dépression\, solitude et rêves\, Dajak livre ses peines et nous rappelle qu’il est parfois bon de fermer les yeux\, et de se laisser bercer par le souvenir du bruit des vagues. \nSoucieux de retranscrire au mieux ses sentiments\, c’est sans surprise qu’on le retrouve à la composition et aux arrangements du titre\, qui saura séduire les amoureux de grande musique. Inspiré d’artistes qui ont fait le choix de ne pas s’enfermer dans un seul style musical\, tels que Franck Ocean\, James Blake ou Jaden Smith\, Dajak entame aujourd’hui un nouveau chapitre de sa carrière et impose son univers. \n 
URL:https://www.yvelines-infos.fr/agenda/deluxe-dajak/
LOCATION:La Batterie\, 1 rue de la redoute\, Guyancourt\, 78280\, France
ATTACH;FMTTYPE=image/jpeg:https://www.yvelines-infos.fr/content/uploads/2022/thumbnail-10-scaled.jpeg
ORGANIZER;CN="La%20Batterie":MAILTO:labatterie@ville-guyancourt.fr
GEO:48.7828828;2.058275
X-APPLE-STRUCTURED-LOCATION;VALUE=URI;X-ADDRESS=La Batterie 1 rue de la redoute Guyancourt 78280 France;X-APPLE-RADIUS=500;X-TITLE=1 rue de la redoute:geo:2.058275,48.7828828
END:VEVENT
BEGIN:VEVENT
DTSTART;TZID=Europe/Paris:20220528T203000
DTEND;TZID=Europe/Paris:20220528T203000
DTSTAMP:20260423T041122
CREATED:20220401T130154Z
LAST-MODIFIED:20220401T130154Z
UID:385179-1653769800-1653769800@www.yvelines-infos.fr
SUMMARY:VAUDOU GAME + ANTIBALAS
DESCRIPTION:VADOU GAME\n\nDans la tradition de l’afro-funk qui a marqué l’histoire de la musique africaine des années 70\, le groupe Vaudou Game\, monté en France par le chanteur togolais Peter Solo\, s’est imprégné des rituels vaudou pour produire une afro-funk dansante en diable.\nLa particularité musicale du Togo est d’employer\, lors des cérémonies vaudou\, des gammes particulières\, chantées en l’honneur des divinités et qui diffèrent de toutes celles des cultures voisines. \nL’idée d’intégrer ces gammes envoûtantes à une afro-funk 70’s énergique s’est imposée comme une évidence à Peter Solo. Mystique comme la culture vaudou d’Afrique de l’Ouest\, et suintant comme un dancefloor de New-York\, Vaudou Game groove comme un James Brown et met en trance comme un Fela Kuti. \n\nANTIBALAS\n\nLive fulgurant dans la tradition afrobeat de Fela Kuti : rythme\, groove\, énergie pulsative irradient quand ce big band de Brooklyn entre en scène !\nAvec une solide section de cuivres\, un gang de percussionistes experts\, une rythmique funky et des textes chantés en anglais\, espagnol et yoruba\, Antibalas possède une puissance de feu prête à donner un nouveau souffle torride à l’afrobeat. Dans la plus pure tradition de Fela Kuti. Fer de lance du mythique label Daptone Records (Sharon Jones\, Charles Bradley\, …)\, imprégné d’influences musicales diverses\, avec autant d’apports latino et ouest-africains\, que purement américains\, Antibalas est décapant de sons électriques et traditionnels.\nEn somme\, un groove dansant et hypnotique.
URL:https://www.yvelines-infos.fr/agenda/vaudou-game-antibalas/
LOCATION:La Batterie\, 1 rue de la redoute\, Guyancourt\, 78280\, France
ATTACH;FMTTYPE=image/png:https://www.yvelines-infos.fr/content/uploads/2022/28-mai.png
ORGANIZER;CN="La%20Batterie":MAILTO:labatterie@ville-guyancourt.fr
GEO:48.7828828;2.058275
X-APPLE-STRUCTURED-LOCATION;VALUE=URI;X-ADDRESS=La Batterie 1 rue de la redoute Guyancourt 78280 France;X-APPLE-RADIUS=500;X-TITLE=1 rue de la redoute:geo:2.058275,48.7828828
END:VEVENT
END:VCALENDAR