BEGIN:VCALENDAR
VERSION:2.0
PRODID:-//Yvelines Infos - ECPv6.0.2//NONSGML v1.0//EN
CALSCALE:GREGORIAN
METHOD:PUBLISH
X-WR-CALNAME:Yvelines Infos
X-ORIGINAL-URL:https://www.yvelines-infos.fr
X-WR-CALDESC:Évènements pour Yvelines Infos
REFRESH-INTERVAL;VALUE=DURATION:PT1H
X-Robots-Tag:noindex
X-PUBLISHED-TTL:PT1H
BEGIN:VTIMEZONE
TZID:Europe/Paris
BEGIN:DAYLIGHT
TZOFFSETFROM:+0100
TZOFFSETTO:+0200
TZNAME:CEST
DTSTART:20170326T010000
END:DAYLIGHT
BEGIN:STANDARD
TZOFFSETFROM:+0200
TZOFFSETTO:+0100
TZNAME:CET
DTSTART:20171029T010000
END:STANDARD
BEGIN:DAYLIGHT
TZOFFSETFROM:+0100
TZOFFSETTO:+0200
TZNAME:CEST
DTSTART:20180325T010000
END:DAYLIGHT
BEGIN:STANDARD
TZOFFSETFROM:+0200
TZOFFSETTO:+0100
TZNAME:CET
DTSTART:20181028T010000
END:STANDARD
END:VTIMEZONE
BEGIN:VEVENT
DTSTART;VALUE=DATE:20170625
DTEND;VALUE=DATE:20170626
DTSTAMP:20260423T121150
CREATED:20170609T135705Z
LAST-MODIFIED:20170609T141153Z
UID:339973-1498348800-1498435199@www.yvelines-infos.fr
SUMMARY:Journée d'écriture de chanson à Jouy-en-Josas
DESCRIPTION:Les Passeurs de Rimes s’associent avec Coeur Troubadour pour une journée d’écriture de chanson à Jouy en Josas animée par Helen Juren auteur-compositeur le dimanche 25 juin 2017 de 10h à 18h dans les jardins de la ville (en intérieur s’il pleut!).\nOuvert à tous niveaux pour le plaisir de créer ensemble. Pas de connaissances en littérature ou en musique spécialement requises.\nAu Programme:\nDévelopper sa créativité par l’écriture de textes et de leur mise en musique par la recherche de mélodie. Travail d’après des exercices d’improvisation vocale ou d’écriture. Travail en groupe pour stimuler l’imaginaire. Jeux d’après des contraintes d’écriture. Notions de formes poétiques\, rhétoriques et grammaticales. Notion de Refrain\, de Couplet\, de Pont dans une chanson. Notions de Rythme et de Répétition. Partir du texte\, ou partir de la mélodie pour développer l’imaginaire.
URL:https://www.yvelines-infos.fr/agenda/journee-decriture-de-chanson-a-jouy-josas/
LOCATION:Jouy en Josas\, 78350\, France
ATTACH;FMTTYPE=image/jpeg:https://www.yvelines-infos.fr/content/uploads/2017/ecrituredechanson25juin2017.jpg
ORGANIZER;CN="Coeur%20Troubadour":MAILTO:contact.coeurtroubadour@gmail.com
GEO:48.7641822;2.1635253
END:VEVENT
BEGIN:VEVENT
DTSTART;TZID=Europe/Paris:20171126T100000
DTEND;TZID=Europe/Paris:20171126T180000
DTSTAMP:20260423T121150
CREATED:20170929T084043Z
LAST-MODIFIED:20170929T084043Z
UID:343984-1511690400-1511719200@www.yvelines-infos.fr
SUMMARY:Journée d'écriture de chanson
DESCRIPTION:Ouvert à tous niveaux\, amoureux et grands amoureux de la musique et de l’écriture\, pour le plaisir de créer et d’écrire ensemble. Pas de connaissance en musique ni en littérature préalable requise. Pour une dizaine de participants. \nJournée à la découverte de la création de textes de chansons\, et de leur mise en musique. Jeux d’après des contraintes d’écriture. Notions de formes poétiques\, rhétoriques et grammaticales. Notion de Refrain et de Couplet dans une chanson. Notions de Rythme et de Répétition. Deux grandes lignes d’inspiration: commencer par le texte\, ou commencer par la mélodie ? Les deux manières seront abordées ! \nj
URL:https://www.yvelines-infos.fr/agenda/journee-decriture-de-chanson/
LOCATION:Jouy en Josas\, 78350\, France
ATTACH;FMTTYPE=image/jpeg:https://www.yvelines-infos.fr/content/uploads/2017/2017-Logo3photosEcrit.jpg
ORGANIZER;CN="Coeur%20Troubadour":MAILTO:contact.coeurtroubadour@gmail.com
GEO:48.7641822;2.1635253
END:VEVENT
BEGIN:VEVENT
DTSTART;VALUE=DATE:20180408
DTEND;VALUE=DATE:20180409
DTSTAMP:20260423T121150
CREATED:20180302T145929Z
LAST-MODIFIED:20180406T091401Z
UID:348025-1523145600-1523231999@www.yvelines-infos.fr
SUMMARY:10ème édition du Trail du Josas
DESCRIPTION:Créé en 2009\, le Trail du Josas est devenu un rendez-vous incontournable pour les traileurs franciliens ! Cette course permet de découvrir le site exceptionnel de la vallée de la Bièvre grâce à 4 parcours (12-20-35-50km) qui font traverser ses cours d’eau\, admirer son patrimoine\, profiter de ses sentiers aux dénivelés très variés ! \nTout est organisé pour le confort et la sécurité des participants : balisage\, équipe médicale\, points ravitaillements…\nA l’arrivée\, les coureurs sont accueillis par des équipes d’ostéopathes pour des séances de massages\, les remises de récompenses et enfin un grand repas convivial réunissant les coureurs et leur famille ! \nEn solo ou en duo\, venez fêter la 10ème édition de cette course nature et découvrir les richesses de la vallée de la Bièvre. \nRetrait des dossards : \n\nLe samedi 31 mars de 14h à 20h – Decathlon Velizy\nLe lundi 2 avril de 14h à 19h – Terre de Running Puteaux\nDu mardi 3 au vendredi 6 avril de 10h à 19h – Terre de Running Puteaux\nLe samedi 7 avril de 14h à 19h et le dimanche 8 avril à partir de 7h au CSA de Jouy\n\nLes horaires des courses : \n\n50km : départ à 8h\n35km : départ à 9h\n25km : départ à 10h\n15 km : départ à 10h45\n\nLes ravitaillements : \n\n3 sur le 50km\n2 sur le 25/35km\n1 sur le 15km\n\nLes parkings\n(Privilégier le covoiturage) \n\nParking terrain stabilisé : 35 rue St Roch\nParking Energie Valley rue de la Manufacture\nParking piste cyclable le long de la rue du Val d’enfer\nParking rue de la Libération en remontant vers Saclay\nParking de la gare\nParking Oberkampf\n\nIl y aura une consigne / des vestiaires / des douches et bien sûr à l’arrivée paella et bières !
URL:https://www.yvelines-infos.fr/agenda/trail-de-josas/
LOCATION:Jouy en Josas\, 78350\, France
ATTACH;FMTTYPE=image/jpeg:https://www.yvelines-infos.fr/content/uploads/2018/affiche-trail-2018-10-ans-250x1024.jpg
GEO:48.7641822;2.1635253
END:VEVENT
BEGIN:VEVENT
DTSTART;TZID=Europe/Paris:20180705T090000
DTEND;TZID=Europe/Paris:20180709T170000
DTSTAMP:20260423T121150
CREATED:20180514T105303Z
LAST-MODIFIED:20180514T105303Z
UID:348372-1530781200-1531155600@www.yvelines-infos.fr
SUMMARY:Stage de dessin et peinture sur le thème du Morvan
DESCRIPTION:A vos carnets de croquis\, durant 5 jours\, au gré de vos errances…. \nStage et pension complète adultes – adolescents \n(renseignements et inscriptions) : \n01 39 46 69 96 – ateliers.cour.roland@free.fr
URL:https://www.yvelines-infos.fr/agenda/stage-de-dessin-peinture-theme-morvan/
LOCATION:Jouy en Josas\, 78350\, France
ATTACH;FMTTYPE=image/jpeg:https://www.yvelines-infos.fr/content/uploads/2018/stages-ete-2018-jpeg.jpg
GEO:48.7641822;2.1635253
END:VEVENT
BEGIN:VEVENT
DTSTART;VALUE=DATE:20181201
DTEND;VALUE=DATE:20181203
DTSTAMP:20260423T121150
CREATED:20181119T151643Z
LAST-MODIFIED:20181119T151643Z
UID:354020-1543622400-1543795199@www.yvelines-infos.fr
SUMMARY:Ateliers de la Cour Roland (stage Enluminure)
DESCRIPTION:Les ateliers de la Cour Roland proposent du 1 au 2 décembre 2018\, un stage d’enluminure. \nPendant les 2 jours\, les débutants feront connaissance avec quelques techniques de l’enluminure et réaliseront un sujet en entier. \nLes plus avancés pourront s’orienter au choix vers une technique spéciale ou un sujet personnel.
URL:https://www.yvelines-infos.fr/agenda/ateliers-de-la-cour-roland-stage-enluminure/
LOCATION:Jouy en Josas\, 78350\, France
ATTACH;FMTTYPE=image/jpeg:https://www.yvelines-infos.fr/content/uploads/2018/enluminure.jpg
ORGANIZER;CN="Les%20Ateliers%20de%20la%20Cour%20Roland":MAILTO:ateliers.cour.roland@free.fr
GEO:48.7641822;2.1635253
END:VEVENT
END:VCALENDAR